» Участники » pollitra » Разное » DSC_0705.jpg |
DSC_0705.jpg |
DSC_0705.jpg
- Раздел: Другое, разное
- Дата съёмки: 06.10.2009 17:40
- Дата загрузки фото: 09.12.2009 14:34
- Оригинальная фотография: 3622 x 2425 (966 Кб)
- Технические характеристики:
- Фотоаппарат: Nikon D60
- Выдержка: 1/80
- Светочувствительность: 200
- Полный EXIF
- Adobe
- ColorTransform: YCbCr
- Composite
- ShutterSpeed: 1/80
- ExifIFD
- Contrast: Normal
- CreateDate: 2009:10:06 17:40:46
- CustomRendered: Normal
- DateTimeOriginal: 2009:10:06 17:40:46
- DigitalZoomRatio: 1
- ExposureCompensation: 0
- ExposureMode: Manual
- ExposureProgram: Manual
- ExposureTime: 1/80
- Flash: No Flash
- GainControl: None
- ISO: 200
- LightSource: Unknown
- MaxApertureValue: 1,0
- MeteringMode: Center-weighted average
- Saturation: Normal
- SceneCaptureType: Standard
- SceneType: Directly photographed
- SensingMethod: One-chip color area
- Sharpness: Soft
- ShutterSpeedValue: 1/80
- SubjectDistanceRange: Unknown
- WhiteBalance: Auto
- ICC-header
- IFD0
- Make: NIKON CORPORATION
- Model: NIKON D60
- ModifyDate: 2009:10:29 03:51:18
- Software: Capture NX 2.2.0 W
- IFD1
- XMP-aux
- ImageNumber: 12406
- SerialNumber: 6573487
- XMP-crs
- AlreadyApplied: True
- BlueHue: 0
- BlueSaturation: 0
- Brightness: +54
- CameraProfile: ACR 4.4
- ChromaticAberrationB: 0
- ChromaticAberrationR: 0
- Clarity: +19
- ColorNoiseReduction: 25
- Contrast: +29
- ConvertToGrayscale: False
- CropAngle: 2.689019
- CropBottom: 1
- CropLeft: 0.04747
- CropRight: 0.95253
- CropTop: 0
- Defringe: 0
- Exposure: +0.15
- FillLight: 4
- GreenHue: 0
- GreenSaturation: 0
- HasCrop: True
- HasSettings: True
- HighlightRecovery: 0
- HueAdjustmentAqua: 0
- HueAdjustmentBlue: 0
- HueAdjustmentGreen: 0
- HueAdjustmentMagenta: 0
- HueAdjustmentOrange: 0
- HueAdjustmentPurple: 0
- HueAdjustmentRed: 0
- HueAdjustmentYellow: 0
- LuminanceAdjustmentAqua: 0
- LuminanceAdjustmentBlue: 0
- LuminanceAdjustmentGreen: 0
- LuminanceAdjustmentMagenta: 0
- LuminanceAdjustmentOrange: 0
- LuminanceAdjustmentPurple: 0
- LuminanceAdjustmentRed: 0
- LuminanceAdjustmentYellow: 0
- LuminanceSmoothing: 0
- ParametricDarks: 0
- ParametricHighlightSplit: 75
- ParametricHighlights: 0
- ParametricLights: 0
- ParametricMidtoneSplit: 50
- ParametricShadowSplit: 25
- ParametricShadows: 0
- PostCropVignetteAmount: 0
- RawFileName: DSC_0705.nef
- RedHue: 0
- RedSaturation: 0
- Saturation: +13
- SaturationAdjustmentAqua: 0
- SaturationAdjustmentBlue: 0
- SaturationAdjustmentGreen: 0
- SaturationAdjustmentMagenta: 0
- SaturationAdjustmentOrange: 0
- SaturationAdjustmentPurple: 0
- SaturationAdjustmentRed: 0
- SaturationAdjustmentYellow: 0
- ShadowTint: 0
- Shadows: 5
- SharpenDetail: 25
- SharpenEdgeMasking: 45
- SharpenRadius: +0.8
- Sharpness: 0
- SplitToningBalance: 0
- SplitToningHighlightHue: 0
- SplitToningHighlightSaturation: 0
- SplitToningShadowHue: 0
- SplitToningShadowSaturation: 0
- Temperature: 4600
- Tint: -9
- ToneCurve: 0, 0, 32, 22, 64, 56, 128, 128, 192, 196, 255, 255
- ToneCurveName: Medium Contrast
- Version: 5.5
- Vibrance: 0
- VignetteAmount: 0
- WhiteBalance: As Shot
- XMP-exif
- DateTimeDigitized: 2009:10:06 17:40:46.60+04:00
- DateTimeOriginal: 2009:10:06 17:40:46.60+04:00
- ExifImageHeight: 2425
- ExifImageWidth: 3622
- FlashFired: False
- FlashFunction: False
- FlashMode: Unknown
- FlashRedEyeMode: False
- FlashReturn: No return detection
- XMP-microsoft
- XMP-tiff
- ImageHeight: 2425
- ImageWidth: 3622
- XMP-xmp
- CreateDate: 2009:10:06 17:40:46.60+04:00
- CreatorTool: Capture NX 2.2.0 W
- ModifyDate: 2009:10:29 03:51:18Z
- Просмотров: 184
- Рейтинг: голосов еще нет
- Отзывов: 0
Получить код для блога
Вставка фотографии в текущем разрешении |
Вставка миниатюры |
HTML (для вставки в блог):
BBCode (для вставки в форум):
Ссылка на фото:
Ссылка на миниатюру:
- Послать ссылку другу
Комментарии к фотографии |