- Раздел: Я, любимый(ая)
- Дата съёмки: 22.12.2009 11:03
- Дата загрузки фото: 22.12.2009 11:57
- Оригинальная фотография: 1334 x 2000 (802 Кб)
- Технические характеристики:
- Фотоаппарат: Canon EOS 40D
- Выдержка: 1/160
- Гиперфокальное расстояние: 110,35 m
- Диафрагма: 4,0
- Светочувствительность: 200
- Фокусное расстояние: 75,0 mm (35 mm equivalent: 176,8 mm)
- Полный EXIF
- Composite
- Aperture: 4,0
- CircleOfConfusion: 0,013 mm
- FOV: 11,0 deg
- FocalLength35efl: 75,0 mm (35 mm equivalent: 176,8 mm)
- HyperfocalDistance: 110,35 m
- ScaleFactor35efl: 2,4
- ShutterSpeed: 1/160
- ExifIFD
- ApertureValue: 4,0
- CreateDate: 2009:12:22 11:03:07
- CustomRendered: Normal
- DateTimeOriginal: 2009:12:22 11:03:07
- ExifImageHeight: 2000
- ExifImageWidth: 1334
- ExposureCompensation: 0
- ExposureMode: Manual
- ExposureProgram: Manual
- ExposureTime: 1/160
- FNumber: 4,0
- Flash: On
- FocalLength: 75,0 mm
- ISO: 200
- MaxApertureValue: 4,0
- MeteringMode: Multi-segment
- SceneCaptureType: Standard
- ShutterSpeedValue: 1/160
- SubjectDistance: 3,34 m
- WhiteBalance: Auto
- ICC-header
- ICC-meas
- ICC-view
- IFD0
- Artist: Roman E Demakov
- Make: Canon
- Model: Canon EOS 40D
- ModifyDate: 2009:12:22 12:57:18
- Orientation: Horizontal (normal)
- Software: ACD Systems Digital Imaging
- IFD1
- IPTC
- XMP-aux
- Firmware: 1.1.1
- FlashCompensation: 0
- ImageNumber: 0
- Lens: EF70-200mm f/4L IS USM
- LensID: 242
- LensInfo: 70/1 200/1 0/0 0/0
- OwnerName: Roman E Demakov
- SerialNumber: 830523091
- XMP-crs
- AlreadyApplied: True
- BlueHue: 0
- BlueSaturation: 0
- Brightness: +40
- CameraProfile: Camera Faithful
- ChromaticAberrationB: 0
- ChromaticAberrationR: 0
- Clarity: 0
- ColorNoiseReduction: 5
- ColorNoiseReductionDetail: 50
- Contrast: +24
- ConvertToGrayscale: True
- CropAngle: 0
- CropBottom: 0.88481
- CropHeight: 1781
- CropLeft: 0.019939
- CropRight: 0.707048
- CropTop: 0.197701
- CropUnit: 0
- CropWidth: 2671
- Defringe: 0
- Exposure: 0.00
- FillLight: 0
- GrainAmount: 16
- GrainFrequency: 50
- GrainSize: 25
- GrayMixerAqua: +51
- GrayMixerBlue: +53
- GrayMixerGreen: -27
- GrayMixerMagenta: +4
- GrayMixerOrange: -18
- GrayMixerPurple: +15
- GrayMixerRed: -9
- GrayMixerYellow: -22
- GreenHue: 0
- GreenSaturation: 0
- HasCrop: True
- HasSettings: True
- HighlightRecovery: 0
- NoiseReductionContrast: 0
- ParametricDarks: +10
- ParametricHighlightSplit: 75
- ParametricHighlights: 0
- ParametricLights: +25
- ParametricMidtoneSplit: 50
- ParametricShadowSplit: 25
- ParametricShadows: +5
- PostCropVignetteAmount: 0
- RedHue: 0
- RedSaturation: 0
- RenderVersion: 5.7
- ShadowTint: 0
- Shadows: 1
- SharpenDetail: 25
- SharpenEdgeMasking: 0
- SharpenRadius: +1.0
- Sharpness: 0
- SplitToningBalance: 0
- SplitToningHighlightHue: 237
- SplitToningHighlightSaturation: 15
- SplitToningShadowHue: 246
- SplitToningShadowSaturation: 32
- Temperature: 5350
- Tint: 0
- ToneCurve: 0, 0, 32, 22, 64, 56, 128, 128, 192, 196, 255, 255
- ToneCurveName: Medium Contrast
- Version: 6.0
- VignetteAmount: -100
- VignetteMidpoint: 100
- XMP-dc
- XMP-exif
- DateTimeDigitized: 2009:12:22 11:03:07.0+4:00
- DateTimeOriginal: 2009:12:22 11:03:07.0+4:00
- ExifImageHeight: 2671
- ExifImageWidth: 1781
- FlashFired: True
- FlashFunction: False
- FlashMode: On
- FlashRedEyeMode: False
- FlashReturn: No return detection
- XMP-tiff
- ImageHeight: 2671
- ImageWidth: 1781
- XMP-xmp
- CreateDate: 2009:12:22 11:03:07.00+04:00
- ModifyDate: 2009:12:22 12:56:12.0+4:00
- Просмотров: 526
- Рейтинг: голосов еще нет
- Отзывов: отключены