- Раздел: Портрет
- Дата съёмки: 31.12.2009 23:57
- Дата загрузки фото: 02.01.2010 00:21
- Оригинальная фотография: 3168 x 4752 (3,9 Мб)
- Технические характеристики:
- Фотоаппарат: Canon EOS 500D
- Выдержка: 1/100
- Гиперфокальное расстояние: 94,55 m
- Диафрагма: 1,4
- Светочувствительность: 200
- Фокусное расстояние: 50,0 mm (35 mm equivalent: 79,5 mm)
- Экспокоррекция: -2/3
- Полный EXIF
- Adobe
- ColorTransform: YCbCr
- Composite
- Aperture: 1,4
- CircleOfConfusion: 0,019 mm
- FOV: 25,0 deg
- FocalLength35efl: 50,0 mm (35 mm equivalent: 79,5 mm)
- HyperfocalDistance: 94,55 m
- ScaleFactor35efl: 1,6
- ShutterSpeed: 1/100
- ExifIFD
- ApertureValue: 1,4
- CreateDate: 2009:12:31 23:57:39
- CustomRendered: Normal
- DateTimeOriginal: 2009:12:31 23:57:39
- ExposureCompensation: -2/3
- ExposureMode: Auto
- ExposureProgram: Aperture-priority AE
- ExposureTime: 1/100
- FNumber: 1,4
- Flash: Off
- FocalLength: 50,0 mm
- ISO: 200
- MaxApertureValue: 1,4
- MeteringMode: Multi-segment
- SceneCaptureType: Standard
- ShutterSpeedValue: 1/100
- WhiteBalance: Manual
- ICC-header
- ICC-meas
- ICC-view
- IFD0
- Make: Canon
- Model: Canon EOS 500D
- ModifyDate: 2010:01:01 23:09:20
- IFD1
- XMP-aux
- Firmware: 1.0.9
- FlashCompensation: 0
- ImageNumber: 0
- Lens: EF50mm f/1.4 USM
- LensInfo: 50/1 50/1 0/0 0/0
- SerialNumber: 430120674
- XMP-crs
- AlreadyApplied: True
- BlueHue: 0
- BlueSaturation: 0
- Brightness: 0
- CameraProfile: Embedded
- ChromaticAberrationB: 0
- ChromaticAberrationR: 0
- Clarity: 0
- ColorNoiseReduction: 0
- Contrast: 0
- ConvertToGrayscale: False
- Defringe: 0
- Exposure: 0.00
- FillLight: 0
- GreenHue: 0
- GreenSaturation: 0
- HasCrop: False
- HasSettings: True
- HighlightRecovery: 64
- HueAdjustmentAqua: 0
- HueAdjustmentBlue: 0
- HueAdjustmentGreen: 0
- HueAdjustmentMagenta: 0
- HueAdjustmentOrange: 0
- HueAdjustmentPurple: 0
- HueAdjustmentRed: 0
- HueAdjustmentYellow: 0
- IncrementalTemperature: 0
- IncrementalTint: 0
- LuminanceAdjustmentAqua: 0
- LuminanceAdjustmentBlue: 0
- LuminanceAdjustmentGreen: 0
- LuminanceAdjustmentMagenta: 0
- LuminanceAdjustmentOrange: 0
- LuminanceAdjustmentPurple: 0
- LuminanceAdjustmentRed: 0
- LuminanceAdjustmentYellow: 0
- LuminanceSmoothing: 0
- ParametricDarks: 0
- ParametricHighlightSplit: 75
- ParametricHighlights: 0
- ParametricLights: 0
- ParametricMidtoneSplit: 50
- ParametricShadowSplit: 25
- ParametricShadows: 0
- PostCropVignetteAmount: 0
- RedHue: 0
- RedSaturation: 0
- Saturation: 0
- SaturationAdjustmentAqua: 0
- SaturationAdjustmentBlue: 0
- SaturationAdjustmentGreen: 0
- SaturationAdjustmentMagenta: 0
- SaturationAdjustmentOrange: 0
- SaturationAdjustmentPurple: 0
- SaturationAdjustmentRed: 0
- SaturationAdjustmentYellow: 0
- ShadowTint: 0
- Shadows: 0
- SharpenDetail: 25
- SharpenEdgeMasking: 0
- SharpenRadius: +1.0
- Sharpness: 0
- SplitToningBalance: 0
- SplitToningHighlightHue: 0
- SplitToningHighlightSaturation: 0
- SplitToningShadowHue: 0
- SplitToningShadowSaturation: 0
- ToneCurve: 0, 0, 255, 255
- ToneCurveName: Linear
- Version: 5.5
- Vibrance: 0
- VignetteAmount: 0
- WhiteBalance: As Shot
- XMP-dc
- XMP-exif
- ColorSpace: Uncalibrated
- DateTimeDigitized: 2009:12:31 23:57:39.13+02:00
- DateTimeOriginal: 2009:12:31 23:57:39.13+02:00
- ExifImageHeight: 4752
- ExifImageWidth: 3168
- FlashFired: False
- FlashFunction: False
- FlashMode: Off
- FlashRedEyeMode: False
- FlashReturn: No return detection
- XMP-tiff
- ImageHeight: 4752
- ImageWidth: 3168
- XMP-xmp
- CreateDate: 2009:12:31 23:57:39.13+02:00
- ModifyDate: 2010:01:01 23:09:20+02:00
- XMP-xmpMM
- Просмотров: 265
- Рейтинг: голосов еще нет
- Отзывов: 0