- Раздел: Портрет
- Дата съёмки: 31.05.2009 11:21
- Дата загрузки фото: 02.01.2010 14:27
- Оригинальная фотография: 667 x 1000 (498 Кб)
- Технические характеристики:
- Фотоаппарат: Canon EOS 40D
- Выдержка: 1/200
- Гиперфокальное расстояние: 1676,63 m
- Диафрагма: 5,0
- Светочувствительность: 100
- Фокусное расстояние: 200,0 mm (35 mm equivalent: 1259,4 mm)
- Полный EXIF
- Adobe
- ColorTransform: YCbCr
- Composite
- Aperture: 5,0
- CircleOfConfusion: 0,005 mm
- FOV: 1,0 deg
- FocalLength35efl: 200,0 mm (35 mm equivalent: 1259,4 mm)
- HyperfocalDistance: 1676,63 m
- ScaleFactor35efl: 6,3
- ShutterSpeed: 1/200
- ExifIFD
- ApertureValue: 5,0
- CreateDate: 2009:05:31 11:21:05
- CustomRendered: Normal
- DateTimeOriginal: 2009:05:31 11:21:05
- ExposureCompensation: 0
- ExposureMode: Auto
- ExposureProgram: Aperture-priority AE
- ExposureTime: 1/200
- FNumber: 5,0
- Flash: Off
- FocalLength: 200,0 mm
- ISO: 100
- MaxApertureValue: 4,0
- MeteringMode: Multi-segment
- SceneCaptureType: Standard
- ShutterSpeedValue: 1/200
- WhiteBalance: Auto
- ICC-header
- ICC-meas
- ICC-view
- IFD0
- Make: Canon
- Model: Canon EOS 40D
- ModifyDate: 2010:01:02 13:24:39
- IFD1
- XMP-aux
- Firmware: 1.1.1
- FlashCompensation: 0
- ImageNumber: 0
- Lens: EF70-200mm f/4L IS USM
- LensInfo: 70/1 200/1 0/0 0/0
- SerialNumber: 1030526517
- XMP-crs
- AlreadyApplied: True
- BlueHue: 0
- BlueSaturation: 0
- Brightness: +43
- ChromaticAberrationB: 0
- ChromaticAberrationR: 0
- Clarity: 0
- ColorNoiseReduction: 25
- Contrast: +41
- ConvertToGrayscale: False
- CropAngle: 0
- CropBottom: 0.643021
- CropHeight: 667
- CropLeft: 0.117493
- CropRight: 0.760514
- CropTop: 0
- CropUnit: 0
- CropWidth: 1000
- Defringe: 0
- Exposure: -0.48
- FillLight: 0
- GreenHue: 0
- GreenSaturation: 0
- HasCrop: True
- HasSettings: True
- HighlightRecovery: 12
- HueAdjustmentAqua: 0
- HueAdjustmentBlue: 0
- HueAdjustmentGreen: 0
- HueAdjustmentMagenta: 0
- HueAdjustmentOrange: 0
- HueAdjustmentPurple: 0
- HueAdjustmentRed: 0
- HueAdjustmentYellow: 0
- LuminanceAdjustmentAqua: 0
- LuminanceAdjustmentBlue: 0
- LuminanceAdjustmentGreen: 0
- LuminanceAdjustmentMagenta: 0
- LuminanceAdjustmentOrange: 0
- LuminanceAdjustmentPurple: 0
- LuminanceAdjustmentRed: 0
- LuminanceAdjustmentYellow: 0
- LuminanceSmoothing: 0
- ParametricDarks: 0
- ParametricHighlightSplit: 75
- ParametricHighlights: 0
- ParametricLights: 0
- ParametricMidtoneSplit: 50
- ParametricShadowSplit: 25
- ParametricShadows: 0
- PostCropVignetteAmount: 0
- RedHue: 0
- RedSaturation: 0
- Saturation: 0
- SaturationAdjustmentAqua: 0
- SaturationAdjustmentBlue: 0
- SaturationAdjustmentGreen: 0
- SaturationAdjustmentMagenta: 0
- SaturationAdjustmentOrange: 0
- SaturationAdjustmentPurple: 0
- SaturationAdjustmentRed: 0
- SaturationAdjustmentYellow: 0
- ShadowTint: 0
- Shadows: 8
- SharpenDetail: 25
- SharpenEdgeMasking: 0
- SharpenRadius: +1.0
- Sharpness: 25
- SplitToningBalance: 0
- SplitToningHighlightHue: 0
- SplitToningHighlightSaturation: 0
- SplitToningShadowHue: 0
- SplitToningShadowSaturation: 0
- Temperature: 4950
- Tint: -4
- ToneCurve: 0, 0, 32, 22, 64, 56, 128, 128, 192, 196, 255, 255
- ToneCurveName: Medium Contrast
- Version: 5.5
- Vibrance: 0
- VignetteAmount: 0
- WhiteBalance: As Shot
- XMP-exif
- DateTimeDigitized: 2009:05:31 11:21:05.97+03:00
- DateTimeOriginal: 2009:05:31 11:21:05.97+03:00
- ExifImageHeight: 1000
- ExifImageWidth: 667
- FlashFired: False
- FlashFunction: False
- FlashMode: Off
- FlashRedEyeMode: False
- FlashReturn: No return detection
- XMP-tiff
- ImageHeight: 1000
- ImageWidth: 667
- XMP-xmp
- CreateDate: 2009:05:31 11:21:05.97+03:00
- ModifyDate: 2010:01:02 13:24:39+02:00