- Раздел: Пейзаж
- Дата съёмки: 20.08.2007 16:28
- Дата загрузки фото: 18.01.2010 22:14
- Оригинальная фотография: 1000 x 655 (303 Кб)
- Технические характеристики:
- Фотоаппарат: Canon EOS 400D DIGITAL
- Выдержка: 1/320
- Гиперфокальное расстояние: 13,64 m
- Диафрагма: 5,0
- Светочувствительность: 100
- Фокусное расстояние: 18,0 mm (35 mm equivalent: 113,9 mm)
- Полный EXIF
- Adobe
- ColorTransform: YCbCr
- Composite
- Aperture: 5,0
- CircleOfConfusion: 0,005 mm
- FOV: 17,0 deg
- FocalLength35efl: 18,0 mm (35 mm equivalent: 113,9 mm)
- HyperfocalDistance: 13,64 m
- ScaleFactor35efl: 6,3
- ShutterSpeed: 1/320
- ExifIFD
- ApertureValue: 5,0
- ColorSpace: sRGB
- CreateDate: 2007:08:20 16:28:16
- CustomRendered: Normal
- DateTimeOriginal: 2007:08:20 16:28:16
- ExifImageHeight: 655
- ExifImageWidth: 1000
- ExposureCompensation: 0
- ExposureMode: Auto bracket
- ExposureProgram: Aperture-priority AE
- ExposureTime: 1/320
- FNumber: 5,0
- Flash: Off
- FocalLength: 18,0 mm
- ISO: 100
- MaxApertureValue: 3,5
- MeteringMode: Multi-segment
- SceneCaptureType: Standard
- ShutterSpeedValue: 1/320
- WhiteBalance: Auto
- ICC-header
- ICC-meas
- ICC-view
- IFD0
- Artist: unknown
- Make: Canon
- Model: Canon EOS 400D DIGITAL
- ModifyDate: 2009:03:21 21:07:42
- Orientation: Horizontal (normal)
- IFD1
- IPTC
- By-line: unknown
- XMP-aux
- Firmware: 1.1.0
- FlashCompensation: -2
- ImageNumber: 112
- Lens: EF-S18-55mm f/3.5-5.6
- LensInfo: 18/1 55/1 0/0 0/0
- OwnerName: unknown
- SerialNumber: 1030571902
- XMP-crs
- AlreadyApplied: True
- BlueHue: 0
- BlueSaturation: 0
- Brightness: +51
- CameraProfile: ACR 3.6
- ChromaticAberrationB: 0
- ChromaticAberrationR: 0
- Clarity: +100
- ColorNoiseReduction: 25
- Contrast: +100
- ConvertToGrayscale: False
- CropAngle: 1.257808
- CropBottom: 0.999862
- CropLeft: 0.01416
- CropRight: 0.98584
- CropTop: 0
- Defringe: 0
- Exposure: +0.05
- FillLight: 36
- GreenHue: 0
- GreenSaturation: 0
- HasCrop: True
- HasSettings: True
- HighlightRecovery: 100
- HueAdjustmentAqua: 0
- HueAdjustmentBlue: +9
- HueAdjustmentGreen: +58
- HueAdjustmentMagenta: 0
- HueAdjustmentOrange: +38
- HueAdjustmentPurple: 0
- HueAdjustmentRed: 0
- HueAdjustmentYellow: +3
- LuminanceAdjustmentAqua: -43
- LuminanceAdjustmentBlue: +100
- LuminanceAdjustmentGreen: -47
- LuminanceAdjustmentMagenta: 0
- LuminanceAdjustmentOrange: -78
- LuminanceAdjustmentPurple: 0
- LuminanceAdjustmentRed: +1
- LuminanceAdjustmentYellow: -68
- LuminanceSmoothing: 0
- ParametricDarks: +16
- ParametricHighlightSplit: 75
- ParametricHighlights: +37
- ParametricLights: +17
- ParametricMidtoneSplit: 50
- ParametricShadowSplit: 25
- ParametricShadows: +10
- PostCropVignetteAmount: -24
- PostCropVignetteFeather: 50
- PostCropVignetteMidpoint: 50
- PostCropVignetteRoundness: 0
- RawFileName: IMG_0311.CR2
- RedHue: 0
- RedSaturation: 0
- Saturation: -52
- SaturationAdjustmentAqua: -3
- SaturationAdjustmentBlue: -100
- SaturationAdjustmentGreen: +100
- SaturationAdjustmentMagenta: 0
- SaturationAdjustmentOrange: +100
- SaturationAdjustmentPurple: 0
- SaturationAdjustmentRed: 0
- SaturationAdjustmentYellow: -24
- ShadowTint: 0
- Shadows: 54
- SharpenDetail: 18
- SharpenEdgeMasking: 0
- SharpenRadius: +1.0
- Sharpness: 29
- SplitToningBalance: 0
- SplitToningHighlightHue: 0
- SplitToningHighlightSaturation: 0
- SplitToningShadowHue: 0
- SplitToningShadowSaturation: 0
- Temperature: 5300
- Tint: +13
- ToneCurve: 0, 0, 32, 22, 64, 56, 128, 128, 192, 196, 255, 255
- ToneCurveName: Medium Contrast
- Version: 5.2
- Vibrance: +83
- VignetteAmount: -18
- VignetteMidpoint: 0
- WhiteBalance: Custom
- XMP-dc
- Creator: unknown
- Format: image/jpeg
- XMP-exif
- DateTimeDigitized: 2007:08:20 16:28:16+05:00
- DateTimeOriginal: 2007:08:20 16:28:16+05:00
- FlashFired: False
- FlashFunction: False
- FlashMode: Off
- FlashRedEyeMode: False
- FlashReturn: No return detection
- XMP-tiff
- XMP-xmp
- CreateDate: 2007:08:20 16:28:16+05:00
- ModifyDate: 2009:03:21 21:07:42+05:00
- Rating: 0
- XMP-xmpMM
- Просмотров: 360
- Рейтинг: голосов еще нет
- Отзывов: 0