- Раздел: Другое, разное
- Дата съёмки: 22.01.2010 14:25
- Дата загрузки фото: 22.01.2010 18:50
- Оригинальная фотография: 750 x 501 (116 Кб)
- Технические характеристики:
- Фотоаппарат: Canon EOS 50D
- Выдержка: 1/1600
- Гиперфокальное расстояние: 260,89 m
- Диафрагма: 2,2
- Светочувствительность: 100
- Фокусное расстояние: 50,0 mm (35 mm equivalent: 344,9 mm)
- Экспокоррекция: -1/3
- Полный EXIF
- Adobe
- ColorTransform: YCbCr
- Composite
- Aperture: 2,2
- CircleOfConfusion: 0,004 mm
- FOV: 5,0 deg
- FocalLength35efl: 50,0 mm (35 mm equivalent: 344,9 mm)
- HyperfocalDistance: 260,89 m
- ScaleFactor35efl: 6,9
- ShutterSpeed: 1/1600
- ExifIFD
- ApertureValue: 2,2
- ColorSpace: sRGB
- CreateDate: 2010:01:16 12:24:56
- CustomRendered: Normal
- DateTimeOriginal: 2010:01:16 12:24:56
- ExifImageHeight: 501
- ExifImageWidth: 750
- ExposureCompensation: -1/3
- ExposureMode: Auto
- ExposureProgram: Aperture-priority AE
- ExposureTime: 1/1600
- FNumber: 2,2
- Flash: Off
- FocalLength: 50,0 mm
- ISO: 100
- MaxApertureValue: 1,4
- MeteringMode: Center-weighted average
- SceneCaptureType: Standard
- ShutterSpeedValue: 1/1600
- WhiteBalance: Auto
- ICC-header
- ICC-meas
- ICC-view
- IFD0
- Artist: Photographer: Nikolai Yushevich
- Copyright: Copyright: partizanby.livejournal.com
- Make: Canon
- Model: Canon EOS 50D
- ModifyDate: 2010:01:22 14:25:54
- Orientation: Horizontal (normal)
- IFD1
- IPTC
- By-line: Photographer: Nikolai Yushevich
- CopyrightNotice: Copyright: partizanby.livejournal.com
- XMP-aux
- Firmware: 1.0.3
- FlashCompensation: 0
- ImageNumber: 0
- Lens: EF50mm f/1.4 USM
- LensInfo: 50/1 50/1 0/0 0/0
- OwnerName: PartizanBY
- SerialNumber: 530345516
- XMP-crs
- AlreadyApplied: True
- BlueHue: 0
- BlueSaturation: 0
- Brightness: +83
- ChromaticAberrationB: 0
- ChromaticAberrationR: 0
- Clarity: +41
- ColorNoiseReduction: 35
- Contrast: +37
- ConvertToGrayscale: False
- CropAngle: -2.14054
- CropBottom: 0.947675
- CropHeight: 1806
- CropLeft: 0.104057
- CropRight: 0.953323
- CropTop: 0.165516
- CropUnit: 0
- CropWidth: 2709
- Defringe: 0
- Exposure: +0.48
- FillLight: 21
- GreenHue: 0
- GreenSaturation: 0
- HasCrop: True
- HasSettings: True
- HighlightRecovery: 13
- HueAdjustmentAqua: +3
- HueAdjustmentBlue: +31
- HueAdjustmentGreen: 0
- HueAdjustmentMagenta: 0
- HueAdjustmentOrange: -2
- HueAdjustmentPurple: 0
- HueAdjustmentRed: 0
- HueAdjustmentYellow: +42
- LuminanceAdjustmentAqua: +6
- LuminanceAdjustmentBlue: -44
- LuminanceAdjustmentGreen: 0
- LuminanceAdjustmentMagenta: 0
- LuminanceAdjustmentOrange: +8
- LuminanceAdjustmentPurple: 0
- LuminanceAdjustmentRed: 0
- LuminanceAdjustmentYellow: +11
- LuminanceSmoothing: 37
- ParametricDarks: -4
- ParametricHighlightSplit: 75
- ParametricHighlights: -10
- ParametricLights: -3
- ParametricMidtoneSplit: 50
- ParametricShadowSplit: 25
- ParametricShadows: -4
- PostCropVignetteAmount: -22
- PostCropVignetteFeather: 50
- PostCropVignetteMidpoint: 35
- PostCropVignetteRoundness: +53
- RedHue: 0
- RedSaturation: 0
- Saturation: 0
- SaturationAdjustmentAqua: +4
- SaturationAdjustmentBlue: +67
- SaturationAdjustmentGreen: 0
- SaturationAdjustmentMagenta: 0
- SaturationAdjustmentOrange: +52
- SaturationAdjustmentPurple: 0
- SaturationAdjustmentRed: -4
- SaturationAdjustmentYellow: -2
- ShadowTint: 0
- Shadows: 8
- SharpenDetail: 25
- SharpenEdgeMasking: 0
- SharpenRadius: +1.0
- Sharpness: 69
- SplitToningBalance: 0
- SplitToningHighlightHue: 0
- SplitToningHighlightSaturation: 0
- SplitToningShadowHue: 0
- SplitToningShadowSaturation: 0
- Temperature: 4914
- Tint: +1
- ToneCurve: 0, 0, 32, 22, 64, 56, 128, 128, 192, 196, 255, 255
- ToneCurveName: Medium Contrast
- Version: 5.3
- Vibrance: -23
- VignetteAmount: -35
- VignetteMidpoint: 27
- WhiteBalance: Custom
- XMP-dc
- Creator: Photographer: Nikolai Yushevich
- Format: image/jpeg
- Rights: Copyright: partizanby.livejournal.com
- XMP-exif
- DateTimeDigitized: 2010:01:16 12:24:56.10+02:00
- DateTimeOriginal: 2010:01:16 12:24:56.10+02:00
- FlashFired: False
- FlashFunction: False
- FlashMode: Off
- FlashRedEyeMode: False
- FlashReturn: No return detection
- XMP-tiff
- ImageHeight: 1806
- ImageWidth: 2709
- XMP-xmp
- CreateDate: 2010:01:22 14:25:54+02:00
- ModifyDate: 2010:01:22 14:25:54+02:00
- XMP-xmpMM
- Просмотров: 317
- Рейтинг: голосов еще нет
- Отзывов: 0