- Раздел: Другое, разное
- Дата съёмки: 06.02.2010 13:38
- Дата загрузки фото: 06.02.2010 16:39
- Оригинальная фотография: 4672 x 3104 (4,0 Мб)
- Технические характеристики:
- Фотоаппарат: Samsung GX20
- Выдержка: 1/180
- Гиперфокальное расстояние: 840,81 m
- Диафрагма: 9,5
- Светочувствительность: 280
- Фокусное расстояние: 400,0 mm (35 mm equivalent: 600,0 mm)
- Экспокоррекция: +1
- Полный EXIF
- Adobe
- ColorTransform: YCbCr
- Composite
- Aperture: 9,5
- CircleOfConfusion: 0,020 mm
- FOV: 3,0 deg
- FocalLength35efl: 400,0 mm (35 mm equivalent: 600,0 mm)
- HyperfocalDistance: 840,81 m
- ScaleFactor35efl: 1,5
- ShutterSpeed: 1/180
- ExifIFD
- ApertureValue: 9,5
- Contrast: Normal
- CreateDate: 2010:02:06 13:38:59
- CustomRendered: Normal
- DateTimeOriginal: 2010:02:06 13:38:59
- ExposureCompensation: +1
- ExposureMode: Manual
- ExposureProgram: Aperture-priority AE
- ExposureTime: 1/180
- FNumber: 9,5
- Flash: Off
- FocalLength: 400,0 mm
- FocalLengthIn35mmFormat: 600 mm
- ISO: 280
- MeteringMode: Multi-segment
- Saturation: Normal
- SceneCaptureType: Standard
- SensingMethod: One-chip color area
- Sharpness: Normal
- ShutterSpeedValue: 1/180
- SubjectDistanceRange: Distant
- WhiteBalance: Manual
- ICC-header
- ICC-meas
- ICC-view
- IFD0
- Make: SAMSUNG DIGITAL IMA
- Model: SAMSUNG GX20
- ModifyDate: 2010:02:06 16:10:07
- Software: GX20 Ver 1.03
- IFD1
- XMP-aux
- Lens: Sigma Lens
- LensID: 3 46
- XMP-crs
- AlreadyApplied: True
- BlueHue: 0
- BlueSaturation: 0
- Brightness: +50
- ChromaticAberrationB: 0
- ChromaticAberrationR: 0
- Clarity: +25
- ColorNoiseReduction: 25
- Contrast: +25
- ConvertToGrayscale: False
- Defringe: 2
- Exposure: 0.00
- FillLight: 0
- GreenHue: 0
- GreenSaturation: 0
- HasCrop: False
- HasSettings: True
- HighlightRecovery: 100
- HueAdjustmentAqua: 0
- HueAdjustmentBlue: 0
- HueAdjustmentGreen: 0
- HueAdjustmentMagenta: 0
- HueAdjustmentOrange: 0
- HueAdjustmentPurple: 0
- HueAdjustmentRed: 0
- HueAdjustmentYellow: 0
- LuminanceAdjustmentAqua: 0
- LuminanceAdjustmentBlue: 0
- LuminanceAdjustmentGreen: 0
- LuminanceAdjustmentMagenta: 0
- LuminanceAdjustmentOrange: 0
- LuminanceAdjustmentPurple: 0
- LuminanceAdjustmentRed: 0
- LuminanceAdjustmentYellow: 0
- LuminanceSmoothing: 0
- ParametricDarks: 0
- ParametricHighlightSplit: 75
- ParametricHighlights: 0
- ParametricLights: 0
- ParametricMidtoneSplit: 50
- ParametricShadowSplit: 25
- ParametricShadows: 0
- PostCropVignetteAmount: 0
- RedHue: 0
- RedSaturation: 0
- Saturation: 0
- SaturationAdjustmentAqua: 0
- SaturationAdjustmentBlue: 0
- SaturationAdjustmentGreen: 0
- SaturationAdjustmentMagenta: 0
- SaturationAdjustmentOrange: 0
- SaturationAdjustmentPurple: 0
- SaturationAdjustmentRed: 0
- SaturationAdjustmentYellow: 0
- ShadowTint: 0
- Shadows: 12
- SharpenDetail: 25
- SharpenEdgeMasking: 0
- SharpenRadius: +1.0
- Sharpness: 130
- SplitToningBalance: 0
- SplitToningHighlightHue: 0
- SplitToningHighlightSaturation: 0
- SplitToningShadowHue: 0
- SplitToningShadowSaturation: 0
- Temperature: 5950
- Tint: -19
- ToneCurve: 0, 0, 32, 22, 64, 56, 128, 128, 192, 196, 255, 255
- ToneCurveName: Medium Contrast
- Version: 5.5
- Vibrance: 0
- VignetteAmount: 0
- WhiteBalance: As Shot
- XMP-exif
- DateTimeDigitized: 2010:02:06 13:38:59+03:00
- DateTimeOriginal: 2010:02:06 13:38:59+03:00
- ExifImageHeight: 3104
- ExifImageWidth: 4672
- FlashFired: False
- FlashFunction: False
- FlashMode: Off
- FlashRedEyeMode: False
- FlashReturn: No return detection
- XMP-tiff
- ImageHeight: 3104
- ImageWidth: 4672
- XMP-xmp
- CreateDate: 2010:02:06 13:38:59+03:00
- ModifyDate: 2010:02:06 16:10:07+03:00
- Просмотров: 261
- Рейтинг: голосов еще нет
- Отзывов: отключены