- Раздел: Пейзаж
- Дата съёмки: 03.01.2010 16:26
- Дата загрузки фото: 10.02.2010 12:36
- Оригинальная фотография: 1920 x 1280 (1,6 Мб)
- Технические характеристики:
- Фотоаппарат: Sony DSLR-A900
- Выдержка: 1/50
- Гиперфокальное расстояние: 33,43 m
- Диафрагма: 5,6
- Светочувствительность: 200
- Фокусное расстояние: 75,0 mm (35 mm equivalent: 75,0 mm)
- Полный EXIF
- Adobe
- ColorTransform: YCbCr
- Composite
- Aperture: 5,6
- CircleOfConfusion: 0,030 mm
- FOV: 26,0 deg
- FocalLength35efl: 75,0 mm (35 mm equivalent: 75,0 mm)
- HyperfocalDistance: 33,43 m
- ScaleFactor35efl: 1,0
- ShutterSpeed: 1/50
- ExifIFD
- ApertureValue: 5,6
- BrightnessValue: 4,75
- Contrast: Normal
- CreateDate: 2010:01:03 16:26:00
- CustomRendered: Normal
- DateTimeOriginal: 2010:01:03 16:26:00
- ExposureCompensation: 0
- ExposureMode: Auto
- ExposureProgram: Aperture-priority AE
- ExposureTime: 1/50
- FNumber: 5,6
- Flash: Off
- FocalLength: 75,0 mm
- FocalLengthIn35mmFormat: 75 mm
- ISO: 200
- LightSource: Cloudy
- MaxApertureValue: 4,0
- MeteringMode: Multi-segment
- Saturation: Normal
- SceneCaptureType: Standard
- SceneType: Directly photographed
- Sharpness: Normal
- ShutterSpeedValue: 1/50
- WhiteBalance: Manual
- ICC-header
- ICC-meas
- ICC-view
- IFD0
- Copyright: Dmitry Rybas
- Make: SONY
- Model: DSLR-A900
- ModifyDate: 2010:02:01 19:54:43
- Software: DSLR-A900 v1.00
- IFD1
- IPTC
- CopyrightNotice: Dmitry Rybas
- Keywords: lermontov january 2010
- XMP-aux
- Lens: 70-210mm F4
- LensID: 25551
- LensInfo: 70/1 210/1 4/1 4/1
- XMP-crs
- AlreadyApplied: True
- BlueHue: 0
- BlueSaturation: 0
- Brightness: +66
- ChromaticAberrationB: 0
- ChromaticAberrationR: 0
- Clarity: +10
- ColorNoiseReduction: 25
- Contrast: +64
- ConvertToGrayscale: False
- CropAngle: 0
- CropBottom: 0.989658
- CropHeight: 1280
- CropLeft: 0.020684
- CropRight: 1
- CropTop: 0.010342
- CropUnit: 0
- CropWidth: 1920
- Defringe: 0
- Exposure: +0.35
- FillLight: 0
- GreenHue: 0
- GreenSaturation: 0
- HasCrop: True
- HasSettings: True
- HighlightRecovery: 0
- HueAdjustmentAqua: 0
- HueAdjustmentBlue: 0
- HueAdjustmentGreen: 0
- HueAdjustmentMagenta: 0
- HueAdjustmentOrange: 0
- HueAdjustmentPurple: 0
- HueAdjustmentRed: 0
- HueAdjustmentYellow: 0
- LuminanceAdjustmentAqua: 0
- LuminanceAdjustmentBlue: 0
- LuminanceAdjustmentGreen: 0
- LuminanceAdjustmentMagenta: 0
- LuminanceAdjustmentOrange: 0
- LuminanceAdjustmentPurple: 0
- LuminanceAdjustmentRed: 0
- LuminanceAdjustmentYellow: 0
- LuminanceSmoothing: 0
- ParametricDarks: 0
- ParametricHighlightSplit: 75
- ParametricHighlights: 0
- ParametricLights: 0
- ParametricMidtoneSplit: 50
- ParametricShadowSplit: 25
- ParametricShadows: 0
- PostCropVignetteAmount: 0
- RedHue: 0
- RedSaturation: 0
- Saturation: +5
- SaturationAdjustmentAqua: 0
- SaturationAdjustmentBlue: 0
- SaturationAdjustmentGreen: 0
- SaturationAdjustmentMagenta: 0
- SaturationAdjustmentOrange: 0
- SaturationAdjustmentPurple: 0
- SaturationAdjustmentRed: 0
- SaturationAdjustmentYellow: 0
- ShadowTint: 0
- Shadows: 11
- SharpenDetail: 25
- SharpenEdgeMasking: 0
- SharpenRadius: +1.0
- Sharpness: 25
- SplitToningBalance: 0
- SplitToningHighlightHue: 0
- SplitToningHighlightSaturation: 0
- SplitToningShadowHue: 0
- SplitToningShadowSaturation: 0
- Temperature: 5850
- Tint: +13
- ToneCurve: 0, 0, 32, 22, 64, 56, 128, 128, 192, 196, 255, 255
- ToneCurveName: Medium Contrast
- Version: 5.6
- Vibrance: -16
- VignetteAmount: 0
- WhiteBalance: As Shot
- XMP-dc
- Description:
- Rights: Dmitry Rybas
- Subject: lermontov january 2010
- XMP-exif
- DateTimeDigitized: 2010:01:03 16:26:00+03:00
- DateTimeOriginal: 2010:01:03 16:26:00+03:00
- ExifImageHeight: 1280
- ExifImageWidth: 1920
- FlashFired: False
- FlashFunction: False
- FlashMode: Off
- FlashRedEyeMode: False
- FlashReturn: No return detection
- XMP-iptcCore
- CreatorContactInfoCiUrlWork: wrest.livejournal.com
- XMP-tiff
- ImageHeight: 1280
- ImageWidth: 1920
- XMP-xmp
- CreateDate: 2010:01:03 16:26:00+03:00
- Label: Green
- ModifyDate: 2010:02:01 19:54:43+03:00
- Rating: 3
- XMP-xmpRights
- Marked: True
- WebStatement: wrest.livejournal.com