20060505-IMG_0999.jpg |
20060505-IMG_0999.jpg
- Раздел: Путешествия
- Дата съёмки: 05.05.2006 16:46
- Дата загрузки фото: 14.02.2010 20:20
- Оригинальная фотография: 1400 x 1050 (832 Кб)
- Технические характеристики:
- Фотоаппарат: Canon PowerShot A75
- Выдержка: 1/50
- Гиперфокальное расстояние: inf m
- Диафрагма: 2,8
- Фокусное расстояние: 5,0 mm (35 mm equivalent: 45,0 mm)
- Полный EXIF
- Composite
- Aperture: 2,8
- CircleOfConfusion: 0,003 mm
- FOV: 43,0 deg
- FocalLength35efl: 5,0 mm (35 mm equivalent: 45,0 mm)
- HyperfocalDistance: inf m
- ScaleFactor35efl: 9,6
- ShutterSpeed: 1/50
- ExifIFD
- ApertureValue: 2,8
- CreateDate: 2006:05:05 16:46:35
- CustomRendered: Normal
- DateTimeOriginal: 2006:05:05 16:46:35
- DigitalZoomRatio: 1
- ExifImageHeight: 1050
- ExifImageWidth: 1400
- ExposureCompensation: 0
- ExposureMode: Auto
- ExposureTime: 1/50
- FNumber: 2,8
- Flash: Auto, Did not fire
- FocalLength: 5,4 mm
- MaxApertureValue: 2,8
- MeteringMode: Multi-segment
- SceneCaptureType: Standard
- SensingMethod: One-chip color area
- ShutterSpeedValue: 1/50
- WhiteBalance: Auto
- ICC-header
- ICC-meas
- ICC-view
- IFD0
- Make: Canon
- Model: Canon PowerShot A75
- ModifyDate: 2010:02:14 18:55:58
- Orientation: Horizontal (normal)
- Software: ACD Systems Digital Imaging
- IFD1
- System
- XMP-aux
- Firmware: 1.00
- FlashCompensation: 0
- Lens: 5.4-16.2 mm
- LensInfo: 173/32 519/32 0/0 0/0
- XMP-crs
- AlreadyApplied: True
- BlueHue: 0
- BlueSaturation: 0
- Brightness: 0
- CameraProfile: Embedded
- ChromaticAberrationB: 0
- ChromaticAberrationR: 0
- Clarity: +20
- ColorNoiseReduction: 0
- Contrast: -10
- ConvertToGrayscale: False
- Defringe: 0
- Exposure: 0.00
- FillLight: 0
- GreenHue: 0
- GreenSaturation: 0
- HasCrop: False
- HasSettings: True
- HighlightRecovery: 0
- HueAdjustmentAqua: 0
- HueAdjustmentBlue: 0
- HueAdjustmentGreen: 0
- HueAdjustmentMagenta: 0
- HueAdjustmentOrange: 0
- HueAdjustmentPurple: 0
- HueAdjustmentRed: 0
- HueAdjustmentYellow: 0
- IncrementalTemperature: 0
- IncrementalTint: 0
- LuminanceAdjustmentAqua: 0
- LuminanceAdjustmentBlue: 0
- LuminanceAdjustmentGreen: 0
- LuminanceAdjustmentMagenta: 0
- LuminanceAdjustmentOrange: 0
- LuminanceAdjustmentPurple: 0
- LuminanceAdjustmentRed: 0
- LuminanceAdjustmentYellow: 0
- LuminanceSmoothing: 0
- ParametricDarks: 0
- ParametricHighlightSplit: 75
- ParametricHighlights: 0
- ParametricLights: 0
- ParametricMidtoneSplit: 50
- ParametricShadowSplit: 25
- ParametricShadows: 0
- PostCropVignetteAmount: 0
- RedHue: 0
- RedSaturation: 0
- Saturation: 0
- SaturationAdjustmentAqua: 0
- SaturationAdjustmentBlue: 0
- SaturationAdjustmentGreen: 0
- SaturationAdjustmentMagenta: 0
- SaturationAdjustmentOrange: 0
- SaturationAdjustmentPurple: 0
- SaturationAdjustmentRed: 0
- SaturationAdjustmentYellow: 0
- ShadowTint: 0
- Shadows: 0
- SharpenDetail: 25
- SharpenEdgeMasking: 0
- SharpenRadius: +1.0
- Sharpness: 0
- SplitToningBalance: 0
- SplitToningHighlightHue: 0
- SplitToningHighlightSaturation: 0
- SplitToningShadowHue: 0
- SplitToningShadowSaturation: 0
- ToneCurve: 0, 0, 255, 255
- ToneCurveName: Linear
- Version: 5.4
- Vibrance: +60
- VignetteAmount: 0
- WhiteBalance: As Shot
- XMP-exif
- DateTimeDigitized: 2006:05:05 16:46:35+04:00
- DateTimeOriginal: 2006:05:05 16:46:35+04:00
- ExifImageHeight: 1536
- ExifImageWidth: 2048
- FlashFired: False
- FlashFunction: False
- FlashMode: Auto
- FlashRedEyeMode: False
- FlashReturn: No return detection
- XMP-tiff
- ImageHeight: 1536
- ImageWidth: 2048
- XMP-xmp
- CreateDate: 2006:05:05 16:46:35+04:00
- ModifyDate: 2010:02:14 17:25:18+03:00
- Просмотров: 142
- Рейтинг: голосов еще нет
- Отзывов: 0
Получить код для блога
Вставка фотографии в текущем разрешении |
Вставка миниатюры |
HTML (для вставки в блог):
BBCode (для вставки в форум):
Ссылка на фото:
Ссылка на миниатюру:
- Послать ссылку другу
Комментарии к фотографии |