20080708-DSCF4322.jpg |
20080708-DSCF4322.jpg
- Раздел: Путешествия
- Дата съёмки: 08.07.2008 19:28
- Дата загрузки фото: 14.02.2010 23:15
- Оригинальная фотография: 1400 x 1050 (708 Кб)
- Технические характеристики:
- Фотоаппарат: FujiFilm FinePix S5700 S700
- Выдержка: 1/125
- Гиперфокальное расстояние: inf m
- Диафрагма: 14,0
- Светочувствительность: 200
- Фокусное расстояние: 6,0 mm (35 mm equivalent: 78,0 mm)
- Полный EXIF
- Composite
- Aperture: 14,0
- CircleOfConfusion: 0,002 mm
- FOV: 25,0 deg
- FocalLength35efl: 6,0 mm (35 mm equivalent: 78,0 mm)
- HyperfocalDistance: inf m
- ScaleFactor35efl: 13,3
- ShutterSpeed: 1/125
- ExifIFD
- ApertureValue: 14,0
- BrightnessValue: 8,6
- CreateDate: 2008:07:08 19:28:40
- CustomRendered: Custom
- DateTimeOriginal: 2008:07:08 19:28:40
- ExifImageHeight: 1050
- ExifImageWidth: 1400
- ExposureCompensation: 0
- ExposureMode: Manual
- ExposureProgram: Manual
- ExposureTime: 1/125
- FNumber: 14,0
- Flash: Off, Did not fire
- FocalLength: 6,3 mm
- ISO: 200
- LightSource: Unknown
- MaxApertureValue: 3,5
- MeteringMode: Spot
- SceneCaptureType: Standard
- SceneType: Directly photographed
- SensingMethod: One-chip color area
- Sharpness: Hard
- ShutterSpeedValue: 1/125
- SubjectDistanceRange: Unknown
- WhiteBalance: Auto
- ICC-header
- ICC-meas
- ICC-view
- IFD0
- Make: FUJIFILM
- Model: FinePix S5700 S700
- ModifyDate: 2010:02:14 18:30:35
- Orientation: Horizontal (normal)
- Software: ACD Systems Digital Imaging
- IFD1
- System
- XMP-crs
- AlreadyApplied: True
- BlueHue: 0
- BlueSaturation: 0
- Brightness: +23
- CameraProfile: Embedded
- ChromaticAberrationB: 0
- ChromaticAberrationR: 0
- Clarity: +20
- ColorNoiseReduction: 0
- Contrast: -25
- ConvertToGrayscale: False
- Defringe: 0
- Exposure: 0.00
- FillLight: 0
- GreenHue: 0
- GreenSaturation: 0
- HasCrop: False
- HasSettings: True
- HighlightRecovery: 0
- HueAdjustmentAqua: 0
- HueAdjustmentBlue: 0
- HueAdjustmentGreen: 0
- HueAdjustmentMagenta: 0
- HueAdjustmentOrange: 0
- HueAdjustmentPurple: 0
- HueAdjustmentRed: 0
- HueAdjustmentYellow: 0
- IncrementalTemperature: 0
- IncrementalTint: 0
- LuminanceAdjustmentAqua: 0
- LuminanceAdjustmentBlue: 0
- LuminanceAdjustmentGreen: 0
- LuminanceAdjustmentMagenta: 0
- LuminanceAdjustmentOrange: 0
- LuminanceAdjustmentPurple: 0
- LuminanceAdjustmentRed: 0
- LuminanceAdjustmentYellow: 0
- LuminanceSmoothing: 0
- ParametricDarks: 0
- ParametricHighlightSplit: 75
- ParametricHighlights: 0
- ParametricLights: 0
- ParametricMidtoneSplit: 50
- ParametricShadowSplit: 25
- ParametricShadows: 0
- PostCropVignetteAmount: 0
- RedHue: 0
- RedSaturation: 0
- Saturation: 0
- SaturationAdjustmentAqua: 0
- SaturationAdjustmentBlue: 0
- SaturationAdjustmentGreen: 0
- SaturationAdjustmentMagenta: 0
- SaturationAdjustmentOrange: 0
- SaturationAdjustmentPurple: 0
- SaturationAdjustmentRed: 0
- SaturationAdjustmentYellow: 0
- ShadowTint: 0
- Shadows: 0
- SharpenDetail: 25
- SharpenEdgeMasking: 0
- SharpenRadius: +1.0
- Sharpness: 0
- SplitToningBalance: 0
- SplitToningHighlightHue: 0
- SplitToningHighlightSaturation: 0
- SplitToningShadowHue: 0
- SplitToningShadowSaturation: 0
- ToneCurve: 0, 0, 255, 255
- ToneCurveName: Linear
- Version: 5.4
- Vibrance: +40
- VignetteAmount: 0
- WhiteBalance: As Shot
- XMP-exif
- DateTimeDigitized: 2008:07:08 19:28:40+04:00
- DateTimeOriginal: 2008:07:08 19:28:40+04:00
- ExifImageHeight: 2304
- ExifImageWidth: 3072
- FlashFired: False
- FlashFunction: False
- FlashMode: Off
- FlashRedEyeMode: False
- FlashReturn: No return detection
- XMP-tiff
- ImageHeight: 2304
- ImageWidth: 3072
- XMP-xmp
- CreateDate: 2008:07:08 19:28:40+04:00
- ModifyDate: 2010:02:14 17:17:29+03:00
- Просмотров: 153
- Рейтинг: голосов еще нет
- Отзывов: 0
Получить код для блога
Вставка фотографии в текущем разрешении |
Вставка миниатюры |
HTML (для вставки в блог):
BBCode (для вставки в форум):
Ссылка на фото:
Ссылка на миниатюру:
- Послать ссылку другу
Комментарии к фотографии |