- Раздел: Спорт
- Дата съёмки: 10.03.2010 14:37
- Дата загрузки фото: 10.03.2010 19:51
- Оригинальная фотография: 1400 x 930 (1,1 Мб)
- Технические характеристики:
- Фотоаппарат: Nikon D5000
- Выдержка: 1/125
- Гиперфокальное расстояние: inf m
- Диафрагма: 16,0
- Светочувствительность: 200
- Фокусное расстояние: 18,0 mm (35 mm equivalent: 18,0 mm)
- Полный EXIF
- Composite
- Aperture: 16,0
- CircleOfConfusion: 0,020 mm
- FOV: 90,0 deg
- FocalLength35efl: 18,0 mm (35 mm equivalent: 18,0 mm)
- HyperfocalDistance: inf m
- ScaleFactor35efl: 1,5
- ShutterSpeed: 1/125
- ExifIFD
- ApertureValue: 16,0
- CFAPattern: [Green,Blue][Red,Green]
- ColorSpace: sRGB
- Contrast: Normal
- CreateDate: 2010:03:10 14:37:19
- CustomRendered: Normal
- DateTimeOriginal: 2010:03:10 14:37:19
- DigitalZoomRatio: 1
- ExifImageHeight: 930
- ExifImageWidth: 1400
- ExposureCompensation: 0
- ExposureMode: Manual
- ExposureProgram: Manual
- ExposureTime: 1/125
- FNumber: 16,0
- Flash: No Flash
- FocalLength: 18,0 mm
- FocalLengthIn35mmFormat: 27 mm
- GainControl: None
- ISO: 200
- LightSource: Unknown
- MaxApertureValue: 3,5
- MeteringMode: Multi-segment
- Saturation: Normal
- SceneCaptureType: Standard
- SceneType: Directly photographed
- SensingMethod: One-chip color area
- Sharpness: Normal
- ShutterSpeedValue: 1/125
- SubjectDistanceRange: Unknown
- WhiteBalance: Auto
- ICC-header
- ICC-meas
- ICC-view
- IFD0
- Make: NIKON CORPORATION
- Model: NIKON D5000
- ModifyDate: 2010:03:10 19:27:55
- Orientation: Horizontal (normal)
- Software: ACD Systems Digital Imaging
- IFD1
- System
- XMP-aux
- ImageNumber: 4767
- Lens: 18.0-55.0 mm f/3.5-5.6
- LensInfo: 180/10 550/10 35/10 56/10
- SerialNumber: 6294075
- XMP-crs
- AlreadyApplied: True
- BlueHue: 0
- BlueSaturation: 0
- Brightness: +41
- ChromaticAberrationB: 0
- ChromaticAberrationR: 0
- Clarity: +50
- ColorNoiseReduction: 39
- Contrast: +42
- ConvertToGrayscale: False
- Defringe: 2
- Exposure: +0.60
- FillLight: 9
- GreenHue: 0
- GreenSaturation: 0
- HasCrop: False
- HasSettings: True
- HighlightRecovery: 0
- HueAdjustmentAqua: 0
- HueAdjustmentBlue: 0
- HueAdjustmentGreen: 0
- HueAdjustmentMagenta: 0
- HueAdjustmentOrange: 0
- HueAdjustmentPurple: 0
- HueAdjustmentRed: 0
- HueAdjustmentYellow: 0
- LuminanceAdjustmentAqua: 0
- LuminanceAdjustmentBlue: 0
- LuminanceAdjustmentGreen: 0
- LuminanceAdjustmentMagenta: 0
- LuminanceAdjustmentOrange: 0
- LuminanceAdjustmentPurple: 0
- LuminanceAdjustmentRed: 0
- LuminanceAdjustmentYellow: 0
- LuminanceSmoothing: 39
- ParametricDarks: 0
- ParametricHighlightSplit: 75
- ParametricHighlights: -54
- ParametricLights: -57
- ParametricMidtoneSplit: 50
- ParametricShadowSplit: 25
- ParametricShadows: 0
- PostCropVignetteAmount: 0
- RedHue: 0
- RedSaturation: 0
- Saturation: +4
- SaturationAdjustmentAqua: 0
- SaturationAdjustmentBlue: 0
- SaturationAdjustmentGreen: 0
- SaturationAdjustmentMagenta: 0
- SaturationAdjustmentOrange: 0
- SaturationAdjustmentPurple: 0
- SaturationAdjustmentRed: 0
- SaturationAdjustmentYellow: 0
- ShadowTint: 0
- Shadows: 5
- SharpenDetail: 25
- SharpenEdgeMasking: 21
- SharpenRadius: +1.0
- Sharpness: 70
- SplitToningBalance: 0
- SplitToningHighlightHue: 0
- SplitToningHighlightSaturation: 0
- SplitToningShadowHue: 0
- SplitToningShadowSaturation: 0
- Temperature: 5650
- Tint: -10
- ToneCurve: 0, 0, 32, 22, 64, 56, 128, 128, 192, 196, 255, 255
- ToneCurveName: Medium Contrast
- Version: 5.4
- Vibrance: +3
- VignetteAmount: 0
- WhiteBalance: As Shot
- XMP-dc
- XMP-exif
- DateTimeDigitized: 2010:03:10 14:37:19.50+03:00
- DateTimeOriginal: 2010:03:10 14:37:19.50+03:00
- ExifImageHeight: 2848
- ExifImageWidth: 4288
- FlashFired: False
- FlashFunction: False
- FlashMode: Unknown
- FlashRedEyeMode: False
- FlashReturn: No return detection
- XMP-tiff
- ImageHeight: 2848
- ImageWidth: 4288
- XMP-xmp
- CreateDate: 2010:03:10 19:18:24+03:00
- ModifyDate: 2010:03:10 19:18:24+03:00
- XMP-xmpMM
- DerivedFrom:
- Просмотров: 319
- Рейтинг: голосов еще нет
- Отзывов: 0