- Раздел: Семья, личное
- Дата съёмки: 27.03.2010 16:28
- Дата загрузки фото: 27.03.2010 15:55
- Оригинальная фотография: 2000 x 1334 (525 Кб)
- Технические характеристики:
- Фотоаппарат: Canon EOS-1D Mark III
- Выдержка: 1/100
- Гиперфокальное расстояние: inf m
- Диафрагма: 4,0
- Светочувствительность: 200
- Фокусное расстояние: 160,0 mm (35 mm equivalent: 320,0 mm)
- Полный EXIF
- Composite
- Aperture: 4,0
- CircleOfConfusion: 0,012 mm
- DOF: inf (0,00 m - inf)
- FOV: 6,0 deg
- FocalLength35efl: 160,0 mm (35 mm equivalent: 320,0 mm)
- HyperfocalDistance: inf m
- ScaleFactor35efl: 2,5
- ShutterSpeed: 1/100
- ExifIFD
- ApertureValue: 4,0
- CreateDate: 2010:03:27 16:28:41
- CustomRendered: Normal
- DateTimeOriginal: 2010:03:27 16:28:41
- ExifImageHeight: 1334
- ExifImageWidth: 2000
- ExposureCompensation: 0
- ExposureMode: Manual
- ExposureProgram: Manual
- ExposureTime: 1/100
- FNumber: 4,0
- Flash: No Flash
- FocalLength: 160,0 mm
- ISO: 200
- MaxApertureValue: 4,0
- MeteringMode: Partial
- SceneCaptureType: Standard
- ShutterSpeedValue: 1/100
- SubjectDistance: 3,82 m
- WhiteBalance: Auto
- ICC-header
- ICC-meas
- ICC-view
- IFD0
- Artist: demakov.ru
- Make: Canon
- Model: Canon EOS-1D Mark III
- ModifyDate: 2010:03:27 16:54:50
- Orientation: Horizontal (normal)
- Software: ACD Systems Digital Imaging
- IFD1
- IPTC
- System
- XMP-aux
- Firmware: 1.3.0
- FlashCompensation: 0
- ImageNumber: 0
- Lens: EF70-200mm f/4L IS USM
- LensID: 242
- LensInfo: 70/1 200/1 0/0 0/0
- OwnerName: demakov.ru
- SerialNumber: 543680
- XMP-crs
- AlreadyApplied: True
- BlueHue: +11
- BlueSaturation: -70
- Brightness: +43
- CameraProfile: Camera Standard
- ChromaticAberrationB: 0
- ChromaticAberrationR: 0
- Clarity: 0
- ColorNoiseReduction: 25
- ColorNoiseReductionDetail: 50
- Contrast: +25
- ConvertToGrayscale: False
- CropAngle: 0
- CropBottom: 1
- CropHeight: 2421
- CropLeft: 0.066038
- CropRight: 1
- CropTop: 0.066038
- CropUnit: pixels
- CropWidth: 3631
- Defringe: 0
- Exposure: 0.00
- FillLight: 0
- GrainAmount: 10
- GrainFrequency: 50
- GrainSize: 50
- GreenHue: +11
- GreenSaturation: +25
- HasCrop: True
- HasSettings: True
- HighlightRecovery: 0
- HueAdjustmentAqua: 0
- HueAdjustmentBlue: 0
- HueAdjustmentGreen: 0
- HueAdjustmentMagenta: 0
- HueAdjustmentOrange: 0
- HueAdjustmentPurple: 0
- HueAdjustmentRed: 0
- HueAdjustmentYellow: 0
- LuminanceAdjustmentAqua: 0
- LuminanceAdjustmentBlue: 0
- LuminanceAdjustmentGreen: 0
- LuminanceAdjustmentMagenta: 0
- LuminanceAdjustmentOrange: 0
- LuminanceAdjustmentPurple: 0
- LuminanceAdjustmentRed: 0
- LuminanceAdjustmentYellow: 0
- LuminanceSmoothing: 0
- ParametricDarks: -3
- ParametricHighlightSplit: 75
- ParametricHighlights: 0
- ParametricLights: 0
- ParametricMidtoneSplit: 50
- ParametricShadowSplit: 25
- ParametricShadows: -14
- PostCropVignetteAmount: 0
- ProcessVersion: 5.7
- RedHue: +96
- RedSaturation: +3
- Saturation: -77
- SaturationAdjustmentAqua: 0
- SaturationAdjustmentBlue: 0
- SaturationAdjustmentGreen: 0
- SaturationAdjustmentMagenta: 0
- SaturationAdjustmentOrange: 0
- SaturationAdjustmentPurple: 0
- SaturationAdjustmentRed: 0
- SaturationAdjustmentYellow: 0
- ShadowTint: +8
- Shadows: 11
- SharpenDetail: 25
- SharpenEdgeMasking: 0
- SharpenRadius: +1.0
- Sharpness: 0
- SplitToningBalance: 0
- SplitToningHighlightHue: 0
- SplitToningHighlightSaturation: 0
- SplitToningShadowHue: 0
- SplitToningShadowSaturation: 0
- Temperature: 12500
- Tint: +35
- ToneCurve: 0, 0, 255, 255
- ToneCurveName: Linear
- Version: 6.0
- Vibrance: 0
- VignetteAmount: -61
- VignetteMidpoint: 34
- WhiteBalance: Custom
- XMP-dc
- XMP-exif
- DateTimeDigitized: 2010:03:27 16:28:41.0+4:00
- DateTimeOriginal: 2010:03:27 16:28:41.0+4:00
- ExifImageHeight: 2421
- ExifImageWidth: 3631
- FlashFired: False
- FlashFunction: False
- FlashMode: Unknown
- FlashRedEyeMode: False
- FlashReturn: No return detection
- XMP-tiff
- ImageHeight: 2421
- ImageWidth: 3631
- XMP-x
- XMP-xmp
- CreateDate: 2010:03:27 16:28:41.00+04:00
- ModifyDate: 2010:03:27 16:53:03.0+4:00