- Раздел: Репортаж
- Дата съёмки: 20.05.2008 14:43
- Дата загрузки фото: 01.04.2010 13:25
- Оригинальная фотография: 1152 x 768 (149 Кб)
- Технические характеристики:
- Фотоаппарат: Canon EOS 40D
- Выдержка: 1/250
- Гиперфокальное расстояние: inf m
- Диафрагма: 6,3
- Светочувствительность: 200
- Фокусное расстояние: 135,0 mm (35 mm equivalent: 135,0 mm)
- Полный EXIF
- Composite
- Aperture: 6,3
- CircleOfConfusion: 0,019 mm
- FOV: 15,0 deg
- FocalLength35efl: 135,0 mm (35 mm equivalent: 135,0 mm)
- HyperfocalDistance: inf m
- ScaleFactor35efl: 1,6
- ShutterSpeed: 1/250
- ExifIFD
- ApertureValue: 6,3
- ColorSpace: sRGB
- CreateDate: 2008:05:20 00:00:00
- CustomRendered: Normal
- DateTimeOriginal: 2008:05:20 00:00:00
- ExifImageHeight: 2592
- ExifImageWidth: 3888
- ExposureCompensation: 0
- ExposureMode: Auto
- ExposureProgram: Shutter speed priority AE
- ExposureTime: 1/250
- FNumber: 6,3
- Flash: On, Fired
- FocalLength: 135,0 mm
- ISO: 200
- MaxApertureValue: 5,7
- MeteringMode: Multi-segment
- SceneCaptureType: Standard
- ShutterSpeedValue: 1/250
- WhiteBalance: Auto
- IFD0
- Make: Canon
- Model: Canon EOS 40D
- ModifyDate: 2008:05:21 12:24:46
- Orientation: Horizontal (normal)
- IFD1
- IPTC
- System
- XMP-aux
- Firmware: 1.0.4
- FlashCompensation: 0
- ImageNumber: 0
- Lens: EF28-135mm f/3.5-5.6 IS USM
- LensInfo: 28/1 135/1 0/0 0/0
- SerialNumber: 630443795
- XMP-crs
- AlreadyApplied: True
- BlueHue: 0
- BlueSaturation: +25
- Brightness: +50
- CameraProfile: ACR 4.4
- ChromaticAberrationB: 0
- ChromaticAberrationR: 0
- Clarity: 0
- ColorNoiseReduction: 25
- Contrast: +25
- ConvertToGrayscale: False
- Defringe: 0
- Exposure: +0.50
- FillLight: 20
- GreenHue: +15
- GreenSaturation: +15
- HasCrop: False
- HasSettings: True
- HighlightRecovery: 0
- HueAdjustmentAqua: 0
- HueAdjustmentBlue: 0
- HueAdjustmentGreen: 0
- HueAdjustmentMagenta: 0
- HueAdjustmentOrange: 0
- HueAdjustmentPurple: 0
- HueAdjustmentRed: 0
- HueAdjustmentYellow: 0
- LuminanceAdjustmentAqua: +50
- LuminanceAdjustmentBlue: 0
- LuminanceAdjustmentGreen: 0
- LuminanceAdjustmentMagenta: 0
- LuminanceAdjustmentOrange: +35
- LuminanceAdjustmentPurple: 0
- LuminanceAdjustmentRed: 0
- LuminanceAdjustmentYellow: +15
- LuminanceSmoothing: 0
- ParametricDarks: +15
- ParametricHighlightSplit: 75
- ParametricHighlights: 0
- ParametricLights: 0
- ParametricMidtoneSplit: 50
- ParametricShadowSplit: 25
- ParametricShadows: +15
- RedHue: +20
- RedSaturation: +30
- Saturation: 0
- SaturationAdjustmentAqua: 0
- SaturationAdjustmentBlue: +50
- SaturationAdjustmentGreen: 0
- SaturationAdjustmentMagenta: 0
- SaturationAdjustmentOrange: +25
- SaturationAdjustmentPurple: 0
- SaturationAdjustmentRed: 0
- SaturationAdjustmentYellow: +25
- ShadowTint: 0
- Shadows: 5
- SharpenDetail: 35
- SharpenEdgeMasking: 0
- SharpenRadius: +0.5
- Sharpness: 70
- SplitToningBalance: 0
- SplitToningHighlightHue: 0
- SplitToningHighlightSaturation: 0
- SplitToningShadowHue: 0
- SplitToningShadowSaturation: 0
- Temperature: 5100
- Tint: +20
- ToneCurve: 0, 0, 32, 22, 64, 56, 128, 128, 192, 196, 255, 255
- ToneCurveName: Medium Contrast
- Version: 4.4
- Vibrance: 0
- VignetteAmount: 0
- WhiteBalance: Custom
- XMP-dc
- XMP-exif
- DateTimeDigitized: 2008:05:20 14:43:05.00+04:00
- DateTimeOriginal: 2008:05:20 14:43:05.00+04:00
- FlashFired: True
- FlashFunction: False
- FlashMode: On
- FlashRedEyeMode: False
- FlashReturn: No return detection
- XMP-tiff
- ImageHeight: 2592
- ImageWidth: 3888
- XMP-xmp
- CreateDate: 2008:05:21 12:24:46+04:00
- ModifyDate: 2008:05:21 12:24:46+04:00
- Rating: 5
- XMP-xmpMM
- DerivedFrom: