- Раздел: Репортаж
- Дата съёмки: 20.05.2008 13:53
- Дата загрузки фото: 01.04.2010 13:25
- Оригинальная фотография: 768 x 1039 (122 Кб)
- Технические характеристики:
- Фотоаппарат: Canon EOS 40D
- Выдержка: 1/250
- Гиперфокальное расстояние: inf m
- Диафрагма: 5,6
- Светочувствительность: 200
- Фокусное расстояние: 135,0 mm (35 mm equivalent: 135,0 mm)
- Полный EXIF
- Composite
- Aperture: 5,6
- CircleOfConfusion: 0,016 mm
- FOV: 15,0 deg
- FocalLength35efl: 135,0 mm (35 mm equivalent: 135,0 mm)
- HyperfocalDistance: inf m
- ScaleFactor35efl: 1,8
- ShutterSpeed: 1/250
- ExifIFD
- ApertureValue: 5,6
- ColorSpace: sRGB
- CreateDate: 2008:05:20 00:00:00
- CustomRendered: Normal
- DateTimeOriginal: 2008:05:20 00:00:00
- ExifImageHeight: 3323
- ExifImageWidth: 2456
- ExposureCompensation: 0
- ExposureMode: Manual
- ExposureProgram: Manual
- ExposureTime: 1/250
- FNumber: 5,6
- Flash: On, Fired
- FocalLength: 135,0 mm
- ISO: 200
- MaxApertureValue: 5,7
- MeteringMode: Multi-segment
- SceneCaptureType: Standard
- ShutterSpeedValue: 1/250
- WhiteBalance: Auto
- IFD0
- Make: Canon
- Model: Canon EOS 40D
- ModifyDate: 2008:05:20 18:49:55
- Orientation: Horizontal (normal)
- IFD1
- IPTC
- System
- XMP-aux
- Firmware: 1.0.4
- FlashCompensation: 0
- ImageNumber: 0
- Lens: EF28-135mm f/3.5-5.6 IS USM
- LensInfo: 28/1 135/1 0/0 0/0
- SerialNumber: 630443795
- XMP-crs
- AlreadyApplied: True
- BlueHue: 0
- BlueSaturation: +25
- Brightness: +50
- CameraProfile: ACR 4.4
- ChromaticAberrationB: 0
- ChromaticAberrationR: 0
- Clarity: 0
- ColorNoiseReduction: 25
- Contrast: +25
- ConvertToGrayscale: False
- CropAngle: -0.248695
- CropBottom: 0.993531
- CropHeight: 2575
- CropLeft: 0.001797
- CropRight: 0.998203
- CropTop: 0.006469
- CropUnit: pixels
- CropWidth: 3863
- Defringe: 0
- Exposure: +0.50
- FillLight: 20
- GreenHue: +2
- GreenSaturation: +20
- HasCrop: True
- HasSettings: True
- HighlightRecovery: 0
- HueAdjustmentAqua: +40
- HueAdjustmentBlue: 0
- HueAdjustmentGreen: +15
- HueAdjustmentMagenta: +20
- HueAdjustmentOrange: 0
- HueAdjustmentPurple: 0
- HueAdjustmentRed: -20
- HueAdjustmentYellow: -60
- LuminanceAdjustmentAqua: 0
- LuminanceAdjustmentBlue: +35
- LuminanceAdjustmentGreen: -10
- LuminanceAdjustmentMagenta: -10
- LuminanceAdjustmentOrange: 0
- LuminanceAdjustmentPurple: +50
- LuminanceAdjustmentRed: +50
- LuminanceAdjustmentYellow: +50
- LuminanceSmoothing: 0
- ParametricDarks: +15
- ParametricHighlightSplit: 75
- ParametricHighlights: 0
- ParametricLights: 0
- ParametricMidtoneSplit: 50
- ParametricShadowSplit: 25
- ParametricShadows: +15
- RedHue: 0
- RedSaturation: +15
- Saturation: 0
- SaturationAdjustmentAqua: +50
- SaturationAdjustmentBlue: +25
- SaturationAdjustmentGreen: +50
- SaturationAdjustmentMagenta: +30
- SaturationAdjustmentOrange: 0
- SaturationAdjustmentPurple: 0
- SaturationAdjustmentRed: +50
- SaturationAdjustmentYellow: +35
- ShadowTint: 0
- Shadows: 5
- SharpenDetail: 33
- SharpenEdgeMasking: 0
- SharpenRadius: +0.5
- Sharpness: 65
- SplitToningBalance: 0
- SplitToningHighlightHue: 0
- SplitToningHighlightSaturation: 0
- SplitToningShadowHue: 0
- SplitToningShadowSaturation: 0
- Temperature: 4900
- Tint: +33
- ToneCurve: 0, 0, 32, 22, 64, 56, 128, 128, 192, 196, 255, 255
- ToneCurveName: Medium Contrast
- Version: 4.4
- Vibrance: 0
- VignetteAmount: 0
- WhiteBalance: Custom
- XMP-dc
- XMP-exif
- DateTimeDigitized: 2008:05:20 13:53:44.01+04:00
- DateTimeOriginal: 2008:05:20 13:53:44.01+04:00
- FlashFired: True
- FlashFunction: False
- FlashMode: On
- FlashRedEyeMode: False
- FlashReturn: No return detection
- XMP-tiff
- ImageHeight: 3863
- ImageWidth: 2575
- XMP-xmp
- CreateDate: 2008:05:20 18:49:55+04:00
- ModifyDate: 2008:05:20 18:49:55+04:00
- XMP-xmpMM
- DerivedFrom:
- Просмотров: 278
- Рейтинг: голосов еще нет
- Отзывов: 0