- Раздел: Другое, разное
- Дата съёмки: 11.04.2010 08:44
- Дата загрузки фото: 11.04.2010 12:30
- Оригинальная фотография: 1008 x 672 (220 Кб)
- Технические характеристики:
- Фотоаппарат: Sony DSC-HX5V
- Выдержка: 1/250
- Диафрагма: 9,0
- Светочувствительность: 125
- Фокусное расстояние: 5,0 mm
- Полный EXIF
- Adobe
- ColorTransform: YCbCr
- Composite
- Aperture: 9,0
- FocalLength35efl: 5,0 mm
- GPSAltitude: 41 m Above Sea Level
- GPSDateTime: 2010:04:11 04:44:39Z
- GPSLatitude: 53 deg 12' 35,00" N
- GPSLatitudeRef: North
- GPSLongitude: 50 deg 7' 8,00" E
- GPSLongitudeRef: East
- GPSPosition: 53 deg 12' 35,00" N, 50 deg 7' 8,00" E
- ShutterSpeed: 1/250
- ExifIFD
- ApertureValue: 9,0
- Contrast: Normal
- CreateDate: 2010:04:11 08:44:33
- CustomRendered: Normal
- DateTimeOriginal: 2010:04:11 08:44:33
- ExposureCompensation: 0
- ExposureMode: Auto
- ExposureProgram: Program AE
- ExposureTime: 1/250
- FNumber: 9,0
- Flash: Off, Did not fire
- FocalLength: 5,8 mm
- ISO: 125
- LightSource: Unknown
- MaxApertureValue: 3,5
- MeteringMode: Multi-segment
- Saturation: Normal
- SceneCaptureType: Landscape
- SceneType: Directly photographed
- Sharpness: Normal
- ShutterSpeedValue: 1/250
- WhiteBalance: Auto
- GPS
- GPSAltitude: 41 m
- GPSAltitudeRef: Above Sea Level
- GPSDateStamp: 2010:04:11
- GPSDifferential: No Correction
- GPSImgDirection: 144,75
- GPSImgDirectionRef: Magnetic North
- GPSLatitude: 53 deg 12' 35,00"
- GPSLongitude: 50 deg 7' 8,00"
- GPSMapDatum: WGS-84
- GPSMeasureMode: 3-Dimensional Measurement
- GPSSpeed: 0
- GPSSpeedRef: km/h
- GPSStatus: Measurement Active
- GPSTimeStamp: 04:44:39
- GPSTrack: 322,8
- GPSTrackRef: True North
- GPSVersionID: 2.2.0.0
- ICC-header
- IFD0
- Make: SONY
- Model: DSC-HX5V
- ModifyDate: 2010:04:11 11:57:17
- IPTC
- Keywords: Âîëãà , Íà áåðåæГГ Гї, Ñà ìà ðà , ÔîГà ðü
- System
- XMP-crs
- AlreadyApplied: True
- BlueHue: 0
- BlueSaturation: 0
- Brightness: 0
- CameraProfile: Embedded
- ChromaticAberrationB: 0
- ChromaticAberrationR: 0
- Clarity: 0
- ColorNoiseReduction: 0
- Contrast: 0
- ConvertToGrayscale: False
- CropAngle: -0.039614
- CropBottom: 0.814817
- CropHeight: 3
- CropLeft: 0.00062
- CropRight: 0.739603
- CropTop: 0.158926
- CropUnit: Unknown (3)
- CropWidth: 2
- Defringe: 0
- Exposure: 0.00
- FillLight: 0
- GreenHue: 0
- GreenSaturation: 0
- HasCrop: True
- HasSettings: True
- HighlightRecovery: 0
- HueAdjustmentAqua: 0
- HueAdjustmentBlue: 0
- HueAdjustmentGreen: 0
- HueAdjustmentMagenta: 0
- HueAdjustmentOrange: 0
- HueAdjustmentPurple: 0
- HueAdjustmentRed: 0
- HueAdjustmentYellow: 0
- IncrementalTemperature: 0
- IncrementalTint: 0
- LuminanceAdjustmentAqua: 0
- LuminanceAdjustmentBlue: 0
- LuminanceAdjustmentGreen: 0
- LuminanceAdjustmentMagenta: 0
- LuminanceAdjustmentOrange: 0
- LuminanceAdjustmentPurple: 0
- LuminanceAdjustmentRed: 0
- LuminanceAdjustmentYellow: 0
- LuminanceSmoothing: 0
- ParametricDarks: -62
- ParametricHighlightSplit: 75
- ParametricHighlights: -42
- ParametricLights: +53
- ParametricMidtoneSplit: 50
- ParametricShadowSplit: 25
- ParametricShadows: +100
- PostCropVignetteAmount: 0
- RawFileName: DSC00379.JPG
- RedHue: 0
- RedSaturation: 0
- Saturation: 0
- SaturationAdjustmentAqua: 0
- SaturationAdjustmentBlue: 0
- SaturationAdjustmentGreen: 0
- SaturationAdjustmentMagenta: 0
- SaturationAdjustmentOrange: 0
- SaturationAdjustmentPurple: 0
- SaturationAdjustmentRed: 0
- SaturationAdjustmentYellow: 0
- ShadowTint: 0
- Shadows: 0
- SharpenDetail: 25
- SharpenEdgeMasking: 0
- SharpenRadius: +1.0
- Sharpness: 0
- SplitToningBalance: 0
- SplitToningHighlightHue: 0
- SplitToningHighlightSaturation: 0
- SplitToningShadowHue: 0
- SplitToningShadowSaturation: 0
- ToneCurve: 0, 0, 255, 255
- ToneCurveName: Linear
- Version: 5.0
- Vibrance: 0
- VignetteAmount: 0
- WhiteBalance: As Shot
- XMP-dc
- Subject: Волга, Набережная, Самара, Фонарь
- XMP-exif
- ColorSpace: sRGB
- DateTimeDigitized: 2010:04:11 08:44:33+04:00
- DateTimeOriginal: 2010:04:11 08:44:33+04:00
- ExifImageHeight: 672
- ExifImageWidth: 1008
- FlashFired: False
- FlashFunction: False
- FlashMode: Off
- FlashRedEyeMode: False
- FlashReturn: No return detection
- GPSLatitude: 53 deg 12' 35,77" N
- GPSLongitude: 50 deg 7' 8,56" E
- GPSMeasureMode: 3-Dimensional
- XMP-lr
- HierarchicalSubject: Места|Самара, Предметы|Фонарь, Места|Набережная, Места|Волга
- XMP-tiff
- ImageHeight: 672
- ImageWidth: 1008
- XMP-xmp
- CreateDate: 2010:04:11 08:44:33+04:00
- ModifyDate: 2010:04:11 11:57:17+04:00
- Просмотров: 570
- Рейтинг: голосов еще нет
- Отзывов: 0