- Раздел: Путешествия
- Дата съёмки: 08.04.2010 12:17
- Дата загрузки фото: 01.05.2010 03:50
- Оригинальная фотография: 800 x 1200 (373 Кб)
- Технические характеристики:
- Фотоаппарат: Canon EOS 5D
- Выдержка: 1/160
- Гиперфокальное расстояние: inf m
- Диафрагма: 5,6
- Светочувствительность: 100
- Фокусное расстояние: 40,0 mm (35 mm equivalent: 120,0 mm)
- Экспокоррекция: -1
- Полный EXIF
- Adobe
- ColorTransform: YCbCr
- Composite
- Aperture: 5,6
- CircleOfConfusion: 0,008 mm
- FOV: 17,0 deg
- FocalLength35efl: 40,0 mm (35 mm equivalent: 120,0 mm)
- HyperfocalDistance: inf m
- ScaleFactor35efl: 3,6
- ShutterSpeed: 1/160
- ExifIFD
- ApertureValue: 5,6
- ColorSpace: sRGB
- CreateDate: 2010:04:08 12:17:51
- CustomRendered: Normal
- DateTimeOriginal: 2010:04:08 12:17:51
- ExifImageHeight: 1200
- ExifImageWidth: 800
- ExposureCompensation: -1
- ExposureMode: Auto
- ExposureProgram: Aperture-priority AE
- ExposureTime: 1/160
- FNumber: 5,6
- Flash: Off, Did not fire
- FocalLength: 40,0 mm
- ISO: 100
- MaxApertureValue: 4,0
- MeteringMode: Multi-segment
- SceneCaptureType: Standard
- ShutterSpeedValue: 1/160
- WhiteBalance: Auto
- ICC-header
- ICC-meas
- ICC-view
- IFD0
- Make: Canon
- Model: Canon EOS 5D
- ModifyDate: 2010:05:01 03:46:38
- Orientation: Horizontal (normal)
- IFD1
- IPTC
- System
- XMP-aux
- Firmware: 1.1.0
- FlashCompensation: 0
- ImageNumber: 3
- Lens: EF24-105mm f/4L IS USM
- LensInfo: 24/1 105/1 0/0 0/0
- SerialNumber: 1020707638
- XMP-crs
- AlreadyApplied: True
- BlueHue: 0
- BlueSaturation: 0
- Brightness: +65
- CameraProfile: ACR 3.3
- ChromaticAberrationB: 0
- ChromaticAberrationR: 0
- Clarity: 93
- ColorNoiseReduction: 44
- Contrast: +19
- ConvertToGrayscale: False
- Defringe: 0
- Exposure: -0.25
- FillLight: 23
- GreenHue: 0
- GreenSaturation: 0
- HasCrop: False
- HasSettings: True
- HighlightRecovery: 0
- HueAdjustmentAqua: 0
- HueAdjustmentBlue: 0
- HueAdjustmentGreen: 0
- HueAdjustmentMagenta: 0
- HueAdjustmentOrange: 0
- HueAdjustmentPurple: 0
- HueAdjustmentRed: 0
- HueAdjustmentYellow: 0
- LuminanceAdjustmentAqua: 0
- LuminanceAdjustmentBlue: 0
- LuminanceAdjustmentGreen: 0
- LuminanceAdjustmentMagenta: 0
- LuminanceAdjustmentOrange: 0
- LuminanceAdjustmentPurple: 0
- LuminanceAdjustmentRed: 0
- LuminanceAdjustmentYellow: 0
- LuminanceSmoothing: 30
- ParametricDarks: 0
- ParametricHighlightSplit: 75
- ParametricHighlights: 0
- ParametricLights: 0
- ParametricMidtoneSplit: 50
- ParametricShadowSplit: 25
- ParametricShadows: 0
- RawFileName: 2010.04.08.12.17.51.CR2
- RedHue: 0
- RedSaturation: 0
- Saturation: +4
- SaturationAdjustmentAqua: 0
- SaturationAdjustmentBlue: 0
- SaturationAdjustmentGreen: 0
- SaturationAdjustmentMagenta: 0
- SaturationAdjustmentOrange: 0
- SaturationAdjustmentPurple: 0
- SaturationAdjustmentRed: 0
- SaturationAdjustmentYellow: 0
- ShadowTint: 0
- Shadows: 2
- SharpenDetail: 61
- SharpenEdgeMasking: 0
- SharpenRadius: +0.7
- Sharpness: 94
- SplitToningBalance: 0
- SplitToningHighlightHue: 0
- SplitToningHighlightSaturation: 0
- SplitToningShadowHue: 0
- SplitToningShadowSaturation: 0
- Temperature: 4700
- Tint: +14
- ToneCurve: 0, 0, 32, 22, 64, 56, 128, 128, 192, 196, 255, 255
- ToneCurveName: Medium Contrast
- Version: 4.3
- Vibrance: +19
- VignetteAmount: +20
- VignetteMidpoint: 50
- WhiteBalance: As Shot
- XMP-dc
- XMP-exif
- DateTimeDigitized: 2010:04:08 12:17:51+04:00
- DateTimeOriginal: 2010:04:08 12:17:51+04:00
- FlashFired: False
- FlashFunction: False
- FlashMode: Off
- FlashRedEyeMode: False
- FlashReturn: No return detection
- XMP-tiff
- ImageHeight: 4368
- ImageWidth: 2912
- XMP-xmp
- CreateDate: 2010:05:01 03:46:38+04:00
- ModifyDate: 2010:05:01 03:46:38+04:00
- XMP-xmpMM
- DerivedFrom:
- Просмотров: 116
- Рейтинг: голосов еще нет
- Отзывов: 0