- Раздел: Путешествия
- Дата съёмки: 17.04.2010 17:19
- Дата загрузки фото: 02.05.2010 01:49
- Оригинальная фотография: 800 x 1200 (214 Кб)
- Технические характеристики:
- Фотоаппарат: Canon EOS 400D DIGITAL
- Выдержка: 1/640
- Гиперфокальное расстояние: inf m
- Диафрагма: 5,6
- Светочувствительность: 800
- Фокусное расстояние: 160,0 mm (35 mm equivalent: 800,0 mm)
- Полный EXIF
- Adobe
- ColorTransform: YCbCr
- Composite
- Aperture: 5,6
- CircleOfConfusion: 0,006 mm
- FOV: 2,0 deg
- FocalLength35efl: 160,0 mm (35 mm equivalent: 800,0 mm)
- HyperfocalDistance: inf m
- ScaleFactor35efl: 5,3
- ShutterSpeed: 1/640
- ExifIFD
- ApertureValue: 5,6
- ColorSpace: sRGB
- CreateDate: 2010:04:17 17:19:59
- CustomRendered: Normal
- DateTimeOriginal: 2010:04:17 17:19:59
- ExifImageHeight: 1200
- ExifImageWidth: 800
- ExposureCompensation: 0
- ExposureMode: Auto
- ExposureProgram: Aperture-priority AE
- ExposureTime: 1/640
- FNumber: 5,6
- Flash: Off, Did not fire
- FocalLength: 160,0 mm
- ISO: 800
- MaxApertureValue: 4,5
- MeteringMode: Multi-segment
- SceneCaptureType: Standard
- ShutterSpeedValue: 1/640
- WhiteBalance: Manual
- ICC-header
- ICC-meas
- ICC-view
- IFD0
- Artist: unknown
- Make: Canon
- Model: Canon EOS 400D DIGITAL
- ModifyDate: 2010:05:01 14:51:52
- Orientation: Horizontal (normal)
- IFD1
- IPTC
- By-line: unknown
- System
- XMP-aux
- Firmware: 1.0.4
- FlashCompensation: 0
- ImageNumber: 80
- Lens: EF70-300mm f/4-5.6 IS USM
- LensInfo: 70/1 300/1 0/0 0/0
- OwnerName: unknown
- SerialNumber: 430123035
- XMP-crs
- AlreadyApplied: True
- BlueHue: 0
- BlueSaturation: 0
- Brightness: +131
- CameraProfile: ACR 3.6
- ChromaticAberrationB: 0
- ChromaticAberrationR: 0
- Clarity: 93
- ColorNoiseReduction: 44
- Contrast: +19
- ConvertToGrayscale: False
- Defringe: 0
- Exposure: -1.35
- FillLight: 3
- GreenHue: 0
- GreenSaturation: 0
- HasCrop: False
- HasSettings: True
- HighlightRecovery: 0
- HueAdjustmentAqua: 0
- HueAdjustmentBlue: 0
- HueAdjustmentGreen: 0
- HueAdjustmentMagenta: 0
- HueAdjustmentOrange: 0
- HueAdjustmentPurple: 0
- HueAdjustmentRed: 0
- HueAdjustmentYellow: 0
- LuminanceAdjustmentAqua: 0
- LuminanceAdjustmentBlue: 0
- LuminanceAdjustmentGreen: 0
- LuminanceAdjustmentMagenta: 0
- LuminanceAdjustmentOrange: 0
- LuminanceAdjustmentPurple: 0
- LuminanceAdjustmentRed: 0
- LuminanceAdjustmentYellow: 0
- LuminanceSmoothing: 30
- ParametricDarks: 0
- ParametricHighlightSplit: 75
- ParametricHighlights: 0
- ParametricLights: 0
- ParametricMidtoneSplit: 50
- ParametricShadowSplit: 25
- ParametricShadows: 0
- RawFileName: 2010.04.17.17.19.59.CR2
- RedHue: 0
- RedSaturation: 0
- Saturation: +4
- SaturationAdjustmentAqua: 0
- SaturationAdjustmentBlue: 0
- SaturationAdjustmentGreen: 0
- SaturationAdjustmentMagenta: 0
- SaturationAdjustmentOrange: 0
- SaturationAdjustmentPurple: 0
- SaturationAdjustmentRed: 0
- SaturationAdjustmentYellow: 0
- ShadowTint: 0
- Shadows: 6
- SharpenDetail: 61
- SharpenEdgeMasking: 0
- SharpenRadius: +0.7
- Sharpness: 94
- SplitToningBalance: 0
- SplitToningHighlightHue: 0
- SplitToningHighlightSaturation: 0
- SplitToningShadowHue: 0
- SplitToningShadowSaturation: 0
- Temperature: 5150
- Tint: +8
- ToneCurve: 0, 0, 32, 22, 64, 56, 128, 128, 192, 196, 255, 255
- ToneCurveName: Medium Contrast
- Version: 4.3
- Vibrance: +19
- VignetteAmount: +20
- VignetteMidpoint: 50
- WhiteBalance: As Shot
- XMP-dc
- Creator: unknown
- Format: image/jpeg
- XMP-exif
- DateTimeDigitized: 2010:04:17 17:19:59+04:00
- DateTimeOriginal: 2010:04:17 17:19:59+04:00
- FlashFired: False
- FlashFunction: False
- FlashMode: Off
- FlashRedEyeMode: False
- FlashReturn: No return detection
- XMP-tiff
- ImageHeight: 3888
- ImageWidth: 2592
- XMP-xmp
- CreateDate: 2010:05:01 14:51:52+04:00
- ModifyDate: 2010:05:01 14:51:52+04:00
- XMP-xmpMM
- DerivedFrom:
- Просмотров: 83
- Рейтинг: голосов еще нет
- Отзывов: 0