- Раздел: Животные
- Дата съёмки: 06.05.2010 22:55
- Дата загрузки фото: 06.05.2010 20:50
- Оригинальная фотография: 2939 x 1731 (2,7 Мб)
- Технические характеристики:
- Фотоаппарат: Canon EOS 40D
- Выдержка: 1/2500
- Гиперфокальное расстояние: inf m
- Диафрагма: 5,6
- Светочувствительность: 400
- Фокусное расстояние: 235,0 mm (35 mm equivalent: 470,0 mm)
- Полный EXIF
- Adobe
- ColorTransform: YCbCr
- Composite
- Aperture: 5,6
- CircleOfConfusion: 0,014 mm
- FOV: 4,0 deg
- FocalLength35efl: 235,0 mm (35 mm equivalent: 470,0 mm)
- HyperfocalDistance: inf m
- ScaleFactor35efl: 2,2
- ShutterSpeed: 1/2500
- ExifIFD
- ApertureValue: 5,6
- CreateDate: 2010:05:06 22:55:20
- CustomRendered: Normal
- DateTimeOriginal: 2010:05:06 22:55:20
- ExposureCompensation: 0
- ExposureMode: Auto
- ExposureProgram: Aperture-priority AE
- ExposureTime: 1/2500
- FNumber: 5,6
- Flash: Off, Did not fire
- FocalLength: 235,0 mm
- ISO: 400
- MaxApertureValue: 5,7
- MeteringMode: Multi-segment
- SceneCaptureType: Standard
- ShutterSpeedValue: 1/2500
- WhiteBalance: Auto
- ICC-header
- ICC-meas
- ICC-view
- IFD0
- Artist: StasSt
- Make: Canon
- Model: Canon EOS 40D
- ModifyDate: 2010:05:06 19:59:36
- IPTC
- By-line: StasSt
- System
- XMP-aux
- Firmware: 1.0.8
- FlashCompensation: 0
- ImageNumber: 0
- Lens: EF70-300mm f/4-5.6 IS USM
- LensInfo: 70/1 300/1 0/0 0/0
- OwnerName: StasSt
- SerialNumber: 1030504313
- XMP-crs
- AlreadyApplied: True
- BlueHue: 0
- BlueSaturation: 0
- Brightness: +50
- CameraProfile: ACR 4.4
- ChromaticAberrationB: 0
- ChromaticAberrationR: 0
- Clarity: +12
- ColorNoiseReduction: 25
- Contrast: +32
- ConvertToGrayscale: False
- CropAngle: 0
- CropBottom: 0.7603
- CropLeft: 0.123231
- CropRight: 0.879267
- CropTop: 0.092385
- Defringe: 0
- Exposure: +1.45
- FillLight: 5
- GreenHue: 0
- GreenSaturation: 0
- HasCrop: True
- HasSettings: True
- HighlightRecovery: 0
- HueAdjustmentAqua: 0
- HueAdjustmentBlue: 0
- HueAdjustmentGreen: 0
- HueAdjustmentMagenta: 0
- HueAdjustmentOrange: 0
- HueAdjustmentPurple: 0
- HueAdjustmentRed: 0
- HueAdjustmentYellow: 0
- LuminanceAdjustmentAqua: 0
- LuminanceAdjustmentBlue: 0
- LuminanceAdjustmentGreen: 0
- LuminanceAdjustmentMagenta: 0
- LuminanceAdjustmentOrange: 0
- LuminanceAdjustmentPurple: 0
- LuminanceAdjustmentRed: 0
- LuminanceAdjustmentYellow: 0
- LuminanceSmoothing: 0
- ParametricDarks: 0
- ParametricHighlightSplit: 75
- ParametricHighlights: 0
- ParametricLights: 0
- ParametricMidtoneSplit: 50
- ParametricShadowSplit: 25
- ParametricShadows: 0
- PostCropVignetteAmount: 0
- RawFileName: _MG_0485.CR2
- RedHue: 0
- RedSaturation: 0
- Saturation: 0
- SaturationAdjustmentAqua: 0
- SaturationAdjustmentBlue: 0
- SaturationAdjustmentGreen: 0
- SaturationAdjustmentMagenta: 0
- SaturationAdjustmentOrange: 0
- SaturationAdjustmentPurple: 0
- SaturationAdjustmentRed: 0
- SaturationAdjustmentYellow: 0
- ShadowTint: 0
- Shadows: 10
- SharpenDetail: 25
- SharpenEdgeMasking: 0
- SharpenRadius: +1.0
- Sharpness: 25
- SplitToningBalance: 0
- SplitToningHighlightHue: 0
- SplitToningHighlightSaturation: 0
- SplitToningShadowHue: 0
- SplitToningShadowSaturation: 0
- Temperature: 5750
- Tint: +8
- ToneCurve: 0, 0, 32, 22, 64, 56, 128, 128, 192, 196, 255, 255
- ToneCurveName: Medium Contrast
- Version: 5.0
- Vibrance: +13
- VignetteAmount: 0
- WhiteBalance: Custom
- XMP-dc
- XMP-exif
- DateTimeDigitized: 2010:05:06 22:55:20.01+04:00
- DateTimeOriginal: 2010:05:06 22:55:20.01+04:00
- ExifImageHeight: 1731
- ExifImageWidth: 2939
- FlashFired: False
- FlashFunction: False
- FlashMode: Off
- FlashRedEyeMode: False
- FlashReturn: No return detection
- XMP-tiff
- ImageHeight: 1731
- ImageWidth: 2939
- XMP-xmp
- CreateDate: 2010:05:06 22:55:20.01+04:00
- ModifyDate: 2010:05:06 19:59:36+04:00
- Rating: 0