- Раздел: Активный отдых, туризм
- Дата съёмки: 24.04.2010 12:16
- Дата загрузки фото: 06.05.2010 21:13
- Оригинальная фотография: 1333 x 1000 (972 Кб)
- Технические характеристики:
- Фотоаппарат: Olympus E-510
- Выдержка: 1/100
- Диафрагма: 7,1
- Светочувствительность: 100
- Фокусное расстояние: 14,0 mm
- Экспокоррекция: +0,3
- Полный EXIF
- Composite
- Aperture: 7,1
- FocalLength35efl: 14,0 mm
- ShutterSpeed: 1/100
- ExifIFD
- ApertureValue: 7,1
- CFAPattern: [Red,Green][Green,Blue]
- ColorSpace: sRGB
- Contrast: Low
- CreateDate: 2010:04:24 12:16:00
- CustomRendered: Normal
- DateTimeOriginal: 2010:04:24 12:16:00
- DigitalZoomRatio: 1
- ExifImageHeight: 1000
- ExifImageWidth: 1333
- ExposureCompensation: +0,3
- ExposureMode: Manual
- ExposureProgram: Aperture-priority AE
- ExposureTime: 1/100
- FNumber: 7,1
- Flash: Auto, Did not fire
- FocalLength: 14,0 mm
- GainControl: None
- ISO: 100
- LightSource: Unknown
- MaxApertureValue: 3,5
- MeteringMode: Multi-segment
- Saturation: Normal
- SceneCaptureType: Standard
- Sharpness: Soft
- ShutterSpeedValue: 1/100
- WhiteBalance: Auto
- ICC-header
- ICC-meas
- ICC-view
- IFD0
- ImageDescription: OLYMPUS DIGITAL CAMERA
- Make: OLYMPUS IMAGING CORP.
- Model: E-510
- ModifyDate: 2010:04:28 22:35:56
- Orientation: Horizontal (normal)
- Software: ACD Systems Digital Imaging
- IFD1
- IPTC
- Caption-Abstract: OLYMPUS DIGITAL CAMERA
- System
- XMP-aux
- FlashCompensation: 0
- Lens: 14.0-42.0 mm f/3.5-5.6
- LensInfo: 14/1 42/1 35/10 56/10
- LensSerialNumber: 212401769
- SerialNumber: D63582545
- XMP-crs
- AlreadyApplied: True
- BlueHue: 0
- BlueSaturation: 0
- Brightness: +50
- CameraProfile: ACR 4.4
- ChromaticAberrationB: 0
- ChromaticAberrationR: 0
- Clarity: +35
- ColorNoiseReduction: 25
- Contrast: +25
- ConvertToGrayscale: False
- Defringe: 0
- Exposure: +0.10
- FillLight: 51
- GreenHue: 0
- GreenSaturation: 0
- HasCrop: False
- HasSettings: True
- HighlightRecovery: 79
- HueAdjustmentAqua: 0
- HueAdjustmentBlue: -2
- HueAdjustmentGreen: +11
- HueAdjustmentMagenta: +28
- HueAdjustmentOrange: -13
- HueAdjustmentPurple: +58
- HueAdjustmentRed: 0
- HueAdjustmentYellow: -13
- LuminanceAdjustmentAqua: +7
- LuminanceAdjustmentBlue: 0
- LuminanceAdjustmentGreen: -24
- LuminanceAdjustmentMagenta: -24
- LuminanceAdjustmentOrange: -53
- LuminanceAdjustmentPurple: -33
- LuminanceAdjustmentRed: 0
- LuminanceAdjustmentYellow: -25
- LuminanceSmoothing: 0
- ParametricDarks: 0
- ParametricHighlightSplit: 75
- ParametricHighlights: +5
- ParametricLights: -23
- ParametricMidtoneSplit: 50
- ParametricShadowSplit: 25
- ParametricShadows: 0
- PostCropVignetteAmount: 0
- RawFileName: P4241190.ORF
- RedHue: 0
- RedSaturation: 0
- Saturation: +8
- SaturationAdjustmentAqua: -22
- SaturationAdjustmentBlue: 0
- SaturationAdjustmentGreen: +7
- SaturationAdjustmentMagenta: +36
- SaturationAdjustmentOrange: -28
- SaturationAdjustmentPurple: +46
- SaturationAdjustmentRed: 0
- SaturationAdjustmentYellow: 0
- ShadowTint: 0
- Shadows: 5
- SharpenDetail: 25
- SharpenEdgeMasking: 0
- SharpenRadius: +1.0
- Sharpness: 47
- SplitToningBalance: 0
- SplitToningHighlightHue: 0
- SplitToningHighlightSaturation: 0
- SplitToningShadowHue: 0
- SplitToningShadowSaturation: 0
- Temperature: 4750
- Tint: +17
- ToneCurve: 0, 0, 32, 22, 64, 56, 128, 128, 192, 196, 255, 255
- ToneCurveName: Medium Contrast
- Version: 5.0
- Vibrance: 0
- VignetteAmount: 0
- WhiteBalance: As Shot
- XMP-dc
- Description: OLYMPUS DIGITAL CAMERA
- Format: image/jpeg
- XMP-exif
- DateTimeDigitized: 2010:04:24 12:16:00.0+2:00
- DateTimeOriginal: 2010:04:24 12:16:00.0+2:00
- ExifImageHeight: 2736
- ExifImageWidth: 3648
- FlashFired: False
- FlashFunction: False
- FlashMode: Auto
- FlashRedEyeMode: False
- FlashReturn: No return detection
- XMP-tiff
- XMP-x
- XMP-xmp
- CreateDate: 2010:04:24 13:16:00+03:00
- CreatorTool: Version 1.3
- ModifyDate: 2010:04:26 08:20:00.0+2:00
- Rating: 0
- XMP-xmpMM
- Просмотров: 480
- Рейтинг: голосов еще нет
- Отзывов: 0