IMG_0811.jpg |
![](img/title-line.gif) |
![](img/title-shadow.gif) | |
IMG_0811.jpg
- Раздел: Город
- Дата съёмки: 07.05.2010 12:39
- Дата загрузки фото: 09.05.2010 16:23
- Оригинальная фотография: 630 x 420 (275 Кб)
- Технические характеристики:
- Фотоаппарат: Canon EOS 450D
- Выдержка: 1/160
- Светочувствительность: 100
- Полный EXIF
- Adobe
- ColorTransform: YCbCr
- Composite
- CircleOfConfusion: 0,003 mm
- ScaleFactor35efl: 11,0
- ShutterSpeed: 1/160
- ExifIFD
- ColorSpace: sRGB
- CreateDate: 2010:05:07 12:39:04
- CustomRendered: Normal
- DateTimeOriginal: 2010:05:07 12:39:04
- ExifImageHeight: 420
- ExifImageWidth: 630
- ExposureCompensation: 0
- ExposureMode: Manual
- ExposureProgram: Manual
- ExposureTime: 1/160
- Flash: Off, Did not fire
- ISO: 100
- MeteringMode: Multi-segment
- SceneCaptureType: Standard
- ShutterSpeedValue: 1/160
- WhiteBalance: Auto
- ICC-header
- ICC-meas
- ICC-view
- IFD0
- Artist: http://hiv-iv.livejournal.com
- BitsPerSample: 8 8 8
- Copyright: Ivan (HiV) Tsyrkunovich
- ImageHeight: 2848
- ImageWidth: 4272
- Make: Canon
- Model: Canon EOS 450D
- ModifyDate: 2010:05:09 15:22:45
- Orientation: Horizontal (normal)
- PhotometricInterpretation: RGB
- SamplesPerPixel: 3
- IFD1
- IPTC
- By-line: http://hiv-iv.livejournal.com
- CopyrightNotice: Ivan (HiV) Tsyrkunovich
- DateCreated: 2010:05:07
- System
- XMP-aux
- Firmware: 1.0.9
- FlashCompensation: 0
- ImageNumber: 0
- OwnerName: Ivan HiV Tsyrkunovich
- SerialNumber: 980397874
- XMP-crs
- AlreadyApplied: True
- BlueHue: 0
- BlueSaturation: 0
- Brightness: +12
- ChromaticAberrationB: +20
- ChromaticAberrationR: -20
- Clarity: +75
- ColorNoiseReduction: 25
- ColorNoiseReductionDetail: 50
- Contrast: +18
- ConvertToGrayscale: False
- Defringe: 0
- Exposure: +0.51
- FillLight: 48
- GradientBasedCorrActive: true
- GradientBasedCorrAmount: 1.000000
- GradientBasedCorrBrightness: 0.000000
- GradientBasedCorrClarity: 0.000000
- GradientBasedCorrContrast: 0.000000
- GradientBasedCorrExposure: -0.250000
- GradientBasedCorrHue: 240.000000
- GradientBasedCorrMaskFullX: 0.490842
- GradientBasedCorrMaskFullY: -0.021950
- GradientBasedCorrMaskValue: 1.000000
- GradientBasedCorrMaskWhat: Mask/Gradient
- GradientBasedCorrMaskZeroX: 0.479853
- GradientBasedCorrMaskZeroY: 0.819512
- GradientBasedCorrSaturation: 0.000000
- GradientBasedCorrSharpness: 0.000000
- GradientBasedCorrWhat: Correction
- GrainAmount: 0
- GreenHue: 0
- GreenSaturation: 0
- HasCrop: False
- HasSettings: True
- HighlightRecovery: 32
- HueAdjustmentAqua: 0
- HueAdjustmentBlue: 0
- HueAdjustmentGreen: 0
- HueAdjustmentMagenta: 0
- HueAdjustmentOrange: 0
- HueAdjustmentPurple: 0
- HueAdjustmentRed: 0
- HueAdjustmentYellow: 0
- LuminanceAdjustmentAqua: 0
- LuminanceAdjustmentBlue: -56
- LuminanceAdjustmentGreen: -26
- LuminanceAdjustmentMagenta: 0
- LuminanceAdjustmentOrange: 0
- LuminanceAdjustmentPurple: 0
- LuminanceAdjustmentRed: 0
- LuminanceAdjustmentYellow: 0
- LuminanceNoiseReductionContrast: 0
- LuminanceNoiseReductionDetail: 50
- LuminanceSmoothing: 17
- ParametricDarks: 0
- ParametricHighlightSplit: 75
- ParametricHighlights: -21
- ParametricLights: +4
- ParametricMidtoneSplit: 50
- ParametricShadowSplit: 25
- ParametricShadows: -13
- PostCropVignetteAmount: 0
- ProcessVersion: 5.7
- RedHue: 0
- RedSaturation: 0
- Saturation: 0
- SaturationAdjustmentAqua: 0
- SaturationAdjustmentBlue: 0
- SaturationAdjustmentGreen: 0
- SaturationAdjustmentMagenta: 0
- SaturationAdjustmentOrange: 0
- SaturationAdjustmentPurple: 0
- SaturationAdjustmentRed: 0
- SaturationAdjustmentYellow: 0
- ShadowTint: 0
- Shadows: 4
- SharpenDetail: 25
- SharpenEdgeMasking: 23
- SharpenRadius: +1.0
- Sharpness: 59
- SplitToningBalance: 0
- SplitToningHighlightHue: 0
- SplitToningHighlightSaturation: 0
- SplitToningShadowHue: 0
- SplitToningShadowSaturation: 0
- Temperature: 6000
- Tint: +6
- ToneCurve: 0, 0, 32, 22, 64, 56, 128, 128, 192, 196, 255, 255
- ToneCurveName: Medium Contrast
- Version: 6.0
- Vibrance: +24
- VignetteAmount: +15
- VignetteMidpoint: 50
- WhiteBalance: Custom
- XMP-dc
- Creator: http://hiv-iv.livejournal.com
- Format: image/jpeg
- Rights: Ivan (HiV) Tsyrkunovich
- XMP-xmp
- CreateDate: 2010:05:07 12:39:04.03+03:00
- ModifyDate: 2010:05:09 15:22:45+03:00
- XMP-xmpMM
Получить код для блога
Вставка фотографии в текущем разрешении |
Вставка миниатюры |
HTML (для вставки в блог):
BBCode (для вставки в форум):
Ссылка на фото:
Ссылка на миниатюру:
- Послать ссылку другу
Комментарии к фотографии |