- Раздел: Другое, разное
- Дата съёмки: 07.05.2010 07:59
- Дата загрузки фото: 09.05.2010 16:46
- Оригинальная фотография: 1500 x 997 (300 Кб)
- Технические характеристики:
- Фотоаппарат: Canon EOS-1D Mark III
- Выдержка: 1/10
- Гиперфокальное расстояние: inf m
- Диафрагма: 7,1
- Светочувствительность: 800
- Фокусное расстояние: 16,0 mm (35 mm equivalent: 48,0 mm)
- Полный EXIF
- Composite
- Aperture: 7,1
- CircleOfConfusion: 0,009 mm
- FOV: 41,0 deg
- FocalLength35efl: 16,0 mm (35 mm equivalent: 48,0 mm)
- HyperfocalDistance: inf m
- ScaleFactor35efl: 3,3
- ShutterSpeed: 1/10
- ExifIFD
- ApertureValue: 7,1
- BrightnessValue: 0
- CreateDate: 2010:05:07 07:59:41
- DateTimeOriginal: 2010:05:07 07:59:41
- ExifImageHeight: 997
- ExifImageWidth: 1500
- ExposureCompensation: 0
- ExposureIndex: 0
- ExposureProgram: Aperture-priority AE
- ExposureTime: 1/10
- FNumber: 7,1
- Flash: No Flash
- FocalLength: 16,0 mm
- ISO: 800
- LightSource: Unknown
- MaxApertureValue: 1,0
- MeteringMode: Multi-segment
- SceneType: Unknown (0)
- SensingMethod: Unknown (0)
- ShutterSpeedValue: 1/10
- SubjectDistance: 0 m
- ICC-header
- ICC-meas
- ICC-view
- IFD0
- Make: Canon
- Model: Canon EOS-1D Mark III
- ModifyDate: 2010:05:09 16:45:20
- Orientation: Horizontal (normal)
- Software: ACD Systems Digital Imaging
- IFD1
- IPTC
- System
- XMP-crs
- AlreadyApplied: True
- BlueHue: +11
- BlueSaturation: -70
- Brightness: 0
- CameraProfile: Embedded
- ChromaticAberrationB: 0
- ChromaticAberrationR: 0
- Clarity: 0
- ColorNoiseReduction: 25
- ColorNoiseReductionDetail: 50
- Contrast: -21
- ConvertToGrayscale: False
- CropAngle: 4.14594
- CropBottom: 1
- CropHeight: 1164
- CropLeft: 0.098251
- CropRight: 0.956513
- CropTop: 0
- CropUnit: pixels
- CropWidth: 1751
- Defringe: 0
- Exposure: -1.00
- FillLight: 0
- GrainAmount: 0
- GreenHue: +11
- GreenSaturation: +25
- HasCrop: True
- HasSettings: True
- HighlightRecovery: 0
- HueAdjustmentAqua: 0
- HueAdjustmentBlue: 0
- HueAdjustmentGreen: 0
- HueAdjustmentMagenta: 0
- HueAdjustmentOrange: 0
- HueAdjustmentPurple: 0
- HueAdjustmentRed: 0
- HueAdjustmentYellow: 0
- IncrementalTemperature: +59
- IncrementalTint: +27
- LuminanceAdjustmentAqua: 0
- LuminanceAdjustmentBlue: 0
- LuminanceAdjustmentGreen: 0
- LuminanceAdjustmentMagenta: 0
- LuminanceAdjustmentOrange: 0
- LuminanceAdjustmentPurple: 0
- LuminanceAdjustmentRed: 0
- LuminanceAdjustmentYellow: 0
- LuminanceSmoothing: 0
- ParametricDarks: -3
- ParametricHighlightSplit: 75
- ParametricHighlights: 0
- ParametricLights: 0
- ParametricMidtoneSplit: 50
- ParametricShadowSplit: 25
- ParametricShadows: -14
- PostCropVignetteAmount: -47
- PostCropVignetteFeather: 50
- PostCropVignetteHighlightContrast: 0
- PostCropVignetteMidpoint: 50
- PostCropVignetteRoundness: 0
- PostCropVignetteStyle: 1
- ProcessVersion: 5.7
- RedHue: +96
- RedSaturation: +3
- Saturation: -71
- SaturationAdjustmentAqua: 0
- SaturationAdjustmentBlue: 0
- SaturationAdjustmentGreen: 0
- SaturationAdjustmentMagenta: 0
- SaturationAdjustmentOrange: 0
- SaturationAdjustmentPurple: 0
- SaturationAdjustmentRed: 0
- SaturationAdjustmentYellow: 0
- ShadowTint: +8
- Shadows: 0
- SharpenDetail: 25
- SharpenEdgeMasking: 0
- SharpenRadius: +1.0
- Sharpness: 25
- SplitToningBalance: 0
- SplitToningHighlightHue: 0
- SplitToningHighlightSaturation: 0
- SplitToningShadowHue: 0
- SplitToningShadowSaturation: 0
- ToneCurve: 0, 0, 255, 255
- ToneCurveName: Linear
- Version: 6.0
- Vibrance: 0
- VignetteAmount: -61
- VignetteMidpoint: 34
- WhiteBalance: Custom
- XMP-dc
- XMP-exif
- DateTimeDigitized: 2010:05:07 07:59:41.0+3:00
- DateTimeOriginal: 2010:05:07 07:59:41.0+3:00
- ExifImageHeight: 1164
- ExifImageWidth: 1751
- FlashFired: False
- FlashFunction: False
- FlashMode: Unknown
- FlashRedEyeMode: False
- FlashReturn: No return detection
- XMP-tiff
- ImageHeight: 1164
- ImageWidth: 1751
- XMP-x
- XMP-xmp
- CreateDate: 2010:05:07 08:59:41+04:00
- ModifyDate: 2010:05:09 15:44:09.0+3:00