- Раздел: Путешествия
- Дата съёмки: 01.10.2008 16:50
- Дата загрузки фото: 12.05.2010 11:30
- Оригинальная фотография: 1600 x 1071 (832 Кб)
- Технические характеристики:
- Фотоаппарат: Pentax K200D
- Выдержка: 1/160
- Гиперфокальное расстояние: inf m
- Диафрагма: 5,6
- Светочувствительность: 100
- Фокусное расстояние: 90,0 mm (35 mm equivalent: 90,0 mm)
- Полный EXIF
- Adobe
- ColorTransform: YCbCr
- Composite
- Aperture: 5,6
- CircleOfConfusion: 0,020 mm
- FOV: 22,0 deg
- FocalLength35efl: 90,0 mm (35 mm equivalent: 90,0 mm)
- HyperfocalDistance: inf m
- ScaleFactor35efl: 1,5
- ShutterSpeed: 1/160
- ExifIFD
- ApertureValue: 5,6
- Contrast: High
- CreateDate: 2008:10:01 16:50:09
- CustomRendered: Normal
- DateTimeOriginal: 2008:10:01 16:50:09
- ExposureCompensation: 0
- ExposureMode: Manual
- ExposureProgram: Manual
- ExposureTime: 1/160
- FNumber: 5,6
- Flash: Off, Did not fire
- FocalLength: 90,0 mm
- FocalLengthIn35mmFormat: 135 mm
- ISO: 100
- MeteringMode: Spot
- Saturation: High
- SceneCaptureType: Standard
- SensingMethod: One-chip color area
- Sharpness: Hard
- ShutterSpeedValue: 1/160
- SubjectDistanceRange: Distant
- WhiteBalance: Auto
- ICC-header
- ICC-meas
- ICC-view
- IFD0
- Copyright: Copyrighted
- Make: PENTAX Corporation
- Model: PENTAX K200D
- ModifyDate: 2010:05:12 10:13:42
- Software: K200D Ver 1.00
- IFD1
- IPTC
- CopyrightNotice: Copyrighted
- System
- XMP-aux
- Lens: smc PENTAX-FA 24-90mm F3.5-4.5 AL[IF]
- LensID: 4 34
- LensInfo: 240/10 900/10 35/10 45/10
- XMP-crs
- AlreadyApplied: True
- BlueHue: 0
- BlueSaturation: 0
- Brightness: +85
- CameraProfile: Embedded
- ChromaticAberrationB: 0
- ChromaticAberrationR: 0
- Clarity: +40
- ColorNoiseReduction: 10
- Contrast: +85
- ConvertToGrayscale: False
- CropAngle: -0.574836
- CropBottom: 0.846469
- CropHeight: 1071
- CropLeft: 0.004075
- CropRight: 0.854101
- CropTop: 0.014766
- CropUnit: pixels
- CropWidth: 1600
- Defringe: 0
- Exposure: 0.00
- FillLight: 0
- GreenHue: 0
- GreenSaturation: 0
- HasCrop: True
- HasSettings: True
- HighlightRecovery: 5
- HueAdjustmentAqua: +5
- HueAdjustmentBlue: +5
- HueAdjustmentGreen: +5
- HueAdjustmentMagenta: 0
- HueAdjustmentOrange: 0
- HueAdjustmentPurple: 0
- HueAdjustmentRed: 0
- HueAdjustmentYellow: 0
- LuminanceAdjustmentAqua: 0
- LuminanceAdjustmentBlue: -10
- LuminanceAdjustmentGreen: +5
- LuminanceAdjustmentMagenta: 0
- LuminanceAdjustmentOrange: 0
- LuminanceAdjustmentPurple: 0
- LuminanceAdjustmentRed: 0
- LuminanceAdjustmentYellow: 0
- LuminanceSmoothing: 0
- ParametricDarks: 0
- ParametricHighlightSplit: 75
- ParametricHighlights: +38
- ParametricLights: +12
- ParametricMidtoneSplit: 50
- ParametricShadowSplit: 25
- ParametricShadows: 0
- PostCropVignetteAmount: 0
- RedHue: 0
- RedSaturation: 0
- Saturation: +2
- SaturationAdjustmentAqua: 0
- SaturationAdjustmentBlue: 0
- SaturationAdjustmentGreen: +15
- SaturationAdjustmentMagenta: 0
- SaturationAdjustmentOrange: 0
- SaturationAdjustmentPurple: 0
- SaturationAdjustmentRed: 0
- SaturationAdjustmentYellow: +5
- ShadowTint: 0
- Shadows: 6
- SharpenDetail: 70
- SharpenEdgeMasking: 0
- SharpenRadius: +1.5
- Sharpness: 70
- SplitToningBalance: 0
- SplitToningHighlightHue: 0
- SplitToningHighlightSaturation: 0
- SplitToningShadowHue: 0
- SplitToningShadowSaturation: 0
- Temperature: 6750
- Tint: +115
- ToneCurve: 0, 0, 32, 22, 64, 56, 128, 128, 192, 196, 255, 255
- ToneCurveName: Medium Contrast
- Version: 5.4
- Vibrance: +15
- VignetteAmount: 0
- WhiteBalance: As Shot
- XMP-dc
- XMP-exif
- DateTimeDigitized: 2008:10:01 16:50:09+03:00
- DateTimeOriginal: 2008:10:01 16:50:09+03:00
- ExifImageHeight: 1071
- ExifImageWidth: 1600
- FlashFired: False
- FlashFunction: False
- FlashMode: Off
- FlashRedEyeMode: False
- FlashReturn: No return detection
- XMP-tiff
- ImageHeight: 1071
- ImageWidth: 1600
- XMP-xmp
- CreateDate: 2008:10:01 16:50:09+03:00
- ModifyDate: 2010:05:12 10:13:42+03:00
- XMP-xmpRights
- Marked: True
- UsageTerms: for private use only
- Просмотров: 239
- Рейтинг: голосов еще нет
- Отзывов: 0