- Раздел: Отдых, развлечения
- Дата съёмки: 21.04.2009 13:33
- Дата загрузки фото: 22.05.2010 02:04
- Оригинальная фотография: 2649 x 2736 (2,9 Мб)
- Технические характеристики:
- Фотоаппарат: Nikon COOLPIX P80
- Выдержка: 1/25
- Гиперфокальное расстояние: inf m
- Диафрагма: 2,8
- Светочувствительность: 400
- Фокусное расстояние: 4,0 mm (35 mm equivalent: 24,0 mm)
- Полный EXIF
- Adobe
- ColorTransform: YCbCr
- Composite
- Aperture: 2,8
- CircleOfConfusion: 0,004 mm
- FOV: 73,0 deg
- FocalLength35efl: 4,0 mm (35 mm equivalent: 24,0 mm)
- HyperfocalDistance: inf m
- ScaleFactor35efl: 6,8
- ShutterSpeed: 1/25
- ExifIFD
- ApertureValue: 2,8
- Contrast: Normal
- CreateDate: 2009:04:21 13:33:37
- CustomRendered: Normal
- DateTimeOriginal: 2009:04:21 13:33:37
- DigitalZoomRatio: 0
- ExposureCompensation: 0
- ExposureMode: Auto
- ExposureProgram: Program AE
- ExposureTime: 1/25
- FNumber: 2,8
- Flash: Auto, Fired, Red-eye reduction
- FocalLength: 4,7 mm
- FocalLengthIn35mmFormat: 27 mm
- GainControl: High gain up
- ISO: 400
- LightSource: Unknown
- MaxApertureValue: 2,8
- MeteringMode: Multi-segment
- Saturation: Normal
- SceneCaptureType: Standard
- SceneType: Directly photographed
- Sharpness: Normal
- ShutterSpeedValue: 1/25
- SubjectDistanceRange: Unknown
- WhiteBalance: Auto
- ICC-header
- ICC-meas
- ICC-view
- IFD0
- Artist: Genady Chenkin
- Copyright: (C)2009 {Genady Chenkin}, all rights reserved
- Make: NIKON
- Model: COOLPIX P80
- ModifyDate: 2009:04:22 08:59:12
- IFD1
- IPTC
- By-line: Genady Chenkin
- CopyrightNotice: Genady Chenkin
- Sub-location: Warminster, PA
- System
- XMP-crs
- AlreadyApplied: True
- BlueHue: 0
- BlueSaturation: 0
- Brightness: 0
- CameraProfile: Embedded
- ChromaticAberrationB: -100
- ChromaticAberrationR: -100
- Clarity: 0
- ColorNoiseReduction: 58
- Contrast: 0
- ConvertToGrayscale: False
- CropAngle: 0
- CropBottom: 1
- CropHeight: 2736
- CropLeft: 0.158559
- CropRight: 0.884685
- CropTop: 0
- CropUnit: pixels
- CropWidth: 2649
- Defringe: 0
- Exposure: 0.00
- FillLight: 0
- GradientBasedCorrActive: true
- GradientBasedCorrAmount: 1.000000
- GradientBasedCorrBrightness: -0.100000
- GradientBasedCorrClarity: 0.000000
- GradientBasedCorrContrast: 0.000000
- GradientBasedCorrExposure: -0.450000
- GradientBasedCorrHue: 3.000000
- GradientBasedCorrMaskFullX: 0.542638
- GradientBasedCorrMaskFullY: 0.906673
- GradientBasedCorrMaskValue: 1.000000
- GradientBasedCorrMaskWhat: Mask/Gradient
- GradientBasedCorrMaskZeroX: 0.541332
- GradientBasedCorrMaskZeroY: 0.468689
- GradientBasedCorrSaturation: 0.290000
- GradientBasedCorrSharpness: 0.000000
- GradientBasedCorrWhat: Correction
- GreenHue: 0
- GreenSaturation: 0
- HasCrop: True
- HasSettings: True
- HighlightRecovery: 49
- HueAdjustmentAqua: 0
- HueAdjustmentBlue: 0
- HueAdjustmentGreen: 0
- HueAdjustmentMagenta: 0
- HueAdjustmentOrange: 0
- HueAdjustmentPurple: 0
- HueAdjustmentRed: 0
- HueAdjustmentYellow: 0
- IncrementalTemperature: 0
- IncrementalTint: 0
- LuminanceAdjustmentAqua: 0
- LuminanceAdjustmentBlue: 0
- LuminanceAdjustmentGreen: 0
- LuminanceAdjustmentMagenta: 0
- LuminanceAdjustmentOrange: 0
- LuminanceAdjustmentPurple: 0
- LuminanceAdjustmentRed: 0
- LuminanceAdjustmentYellow: 0
- LuminanceSmoothing: 57
- ParametricDarks: 0
- ParametricHighlightSplit: 75
- ParametricHighlights: +36
- ParametricLights: 0
- ParametricMidtoneSplit: 50
- ParametricShadowSplit: 25
- ParametricShadows: 0
- PostCropVignetteAmount: 0
- RedHue: 0
- RedSaturation: 0
- Saturation: 0
- SaturationAdjustmentAqua: 0
- SaturationAdjustmentBlue: 0
- SaturationAdjustmentGreen: 0
- SaturationAdjustmentMagenta: 0
- SaturationAdjustmentOrange: 0
- SaturationAdjustmentPurple: 0
- SaturationAdjustmentRed: 0
- SaturationAdjustmentYellow: 0
- ShadowTint: 0
- Shadows: 0
- SharpenDetail: 0
- SharpenEdgeMasking: 0
- SharpenRadius: +2.2
- Sharpness: 29
- SplitToningBalance: 0
- SplitToningHighlightHue: 0
- SplitToningHighlightSaturation: 0
- SplitToningShadowHue: 0
- SplitToningShadowSaturation: 0
- ToneCurve: 0, 0, 255, 255
- ToneCurveName: Linear
- Version: 5.3
- Vibrance: 0
- VignetteAmount: 0
- WhiteBalance: As Shot
- XMP-crss
- SavedSettingsName: Import
- SavedSettingsParametersBlueHue: 0
- SavedSettingsParametersBlueSaturation: 0
- SavedSettingsParametersBrightness: 0
- SavedSettingsParametersCameraProfile: Embedded
- SavedSettingsParametersChromaticAberrationB: 0
- SavedSettingsParametersChromaticAberrationR: 0
- SavedSettingsParametersClarity: 0
- SavedSettingsParametersColorNoiseReduction: 0
- SavedSettingsParametersContrast: 0
- SavedSettingsParametersConvertToGrayscale: False
- SavedSettingsParametersDefringe: 0
- SavedSettingsParametersExposure: 0.00
- SavedSettingsParametersFillLight: 0
- SavedSettingsParametersGreenHue: 0
- SavedSettingsParametersGreenSaturation: 0
- SavedSettingsParametersHighlightRecovery: 0
- SavedSettingsParametersHueAdjustmentAqua: 0
- SavedSettingsParametersHueAdjustmentBlue: 0
- SavedSettingsParametersHueAdjustmentGreen: 0
- SavedSettingsParametersHueAdjustmentMagenta: 0
- SavedSettingsParametersHueAdjustmentOrange: 0
- SavedSettingsParametersHueAdjustmentPurple: 0
- SavedSettingsParametersHueAdjustmentRed: 0
- SavedSettingsParametersHueAdjustmentYellow: 0
- SavedSettingsParametersIncrementalTemperature: 0
- SavedSettingsParametersIncrementalTint: 0
- SavedSettingsParametersLuminanceAdjustmentAqua: 0
- SavedSettingsParametersLuminanceAdjustmentBlue: 0
- SavedSettingsParametersLuminanceAdjustmentGreen: 0
- SavedSettingsParametersLuminanceAdjustmentMagenta: 0
- SavedSettingsParametersLuminanceAdjustmentOrange: 0
- SavedSettingsParametersLuminanceAdjustmentPurple: 0
- SavedSettingsParametersLuminanceAdjustmentRed: 0
- SavedSettingsParametersLuminanceAdjustmentYellow: 0
- SavedSettingsParametersLuminanceSmoothing: 0
- SavedSettingsParametersParametricDarks: 0
- SavedSettingsParametersParametricHighlightSplit: 75
- SavedSettingsParametersParametricHighlights: 0
- SavedSettingsParametersParametricLights: 0
- SavedSettingsParametersParametricMidtoneSplit: 50
- SavedSettingsParametersParametricShadowSplit: 25
- SavedSettingsParametersParametricShadows: 0
- SavedSettingsParametersPostCropVignetteAmount: 0
- SavedSettingsParametersRedHue: 0
- SavedSettingsParametersRedSaturation: 0
- SavedSettingsParametersSaturation: 0
- SavedSettingsParametersSaturationAdjustmentAqua: 0
- SavedSettingsParametersSaturationAdjustmentBlue: 0
- SavedSettingsParametersSaturationAdjustmentGreen: 0
- SavedSettingsParametersSaturationAdjustmentMagenta: 0
- SavedSettingsParametersSaturationAdjustmentOrange: 0
- SavedSettingsParametersSaturationAdjustmentPurple: 0
- SavedSettingsParametersSaturationAdjustmentRed: 0
- SavedSettingsParametersSaturationAdjustmentYellow: 0
- SavedSettingsParametersShadowTint: 0
- SavedSettingsParametersShadows: 0
- SavedSettingsParametersSharpenDetail: 25
- SavedSettingsParametersSharpenEdgeMasking: 0
- SavedSettingsParametersSharpenRadius: +1.0
- SavedSettingsParametersSharpness: 0
- SavedSettingsParametersSplitToningBalance: 0
- SavedSettingsParametersSplitToningHighlightHue: 0
- SavedSettingsParametersSplitToningHighlightSaturation: 0
- SavedSettingsParametersSplitToningShadowHue: 0
- SavedSettingsParametersSplitToningShadowSaturation: 0
- SavedSettingsParametersToneCurve: 0, 0, 255, 255
- SavedSettingsParametersToneCurveName: Linear
- SavedSettingsParametersVersion: 5.4
- SavedSettingsParametersVibrance: 0
- SavedSettingsParametersVignetteAmount: 0
- SavedSettingsParametersWhiteBalance: As Shot
- SavedSettingsType: Snapshot
- XMP-dc
- Creator: Genady Chenkin
- Rights: Genady Chenkin
- XMP-exif
- DateTimeDigitized: 2009:04:21 13:33:37-04:00
- DateTimeOriginal: 2009:04:21 13:33:37-04:00
- ExifImageHeight: 2736
- ExifImageWidth: 2649
- FlashFired: True
- FlashFunction: False
- FlashMode: Auto
- FlashRedEyeMode: True
- FlashReturn: No return detection
- XMP-iptcCore
- CreatorCity: Warminster
- CreatorRegion: PA
- Location: Warminster, PA
- XMP-microsoft
- XMP-tiff
- ImageHeight: 2736
- ImageWidth: 2649
- Orientation: Horizontal (normal)
- XMP-xmp
- CreateDate: 2009:04:21 13:33:37-04:00
- ModifyDate: 2009:04:22 08:59:12-04:00
- XMP-xmpRights
- Marked: True
- UsageTerms: For consideration only, no reproduction without prior permission