- Раздел: Город
- Дата съёмки: 21.05.2010 10:56
- Дата загрузки фото: 24.05.2010 10:58
- Оригинальная фотография: 1400 x 930 (448 Кб)
- Технические характеристики:
- Фотоаппарат: Nikon D5000
- Выдержка: 1/1000
- Гиперфокальное расстояние: inf m
- Диафрагма: 8,0
- Светочувствительность: 200
- Фокусное расстояние: 200,0 mm (35 mm equivalent: 200,0 mm)
- Полный EXIF
- Composite
- Aperture: 8,0
- CircleOfConfusion: 0,020 mm
- FOV: 10,0 deg
- FocalLength35efl: 200,0 mm (35 mm equivalent: 200,0 mm)
- HyperfocalDistance: inf m
- ScaleFactor35efl: 1,5
- ShutterSpeed: 1/1000
- ExifIFD
- ApertureValue: 8,0
- CFAPattern: [Green,Blue][Red,Green]
- Contrast: Normal
- CreateDate: 2010:05:21 10:56:55
- CustomRendered: Normal
- DateTimeOriginal: 2010:05:21 10:56:55
- DigitalZoomRatio: 1
- ExifImageHeight: 930
- ExifImageWidth: 1400
- ExposureCompensation: 0
- ExposureMode: Auto
- ExposureProgram: Not Defined
- ExposureTime: 1/1000
- FNumber: 8,0
- Flash: Auto, Did not fire
- FocalLength: 200,0 mm
- FocalLengthIn35mmFormat: 300 mm
- GainControl: None
- ISO: 200
- LightSource: Unknown
- MaxApertureValue: 5,7
- MeteringMode: Multi-segment
- Saturation: Normal
- SceneCaptureType: Standard
- SceneType: Directly photographed
- SensingMethod: One-chip color area
- Sharpness: Normal
- ShutterSpeedValue: 1/1000
- SubjectDistanceRange: Unknown
- WhiteBalance: Auto
- ICC-header
- ICC-meas
- ICC-view
- IFD0
- Make: NIKON CORPORATION
- Model: NIKON D5000
- ModifyDate: 2010:05:24 00:47:33
- Orientation: Horizontal (normal)
- Software: ACD Systems Digital Imaging
- IFD1
- System
- XMP-aux
- ImageNumber: 8593
- Lens: 55.0-200.0 mm f/4.0-5.6
- LensInfo: 550/10 2000/10 40/10 56/10
- SerialNumber: 6294075
- XMP-crs
- AlreadyApplied: True
- BlueHue: 0
- BlueSaturation: +15
- Brightness: +10
- ChromaticAberrationB: 0
- ChromaticAberrationR: 0
- Clarity: +5
- ColorNoiseReduction: 33
- Contrast: +20
- ConvertToGrayscale: False
- CropAngle: 0
- CropBottom: 0.959725
- CropHeight: 2619
- CropLeft: 0.040275
- CropRight: 0.959725
- CropTop: 0.040275
- CropUnit: pixels
- CropWidth: 3943
- Defringe: 2
- Exposure: +0.50
- FillLight: 0
- GreenHue: 0
- GreenSaturation: +10
- HasCrop: True
- HasSettings: True
- HighlightRecovery: 0
- HueAdjustmentAqua: 0
- HueAdjustmentBlue: 0
- HueAdjustmentGreen: 0
- HueAdjustmentMagenta: 0
- HueAdjustmentOrange: 0
- HueAdjustmentPurple: 0
- HueAdjustmentRed: 0
- HueAdjustmentYellow: 0
- LuminanceAdjustmentAqua: 0
- LuminanceAdjustmentBlue: 0
- LuminanceAdjustmentGreen: 0
- LuminanceAdjustmentMagenta: 0
- LuminanceAdjustmentOrange: 0
- LuminanceAdjustmentPurple: 0
- LuminanceAdjustmentRed: 0
- LuminanceAdjustmentYellow: 0
- LuminanceSmoothing: 32
- ParametricDarks: 0
- ParametricHighlightSplit: 75
- ParametricHighlights: 0
- ParametricLights: 0
- ParametricMidtoneSplit: 50
- ParametricShadowSplit: 25
- ParametricShadows: +30
- PostCropVignetteAmount: 0
- RedHue: 0
- RedSaturation: +15
- Saturation: 0
- SaturationAdjustmentAqua: 0
- SaturationAdjustmentBlue: 0
- SaturationAdjustmentGreen: 0
- SaturationAdjustmentMagenta: 0
- SaturationAdjustmentOrange: 0
- SaturationAdjustmentPurple: 0
- SaturationAdjustmentRed: 0
- SaturationAdjustmentYellow: 0
- ShadowTint: 0
- Shadows: 15
- SharpenDetail: 54
- SharpenEdgeMasking: 22
- SharpenRadius: +1.0
- Sharpness: 82
- SplitToningBalance: 0
- SplitToningHighlightHue: 0
- SplitToningHighlightSaturation: 0
- SplitToningShadowHue: 0
- SplitToningShadowSaturation: 0
- Temperature: 5200
- Tint: 0
- ToneCurve: 0, 0, 32, 22, 64, 56, 128, 128, 192, 196, 255, 255
- ToneCurveName: Medium Contrast
- Version: 5.4
- Vibrance: 0
- VignetteAmount: +25
- VignetteMidpoint: 50
- WhiteBalance: Custom
- XMP-exif
- DateTimeDigitized: 2010:05:21 10:56:55.00+04:00
- DateTimeOriginal: 2010:05:21 10:56:55.00+04:00
- ExifImageHeight: 2619
- ExifImageWidth: 3943
- ExposureProgram: Unknown (0)
- FlashFired: False
- FlashFunction: False
- FlashMode: Auto
- FlashRedEyeMode: False
- FlashReturn: No return detection
- XMP-tiff
- ImageHeight: 2619
- ImageWidth: 3943
- XMP-xmp
- CreateDate: 2010:05:21 10:56:55.00+04:00
- ModifyDate: 2010:05:24 00:26:17+04:00