- Раздел: Животные
- Дата съёмки: 23.05.2010 16:30
- Дата загрузки фото: 24.05.2010 12:19
- Оригинальная фотография: 2244 x 2592 (774 Кб)
- Технические характеристики:
- Фотоаппарат: Sony DSLR-A300
- Выдержка: 1/320
- Гиперфокальное расстояние: inf m
- Диафрагма: 5,6
- Светочувствительность: 100
- Фокусное расстояние: 100,0 mm (35 mm equivalent: 100,0 mm)
- Экспокоррекция: +0,3
- Полный EXIF
- Adobe
- ColorTransform: YCbCr
- Composite
- Aperture: 5,6
- CircleOfConfusion: 0,020 mm
- FOV: 20,0 deg
- FocalLength35efl: 100,0 mm (35 mm equivalent: 100,0 mm)
- HyperfocalDistance: inf m
- ScaleFactor35efl: 1,5
- ShutterSpeed: 1/320
- ExifIFD
- ApertureValue: 5,6
- BrightnessValue: 8,75
- Contrast: Normal
- CreateDate: 2010:05:23 16:30:42
- CustomRendered: Normal
- DateTimeOriginal: 2010:05:23 16:30:42
- ExposureCompensation: +0,3
- ExposureMode: Auto
- ExposureProgram: Aperture-priority AE
- ExposureTime: 1/320
- FNumber: 5,6
- Flash: Off, Did not fire
- FocalLength: 100,0 mm
- FocalLengthIn35mmFormat: 150 mm
- ISO: 100
- LightSource: Unknown
- MaxApertureValue: 2,8
- MeteringMode: Multi-segment
- Saturation: Normal
- SceneCaptureType: Standard
- SceneType: Directly photographed
- Sharpness: Normal
- ShutterSpeedValue: 1/320
- WhiteBalance: Auto
- ICC-header
- IFD0
- ImageDescription: SONY DSC
- Make: SONY
- Model: DSLR-A300
- ModifyDate: 2010:05:24 13:44:14
- Software: DSLR-A300 v1.00
- IPTC
- Caption-Abstract: SONY DSC
- System
- XMP-crs
- AlreadyApplied: True
- BlueHue: 0
- BlueSaturation: 0
- Brightness: +26
- CameraProfile: ACR 4.4
- ChromaticAberrationB: 0
- ChromaticAberrationR: 0
- Clarity: +13
- ColorNoiseReduction: 25
- Contrast: +30
- ConvertToGrayscale: False
- CropAngle: 0
- CropBottom: 1
- CropLeft: 0
- CropRight: 0.579493
- CropTop: 0
- Defringe: 0
- Exposure: 0.00
- FillLight: 0
- GreenHue: 0
- GreenSaturation: 0
- HasCrop: True
- HasSettings: True
- HighlightRecovery: 24
- HueAdjustmentAqua: 0
- HueAdjustmentBlue: 0
- HueAdjustmentGreen: 0
- HueAdjustmentMagenta: 0
- HueAdjustmentOrange: 0
- HueAdjustmentPurple: 0
- HueAdjustmentRed: 0
- HueAdjustmentYellow: 0
- LuminanceAdjustmentAqua: 0
- LuminanceAdjustmentBlue: 0
- LuminanceAdjustmentGreen: 0
- LuminanceAdjustmentMagenta: 0
- LuminanceAdjustmentOrange: 0
- LuminanceAdjustmentPurple: 0
- LuminanceAdjustmentRed: 0
- LuminanceAdjustmentYellow: 0
- LuminanceSmoothing: 0
- ParametricDarks: 0
- ParametricHighlightSplit: 75
- ParametricHighlights: 0
- ParametricLights: 0
- ParametricMidtoneSplit: 50
- ParametricShadowSplit: 25
- ParametricShadows: 0
- PostCropVignetteAmount: 0
- RawFileName: DSC06423.ARW
- RedHue: 0
- RedSaturation: 0
- Saturation: 0
- SaturationAdjustmentAqua: 0
- SaturationAdjustmentBlue: 0
- SaturationAdjustmentGreen: 0
- SaturationAdjustmentMagenta: 0
- SaturationAdjustmentOrange: 0
- SaturationAdjustmentPurple: 0
- SaturationAdjustmentRed: 0
- SaturationAdjustmentYellow: 0
- ShadowTint: 0
- Shadows: 10
- SharpenDetail: 61
- SharpenEdgeMasking: 0
- SharpenRadius: +1.0
- Sharpness: 48
- SplitToningBalance: 0
- SplitToningHighlightHue: 0
- SplitToningHighlightSaturation: 0
- SplitToningShadowHue: 0
- SplitToningShadowSaturation: 0
- Temperature: 5000
- Tint: +5
- ToneCurve: 0, 0, 32, 22, 64, 56, 128, 128, 192, 196, 255, 255
- ToneCurveName: Medium Contrast
- Version: 5.0
- Vibrance: 0
- VignetteAmount: 0
- WhiteBalance: As Shot
- XMP-dc
- XMP-exif
- DateTimeDigitized: 2010:05:23 16:30:42+07:00
- DateTimeOriginal: 2010:05:23 16:30:42+07:00
- ExifImageHeight: 2592
- ExifImageWidth: 2244
- FlashFired: False
- FlashFunction: False
- FlashMode: Off
- FlashRedEyeMode: False
- FlashReturn: No return detection
- XMP-tiff
- ImageHeight: 2592
- ImageWidth: 2244
- XMP-xmp
- CreateDate: 2010:05:23 16:30:42+07:00
- CreatorTool: DSLR-A300 v1.00
- ModifyDate: 2010:05:24 13:44:14+07:00
- Просмотров: 262
- Рейтинг: голосов еще нет
- Отзывов: 0