Troki -3.jpg |
Troki -3.jpg
- Раздел: Путешествия
- Дата съёмки: 17.05.2010 05:06
- Дата загрузки фото: 26.05.2010 09:26
- Оригинальная фотография: 1600 x 1071 (508 Кб)
- Технические характеристики:
- Фотоаппарат: Pentax K10D
- Выдержка: 1/45
- Гиперфокальное расстояние: inf m
- Диафрагма: 4,5
- Светочувствительность: 100
- Фокусное расстояние: 40,0 mm (35 mm equivalent: 40,0 mm)
- Полный EXIF
- Adobe
- ColorTransform: YCbCr
- Composite
- Aperture: 4,5
- CircleOfConfusion: 0,020 mm
- FOV: 48,0 deg
- FocalLength35efl: 40,0 mm (35 mm equivalent: 40,0 mm)
- HyperfocalDistance: inf m
- ScaleFactor35efl: 1,5
- ShutterSpeed: 1/45
- ExifIFD
- ApertureValue: 4,5
- Contrast: Low
- CreateDate: 2010:05:17 05:06:32
- CustomRendered: Normal
- DateTimeOriginal: 2010:05:17 05:06:32
- ExposureCompensation: 0
- ExposureMode: Manual
- ExposureProgram: Manual
- ExposureTime: 1/45
- FNumber: 4,5
- Flash: Off, Did not fire
- FocalLength: 40,0 mm
- FocalLengthIn35mmFormat: 60 mm
- ISO: 100
- MeteringMode: Multi-segment
- Saturation: Normal
- SceneCaptureType: Standard
- SensingMethod: One-chip color area
- Sharpness: Normal
- ShutterSpeedValue: 1/45
- SubjectDistanceRange: Distant
- WhiteBalance: Auto
- ICC-header
- ICC-meas
- ICC-view
- IFD0
- Artist: Balashevich Viachaslau
- Copyright: Copyrighted
- Make: PENTAX Corporation
- Model: PENTAX K10D
- ModifyDate: 2009:05:25 22:03:36
- Software: K10D Ver 1.30
- IFD1
- IPTC
- By-line: Balashevich Viachaslau
- CopyrightNotice: Copyrighted
- System
- XMP-aux
- Lens: smc PENTAX-DA 40mm F2.8 Limited
- LensID: 4 251
- LensInfo: 400/10 400/10 28/10 28/10
- XMP-crs
- AlreadyApplied: True
- BlueHue: 0
- BlueSaturation: 0
- Brightness: +5
- ChromaticAberrationB: 0
- ChromaticAberrationR: 0
- Clarity: +40
- ColorNoiseReduction: 25
- Contrast: +20
- ConvertToGrayscale: False
- CropAngle: 0.548339
- CropBottom: 1
- CropHeight: 1071
- CropLeft: 0.010206
- CropRight: 0.989794
- CropTop: 0
- CropUnit: pixels
- CropWidth: 1600
- Defringe: 0
- Exposure: +1.15
- FillLight: 17
- GradientBasedCorrActive: true
- GradientBasedCorrAmount: 1.000000
- GradientBasedCorrBrightness: -0.100000
- GradientBasedCorrClarity: 0.000000
- GradientBasedCorrContrast: 0.000000
- GradientBasedCorrExposure: -0.050000
- GradientBasedCorrHue: 229.000000
- GradientBasedCorrMaskFullX: 0.306969
- GradientBasedCorrMaskFullY: 0.363230
- GradientBasedCorrMaskValue: 1.000000
- GradientBasedCorrMaskWhat: Mask/Gradient
- GradientBasedCorrMaskZeroX: 0.305915
- GradientBasedCorrMaskZeroY: 0.524862
- GradientBasedCorrSaturation: 0.360000
- GradientBasedCorrSharpness: 0.000000
- GradientBasedCorrWhat: Correction
- GreenHue: 0
- GreenSaturation: 0
- HasCrop: True
- HasSettings: True
- HighlightRecovery: 10
- HueAdjustmentAqua: 0
- HueAdjustmentBlue: 0
- HueAdjustmentGreen: 0
- HueAdjustmentMagenta: 0
- HueAdjustmentOrange: 0
- HueAdjustmentPurple: 0
- HueAdjustmentRed: 0
- HueAdjustmentYellow: 0
- LuminanceAdjustmentAqua: -45
- LuminanceAdjustmentBlue: -14
- LuminanceAdjustmentGreen: +88
- LuminanceAdjustmentMagenta: 0
- LuminanceAdjustmentOrange: 0
- LuminanceAdjustmentPurple: 0
- LuminanceAdjustmentRed: 0
- LuminanceAdjustmentYellow: 0
- LuminanceSmoothing: 0
- ParametricDarks: -20
- ParametricHighlightSplit: 75
- ParametricHighlights: +60
- ParametricLights: +10
- ParametricMidtoneSplit: 50
- ParametricShadowSplit: 25
- ParametricShadows: -60
- PostCropVignetteAmount: 0
- RedHue: 0
- RedSaturation: 0
- Saturation: -5
- SaturationAdjustmentAqua: +50
- SaturationAdjustmentBlue: +58
- SaturationAdjustmentGreen: +10
- SaturationAdjustmentMagenta: 0
- SaturationAdjustmentOrange: +13
- SaturationAdjustmentPurple: +23
- SaturationAdjustmentRed: 0
- SaturationAdjustmentYellow: +23
- ShadowTint: 0
- Shadows: 0
- SharpenDetail: 25
- SharpenEdgeMasking: 0
- SharpenRadius: +1.0
- Sharpness: 25
- SplitToningBalance: 0
- SplitToningHighlightHue: 0
- SplitToningHighlightSaturation: 0
- SplitToningShadowHue: 0
- SplitToningShadowSaturation: 0
- Temperature: 5450
- Tint: -4
- ToneCurve: 0, 0, 255, 255
- ToneCurveName: Linear
- Version: 5.4
- Vibrance: +60
- VignetteAmount: 0
- WhiteBalance: As Shot
- XMP-dc
- Creator: Balashevich Viachaslau
- Rights: Copyrighted
- XMP-exif
- DateTimeDigitized: 2010:05:17 05:06:32+03:00
- DateTimeOriginal: 2010:05:17 05:06:32+03:00
- ExifImageHeight: 1071
- ExifImageWidth: 1600
- FlashFired: False
- FlashFunction: False
- FlashMode: Off
- FlashRedEyeMode: False
- FlashReturn: No return detection
- XMP-iptcCore
- CreatorCity: Miensk
- CreatorCountry: Niezaliezhnaja Respublika Mroja
- CreatorWorkEmail: fotomail@tut.by
- XMP-tiff
- ImageHeight: 1071
- ImageWidth: 1600
- XMP-xmp
- CreateDate: 2010:05:17 05:06:32+03:00
- ModifyDate: 2009:05:25 22:03:36+03:00
- XMP-xmpRights
- Marked: True
- UsageTerms: for private use only
Получить код для блога
Вставка фотографии в текущем разрешении |
Вставка миниатюры |
HTML (для вставки в блог):
BBCode (для вставки в форум):
Ссылка на фото:
Ссылка на миниатюру:
- Послать ссылку другу
Комментарии к фотографии |