- Раздел: Отдых, развлечения
- Дата съёмки: 20.05.2010 20:22
- Дата загрузки фото: 02.06.2010 19:57
- Оригинальная фотография: 1473 x 1148 (1,2 Мб)
- Технические характеристики:
- Фотоаппарат: неизвестно
- Выдержка: 1/8000
- Гиперфокальное расстояние: inf m
- Диафрагма: 5,0
- Светочувствительность: 400
- Фокусное расстояние: 70,0 mm (35 mm equivalent: 70,0 mm)
- Полный EXIF
- Adobe
- ColorTransform: YCbCr
- Composite
- Aperture: 5,0
- CircleOfConfusion: 0,030 mm
- FOV: 28,0 deg
- FocalLength35efl: 70,0 mm (35 mm equivalent: 70,0 mm)
- HyperfocalDistance: inf m
- ScaleFactor35efl: 1,0
- ShutterSpeed: 1/8000
- ExifIFD
- ApertureValue: 5,0
- CFAPattern: [Red,Green][Green,Blue]
- Contrast: Normal
- CreateDate: 2010:05:20 20:22:36
- CustomRendered: Normal
- DateTimeOriginal: 2010:05:20 20:22:36
- DigitalZoomRatio: 1
- ExposureCompensation: 0
- ExposureMode: Auto
- ExposureProgram: Aperture-priority AE
- ExposureTime: 1/8000
- FNumber: 5,0
- Flash: No Flash
- FocalLength: 70,0 mm
- FocalLengthIn35mmFormat: 70 mm
- GainControl: Low gain up
- ISO: 400
- LightSource: Unknown
- MaxApertureValue: 2,8
- MeteringMode: Spot
- Saturation: Normal
- SceneCaptureType: Standard
- SceneType: Directly photographed
- SensingMethod: One-chip color area
- Sharpness: Normal
- ShutterSpeedValue: 1/8000
- SubjectDistanceRange: Unknown
- WhiteBalance: Auto
- ICC-header
- ICC-meas
- ICC-view
- IFD0
- ModifyDate: 2010:05:24 11:23:45
- Software: Ver.1.02
- System
- XMP-aux
- ImageNumber: 15427
- Lens: 24.0-70.0 mm f/2.8
- LensInfo: 240/10 700/10 28/10 28/10
- SerialNumber: 2036828
- XMP-crs
- AlreadyApplied: True
- BlueHue: 0
- BlueSaturation: 0
- Brightness: +50
- ChromaticAberrationB: 0
- ChromaticAberrationR: 0
- Clarity: 0
- ColorNoiseReduction: 25
- Contrast: +25
- ConvertToGrayscale: False
- CropAngle: 0
- CropBottom: 0.770435
- CropHeight: 1148
- CropLeft: 0.359954
- CropRight: 0.706019
- CropTop: 0.365217
- CropUnit: pixels
- CropWidth: 1473
- Defringe: 0
- Exposure: +0.67
- FillLight: 15
- GreenHue: 0
- GreenSaturation: 0
- HasCrop: True
- HasSettings: True
- HighlightRecovery: 0
- HueAdjustmentAqua: 0
- HueAdjustmentBlue: 0
- HueAdjustmentGreen: 0
- HueAdjustmentMagenta: 0
- HueAdjustmentOrange: 0
- HueAdjustmentPurple: 0
- HueAdjustmentRed: 0
- HueAdjustmentYellow: 0
- LuminanceAdjustmentAqua: 0
- LuminanceAdjustmentBlue: 0
- LuminanceAdjustmentGreen: 0
- LuminanceAdjustmentMagenta: 0
- LuminanceAdjustmentOrange: 0
- LuminanceAdjustmentPurple: 0
- LuminanceAdjustmentRed: 0
- LuminanceAdjustmentYellow: 0
- LuminanceSmoothing: 0
- ParametricDarks: 0
- ParametricHighlightSplit: 75
- ParametricHighlights: 0
- ParametricLights: 0
- ParametricMidtoneSplit: 50
- ParametricShadowSplit: 25
- ParametricShadows: 0
- PostCropVignetteAmount: 0
- RedHue: 0
- RedSaturation: 0
- Saturation: 0
- SaturationAdjustmentAqua: 0
- SaturationAdjustmentBlue: 0
- SaturationAdjustmentGreen: 0
- SaturationAdjustmentMagenta: 0
- SaturationAdjustmentOrange: 0
- SaturationAdjustmentPurple: 0
- SaturationAdjustmentRed: 0
- SaturationAdjustmentYellow: 0
- ShadowTint: 0
- Shadows: 5
- SharpenDetail: 25
- SharpenEdgeMasking: 0
- SharpenRadius: +1.0
- Sharpness: 25
- SplitToningBalance: 0
- SplitToningHighlightHue: 0
- SplitToningHighlightSaturation: 0
- SplitToningShadowHue: 0
- SplitToningShadowSaturation: 0
- Temperature: 4350
- Tint: -6
- ToneCurve: 0, 0, 32, 22, 64, 56, 128, 128, 192, 196, 255, 255
- ToneCurveName: Medium Contrast
- Version: 5.2
- Vibrance: 0
- VignetteAmount: 0
- WhiteBalance: As Shot
- XMP-exif
- DateTimeDigitized: 2010:05:20 20:22:36.20+04:00
- DateTimeOriginal: 2010:05:20 20:22:36.20+04:00
- ExifImageHeight: 1148
- ExifImageWidth: 1473
- FlashFired: False
- FlashFunction: False
- FlashMode: Unknown
- FlashRedEyeMode: False
- FlashReturn: No return detection
- XMP-tiff
- ImageHeight: 1148
- ImageWidth: 1473
- XMP-xmp
- CreateDate: 2010:05:20 20:22:36.20+04:00
- ModifyDate: 2010:05:24 11:23:45+04:00
- Просмотров: 283
- Рейтинг: голосов еще нет
- Отзывов: 0