- Раздел: Животные
- Дата съёмки: 24.05.2009 12:18
- Дата загрузки фото: 02.06.2010 20:18
- Оригинальная фотография: 1280 x 869 (235 Кб)
- Технические характеристики:
- Фотоаппарат: Canon EOS 450D
- Выдержка: 1/1000
- Гиперфокальное расстояние: inf m
- Диафрагма: 9,0
- Светочувствительность: 400
- Фокусное расстояние: 400,0 mm (35 mm equivalent: 2000,0 mm)
- Экспокоррекция: +2/3
- Полный EXIF
- Adobe
- ColorTransform: YCbCr
- Composite
- Aperture: 9,0
- CircleOfConfusion: 0,006 mm
- FOV: 1,0 deg
- FocalLength35efl: 400,0 mm (35 mm equivalent: 2000,0 mm)
- GPSAltitude: 165 m Above Sea Level
- GPSDateTime: 2009:05:24 08:18:33Z
- GPSLatitude: 55 deg 50' 9,00" N
- GPSLatitudeRef: North
- GPSLongitude: 30 deg 21' 12,00" E
- GPSLongitudeRef: East
- GPSPosition: 55 deg 50' 9,00" N, 30 deg 21' 12,00" E
- HyperfocalDistance: inf m
- ScaleFactor35efl: 5,4
- ShutterSpeed: 1/1000
- ExifIFD
- ApertureValue: 9,0
- ColorSpace: Uncalibrated
- CreateDate: 2009:05:24 12:18:33
- CustomRendered: Normal
- DateTimeOriginal: 2009:05:24 12:18:33
- ExifImageHeight: 869
- ExifImageWidth: 1280
- ExposureCompensation: +2/3
- ExposureMode: Auto
- ExposureProgram: Aperture-priority AE
- ExposureTime: 1/1000
- FNumber: 9,0
- Flash: Off, Did not fire
- FocalLength: 400,0 mm
- ISO: 400
- MaxApertureValue: 5,7
- MeteringMode: Spot
- SceneCaptureType: Standard
- ShutterSpeedValue: 1/1000
- WhiteBalance: Auto
- GPS
- GPSAltitude: 165 m
- GPSAltitudeRef: Above Sea Level
- GPSDateStamp: 2009:05:24
- GPSLatitude: 55 deg 50' 9,00"
- GPSLongitude: 30 deg 21' 12,00"
- GPSMapDatum: WGS-84
- GPSSatellites: 0
- GPSTimeStamp: 08:18:33
- GPSVersionID: 2.2.0.0
- IFD0
- Artist: Roman Alexandrov
- BitsPerSample: 16 16 16
- ImageHeight: 2740
- ImageWidth: 3654
- Make: Canon
- Model: Canon EOS 450D
- ModifyDate: 2009:09:06 00:24:17
- Orientation: Horizontal (normal)
- PhotometricInterpretation: RGB
- PlanarConfiguration: Chunky
- SamplesPerPixel: 3
- IFD1
- IPTC
- By-line: Roman Alexandrov
- Country-PrimaryLocationCode: BLR
- Country-PrimaryLocationName: Áåëà ðóñü
- Province-State: Vitsyebskaya Voblasts?
- Sub-location: Prudok
- System
- XMP-aux
- Firmware: 1.1.0
- FlashCompensation: 0
- ImageNumber: 0
- Lens: 120-400mm
- LensInfo: 120/1 400/1 0/0 0/0
- OwnerName: Roman Alexandrov
- SerialNumber: 530105153
- XMP-crs
- AlreadyApplied: True
- BlueHue: 0
- BlueSaturation: 0
- Brightness: +50
- CameraProfile: Camera Landscape
- ChromaticAberrationB: 0
- ChromaticAberrationR: 0
- Clarity: 0
- ColorNoiseReduction: 69
- Contrast: +25
- ConvertToGrayscale: False
- CropAngle: 0
- CropBottom: 0.962193
- CropHeight: 4
- CropLeft: 0.094711
- CropRight: 0.949994
- CropTop: 0
- CropUnit: Unknown (3)
- CropWidth: 3
- Defringe: 0
- Exposure: +0.55
- FillLight: 5
- GreenHue: 0
- GreenSaturation: 0
- HasCrop: True
- HasSettings: True
- HighlightRecovery: 18
- HueAdjustmentAqua: 0
- HueAdjustmentBlue: 0
- HueAdjustmentGreen: 0
- HueAdjustmentMagenta: 0
- HueAdjustmentOrange: 0
- HueAdjustmentPurple: 0
- HueAdjustmentRed: 0
- HueAdjustmentYellow: 0
- LuminanceAdjustmentAqua: 0
- LuminanceAdjustmentBlue: 0
- LuminanceAdjustmentGreen: 0
- LuminanceAdjustmentMagenta: 0
- LuminanceAdjustmentOrange: 0
- LuminanceAdjustmentPurple: 0
- LuminanceAdjustmentRed: 0
- LuminanceAdjustmentYellow: 0
- LuminanceSmoothing: 0
- ParametricDarks: 0
- ParametricHighlightSplit: 75
- ParametricHighlights: 0
- ParametricLights: 0
- ParametricMidtoneSplit: 50
- ParametricShadowSplit: 25
- ParametricShadows: 0
- PostCropVignetteAmount: 0
- RawFileName: 2009-05-24 12-18-33.CR2
- RedHue: 0
- RedSaturation: 0
- Saturation: 0
- SaturationAdjustmentAqua: 0
- SaturationAdjustmentBlue: 0
- SaturationAdjustmentGreen: 0
- SaturationAdjustmentMagenta: 0
- SaturationAdjustmentOrange: 0
- SaturationAdjustmentPurple: 0
- SaturationAdjustmentRed: 0
- SaturationAdjustmentYellow: 0
- ShadowTint: 0
- Shadows: 3
- SharpenDetail: 25
- SharpenEdgeMasking: 0
- SharpenRadius: +1.0
- Sharpness: 0
- SplitToningBalance: 0
- SplitToningHighlightHue: 0
- SplitToningHighlightSaturation: 0
- SplitToningShadowHue: 0
- SplitToningShadowSaturation: 0
- Temperature: 4650
- Tint: +2
- ToneCurve: 0, 0, 32, 22, 64, 56, 128, 128, 192, 196, 255, 255
- ToneCurveName: Medium Contrast
- Version: 5.3
- Vibrance: +32
- VignetteAmount: 0
- WhiteBalance: As Shot
- XMP-dc
- Creator: Roman Alexandrov
- Format: image/jpeg
- XMP-exif
- DateTimeDigitized: 2009:05:24 12:18:33.21+04:00
- DateTimeOriginal: 2009:05:24 12:18:33.21+04:00
- FlashFired: False
- FlashFunction: False
- FlashMode: Off
- FlashRedEyeMode: False
- FlashReturn: No return detection
- GPSLatitude: 55 deg 50' 9,86" N
- GPSLongitude: 30 deg 21' 12,80" E
- XMP-iptcCore
- CountryCode: BLR
- Location: Prudok
- XMP-tiff
- BitsPerSample: 8, 8, 8
- ImageHeight: 869
- ImageWidth: 1280
- XMP-x
- XMP-xmp
- CreateDate: 2009:05:24 12:18:33.21+04:00
- ModifyDate: 2009:09:06 00:24:17+04:00
- Rating: 0
- XMP-xmpMM