- Раздел: Животные
- Дата съёмки: 28.06.2009 21:11
- Дата загрузки фото: 02.06.2010 20:20
- Оригинальная фотография: 1280 x 716 (438 Кб)
- Технические характеристики:
- Фотоаппарат: Canon EOS 450D
- Выдержка: 1/200
- Гиперфокальное расстояние: inf m
- Диафрагма: 6,3
- Светочувствительность: 250
- Фокусное расстояние: 200,0 mm (35 mm equivalent: 1000,0 mm)
- Экспокоррекция: -2/3
- Полный EXIF
- Adobe
- ColorTransform: YCbCr
- Composite
- Aperture: 6,3
- CircleOfConfusion: 0,005 mm
- FOV: 2,0 deg
- FocalLength35efl: 200,0 mm (35 mm equivalent: 1000,0 mm)
- GPSAltitude: 13 m Above Sea Level
- GPSDateTime: 2009:06:28 17:11:46Z
- GPSLatitude: 59 deg 51' 32,00" N
- GPSLatitudeRef: North
- GPSLongitude: 30 deg 24' 5,00" E
- GPSLongitudeRef: East
- GPSPosition: 59 deg 51' 32,00" N, 30 deg 24' 5,00" E
- HyperfocalDistance: inf m
- ScaleFactor35efl: 5,7
- ShutterSpeed: 1/200
- ExifIFD
- ApertureValue: 6,3
- ColorSpace: sRGB
- CreateDate: 2009:06:28 21:11:46
- CustomRendered: Normal
- DateTimeOriginal: 2009:06:28 21:11:46
- ExifImageHeight: 716
- ExifImageWidth: 1280
- ExposureCompensation: -2/3
- ExposureMode: Auto
- ExposureProgram: Aperture-priority AE
- ExposureTime: 1/200
- FNumber: 6,3
- Flash: Off, Did not fire
- FocalLength: 200,0 mm
- ISO: 250
- MaxApertureValue: 6,2
- MeteringMode: Multi-segment
- SceneCaptureType: Standard
- ShutterSpeedValue: 1/200
- WhiteBalance: Auto
- GPS
- GPSAltitude: 13 m
- GPSAltitudeRef: Above Sea Level
- GPSDateStamp: 2009:06:28
- GPSLatitude: 59 deg 51' 32,00"
- GPSLongitude: 30 deg 24' 5,00"
- GPSMapDatum: WGS-84
- GPSSatellites: 0
- GPSTimeStamp: 17:11:46
- GPSVersionID: 2.2.0.0
- ICC-header
- ICC-meas
- ICC-view
- IFD0
- Artist: Roman Alexandrov
- BitsPerSample: 16 16 16
- ImageHeight: 1988
- ImageWidth: 3750
- Make: Canon
- Model: Canon EOS 450D
- ModifyDate: 2009:07:01 02:05:02
- Orientation: Horizontal (normal)
- PhotometricInterpretation: RGB
- PlanarConfiguration: Chunky
- SamplesPerPixel: 3
- IFD1
- IPTC
- By-line: Roman Alexandrov
- City: Sankt-Peterburg
- Country-PrimaryLocationCode: RUS
- Country-PrimaryLocationName: Ðîññèÿ
- DateCreated: 2009:06:28
- Province-State: Sankt-Peterburg
- ReleaseDate: 2009:07:01
- ReleaseTime: 01:55:58+04:00
- Sub-location: Ryleyevo
- System
- XMP-aux
- Firmware: 1.1.0
- FlashCompensation: 0
- ImageNumber: 0
- Lens: 18-200mm
- LensInfo: 18/1 200/1 0/0 0/0
- OwnerName: Roman Alexandrov
- SerialNumber: 530105153
- XMP-crs
- AlreadyApplied: True
- BlueHue: 0
- BlueSaturation: 0
- Brightness: +50
- CameraProfile: Camera Neutral
- ChromaticAberrationB: 0
- ChromaticAberrationR: 0
- Clarity: 0
- ColorNoiseReduction: 25
- Contrast: +25
- ConvertToGrayscale: False
- CropAngle: 0
- CropBottom: 0.718799
- CropLeft: 0
- CropRight: 0.889661
- CropTop: 0.00158
- Defringe: 2
- Exposure: 0.00
- FillLight: 21
- GreenHue: 0
- GreenSaturation: 0
- HasCrop: True
- HasSettings: True
- HighlightRecovery: 67
- HueAdjustmentAqua: 0
- HueAdjustmentBlue: 0
- HueAdjustmentGreen: 0
- HueAdjustmentMagenta: 0
- HueAdjustmentOrange: 0
- HueAdjustmentPurple: 0
- HueAdjustmentRed: 0
- HueAdjustmentYellow: 0
- LuminanceAdjustmentAqua: 0
- LuminanceAdjustmentBlue: 0
- LuminanceAdjustmentGreen: 0
- LuminanceAdjustmentMagenta: 0
- LuminanceAdjustmentOrange: 0
- LuminanceAdjustmentPurple: 0
- LuminanceAdjustmentRed: 0
- LuminanceAdjustmentYellow: 0
- LuminanceSmoothing: 0
- ParametricDarks: +13
- ParametricHighlightSplit: 75
- ParametricHighlights: -16
- ParametricLights: 0
- ParametricMidtoneSplit: 50
- ParametricShadowSplit: 25
- ParametricShadows: 0
- PostCropVignetteAmount: 0
- RawFileName: 2009-06-28 21-11-46.CR2
- RedHue: 0
- RedSaturation: 0
- Saturation: 0
- SaturationAdjustmentAqua: 0
- SaturationAdjustmentBlue: 0
- SaturationAdjustmentGreen: +27
- SaturationAdjustmentMagenta: 0
- SaturationAdjustmentOrange: +9
- SaturationAdjustmentPurple: 0
- SaturationAdjustmentRed: 0
- SaturationAdjustmentYellow: +13
- ShadowTint: 0
- Shadows: 5
- SharpenDetail: 25
- SharpenEdgeMasking: 0
- SharpenRadius: +1.0
- Sharpness: 25
- SplitToningBalance: 0
- SplitToningHighlightHue: 0
- SplitToningHighlightSaturation: 0
- SplitToningShadowHue: 0
- SplitToningShadowSaturation: 0
- Temperature: 4750
- Tint: +33
- ToneCurve: 0, 0, 32, 22, 64, 56, 128, 128, 192, 196, 255, 255
- ToneCurveName: Medium Contrast
- Version: 5.3
- Vibrance: +24
- VignetteAmount: 0
- WhiteBalance: Custom
- XMP-dc
- Creator: Roman Alexandrov
- Format: image/jpeg
- XMP-exif
- DateTimeDigitized: 2009:06:28 21:11:46+04:00
- DateTimeOriginal: 2009:06:28 21:11:46+04:00
- FlashFired: False
- FlashFunction: False
- FlashMode: Off
- FlashRedEyeMode: False
- FlashReturn: No return detection
- GPSDateTime: 2009:06:28 17:11:46+04:00
- GPSLatitude: 59 deg 51' 32,75" N
- GPSLongitude: 30 deg 24' 5,62" E
- XMP-iptcCore
- CountryCode: RUS
- CreatorCity: Saint-Petersburg
- CreatorCountry: Russia
- CreatorWorkEmail: arv1971@gmail.com
- CreatorWorkURL: http://aleksandroff.spb.ru
- Location: Ryleyevo
- XMP-tiff
- BitsPerSample: 8, 8, 8
- ImageHeight: 636
- ImageWidth: 1200
- XMP-xmp
- CreateDate: 2009:06:28 21:11:46.78+04:00
- ModifyDate: 2009:07:01 02:05:02+04:00
- Rating: 0
- XMP-xmpMM
- Просмотров: 530
- Рейтинг: голосов еще нет
- Отзывов: 0