- Раздел: Животные
- Дата съёмки: 25.09.2009 18:50
- Дата загрузки фото: 02.06.2010 20:20
- Оригинальная фотография: 1024 x 768 ( 88 Кб)
- Технические характеристики:
- Фотоаппарат: Canon EOS 450D
- Выдержка: 1/1000
- Гиперфокальное расстояние: inf m
- Диафрагма: 11,0
- Светочувствительность: 800
- Фокусное расстояние: 400,0 mm (35 mm equivalent: 2400,0 mm)
- Полный EXIF
- Adobe
- ColorTransform: YCbCr
- Composite
- Aperture: 11,0
- CircleOfConfusion: 0,005 mm
- FOV: 0,0 deg
- FocalLength35efl: 400,0 mm (35 mm equivalent: 2400,0 mm)
- GPSAltitude: 22 m Above Sea Level
- GPSDateTime: 2009:09:25 14:50:20Z
- GPSLatitude: 60 deg 35' 41,00" N
- GPSLatitudeRef: North
- GPSLongitude: 29 deg 26' 42,00" E
- GPSLongitudeRef: East
- GPSPosition: 60 deg 35' 41,00" N, 29 deg 26' 42,00" E
- HyperfocalDistance: inf m
- ScaleFactor35efl: 6,5
- ShutterSpeed: 1/1000
- ExifIFD
- ApertureValue: 11,0
- ColorSpace: Uncalibrated
- CreateDate: 2009:09:25 18:50:20
- CustomRendered: Normal
- DateTimeOriginal: 2009:09:25 18:50:20
- ExifImageHeight: 768
- ExifImageWidth: 1024
- ExposureCompensation: 0
- ExposureMode: Auto
- ExposureProgram: Program AE
- ExposureTime: 1/1000
- FNumber: 11,0
- Flash: Off, Did not fire
- FocalLength: 400,0 mm
- ISO: 800
- MaxApertureValue: 5,7
- MeteringMode: Multi-segment
- SceneCaptureType: Standard
- ShutterSpeedValue: 1/1000
- WhiteBalance: Auto
- GPS
- GPSAltitude: 22 m
- GPSAltitudeRef: Above Sea Level
- GPSDateStamp: 2009:09:25
- GPSLatitude: 60 deg 35' 41,00"
- GPSLongitude: 29 deg 26' 42,00"
- GPSMapDatum: WGS-84
- GPSSatellites: 0
- GPSSpeed: 3,074319983
- GPSSpeedRef: km/h
- GPSTimeStamp: 14:50:20
- GPSVersionID: 2.2.0.0
- IFD0
- Artist: Roman Alexandrov
- BitsPerSample: 16 16 16
- ImageHeight: 1804
- ImageWidth: 2406
- Make: Canon
- Model: Canon EOS 450D
- ModifyDate: 2009:10:01 00:01:20
- Orientation: Horizontal (normal)
- PhotometricInterpretation: RGB
- PlanarConfiguration: Chunky
- SamplesPerPixel: 3
- IFD1
- IPTC
- By-line: Roman Alexandrov
- City: ÊÐÀÑÍÎÑÅËÜÑÊÎÅ
- Country-PrimaryLocationCode: RUS
- Country-PrimaryLocationName: Ðîññèÿ
- Province-State: ËÅÍÈÍÃÐÀÄÑÊÀß ÎÁËÀÑÒÜ
- Sub-location: Klimovo
- System
- XMP-aux
- Firmware: 1.1.0
- FlashCompensation: 0
- ImageNumber: 0
- Lens: 120-400mm
- LensInfo: 120/1 400/1 0/0 0/0
- OwnerName: Roman Alexandrov
- SerialNumber: 530105153
- XMP-crs
- AlreadyApplied: True
- BlueHue: 0
- BlueSaturation: 0
- Brightness: +50
- CameraProfile: Camera Faithful
- ChromaticAberrationB: 0
- ChromaticAberrationR: 0
- Clarity: 0
- ColorNoiseReduction: 65
- Contrast: +25
- ConvertToGrayscale: False
- CropAngle: 0
- CropBottom: 0.695103
- CropHeight: 4
- CropLeft: 0.200211
- CropRight: 0.763314
- CropTop: 0.061611
- CropUnit: Unknown (3)
- CropWidth: 3
- Defringe: 2
- Exposure: +0.90
- FillLight: 19
- GreenHue: 0
- GreenSaturation: 0
- HasCrop: True
- HasSettings: True
- HighlightRecovery: 33
- HueAdjustmentAqua: 0
- HueAdjustmentBlue: 0
- HueAdjustmentGreen: 0
- HueAdjustmentMagenta: 0
- HueAdjustmentOrange: 0
- HueAdjustmentPurple: 0
- HueAdjustmentRed: 0
- HueAdjustmentYellow: 0
- LuminanceAdjustmentAqua: 0
- LuminanceAdjustmentBlue: 0
- LuminanceAdjustmentGreen: 0
- LuminanceAdjustmentMagenta: 0
- LuminanceAdjustmentOrange: 0
- LuminanceAdjustmentPurple: 0
- LuminanceAdjustmentRed: 0
- LuminanceAdjustmentYellow: 0
- LuminanceSmoothing: 63
- ParametricDarks: 0
- ParametricHighlightSplit: 75
- ParametricHighlights: 0
- ParametricLights: 0
- ParametricMidtoneSplit: 50
- ParametricShadowSplit: 25
- ParametricShadows: 0
- PostCropVignetteAmount: 0
- RawFileName: 2009-09-25 18-50-20 (2).CR2
- RedHue: 0
- RedSaturation: 0
- Saturation: 0
- SaturationAdjustmentAqua: 0
- SaturationAdjustmentBlue: 0
- SaturationAdjustmentGreen: 0
- SaturationAdjustmentMagenta: 0
- SaturationAdjustmentOrange: 0
- SaturationAdjustmentPurple: 0
- SaturationAdjustmentRed: 0
- SaturationAdjustmentYellow: 0
- ShadowTint: 0
- Shadows: 5
- SharpenDetail: 18
- SharpenEdgeMasking: 4
- SharpenRadius: +1.5
- Sharpness: 60
- SplitToningBalance: 0
- SplitToningHighlightHue: 0
- SplitToningHighlightSaturation: 0
- SplitToningShadowHue: 0
- SplitToningShadowSaturation: 0
- Temperature: 5450
- Tint: +16
- ToneCurve: 0, 0, 32, 22, 64, 56, 128, 128, 192, 196, 255, 255
- ToneCurveName: Medium Contrast
- Version: 5.5
- Vibrance: 0
- VignetteAmount: 0
- WhiteBalance: As Shot
- XMP-dc
- Creator: Roman Alexandrov
- Format: image/jpeg
- XMP-exif
- DateTimeDigitized: 2009:09:25 18:50:20.32+04:00
- DateTimeOriginal: 2009:09:25 18:50:20.32+04:00
- FlashFired: False
- FlashFunction: False
- FlashMode: Off
- FlashRedEyeMode: False
- FlashReturn: No return detection
- GPSLatitude: 60 deg 35' 41,26" N
- GPSLongitude: 29 deg 26' 42,93" E
- GPSSpeed: 3,07431998286571
- XMP-iptcCore
- CountryCode: RUS
- Location: Klimovo
- XMP-tiff
- BitsPerSample: 8, 8, 8
- ImageHeight: 768
- ImageWidth: 1024
- XMP-x
- XMP-xmp
- CreateDate: 2009:09:25 18:50:20.32+04:00
- ModifyDate: 2009:10:01 00:01:20+04:00
- XMP-xmpMM
- Просмотров: 557
- Рейтинг: голосов еще нет
- Отзывов: 0