- Раздел: Семья, личное
- Дата съёмки: 03.06.2010 16:42
- Дата загрузки фото: 04.06.2010 22:56
- Оригинальная фотография: 1066 x 1600 (556 Кб)
- Технические характеристики:
- Фотоаппарат: Canon EOS 5D Mark II
- Выдержка: 1/320
- Гиперфокальное расстояние: inf m
- Диафрагма: 4,5
- Светочувствительность: 100
- Фокусное расстояние: 105,0 mm (35 mm equivalent: 315,0 mm)
- Экспокоррекция: +1/3
- Полный EXIF
- Adobe
- ColorTransform: YCbCr
- Composite
- Aperture: 4,5
- CircleOfConfusion: 0,009 mm
- DOF: inf (0,00 m - inf)
- FOV: 6,0 deg
- FocalLength35efl: 105,0 mm (35 mm equivalent: 315,0 mm)
- HyperfocalDistance: inf m
- ScaleFactor35efl: 3,4
- ShutterSpeed: 1/320
- ExifIFD
- ApertureValue: 4,5
- ColorSpace: Uncalibrated
- CreateDate: 2010:06:03 16:42:36
- CustomRendered: Normal
- DateTimeOriginal: 2010:06:03 16:42:36
- ExifImageHeight: 1600
- ExifImageWidth: 1066
- ExposureCompensation: +1/3
- ExposureMode: Auto
- ExposureProgram: Aperture-priority AE
- ExposureTime: 1/320
- FNumber: 4,5
- Flash: Off, Did not fire
- FocalLength: 105,0 mm
- ISO: 100
- MaxApertureValue: 4,0
- MeteringMode: Multi-segment
- SceneCaptureType: Standard
- ShutterSpeedValue: 1/320
- SubjectDistance: 4,47 m
- WhiteBalance: Auto
- ICC-header
- IFD0
- Artist: Михаил Вихерт
- BitsPerSample: 8 8 8
- Copyright: Михаил Вихерт
- ImageHeight: 4435
- ImageWidth: 2956
- Make: Canon
- Model: Canon EOS 5D Mark II
- ModifyDate: 2010:06:04 22:54:52
- Orientation: Horizontal (normal)
- PhotometricInterpretation: RGB
- PlanarConfiguration: Chunky
- SamplesPerPixel: 3
- IFD1
- IPTC
- By-line: Ìèõà èë Âèõåðò
- CopyrightNotice: Ìèõà èë Âèõåðò
- Keywords: ГІГ ГГї
- System
- XMP-aux
- Firmware: 1.2.4
- FlashCompensation: 0
- ImageNumber: 0
- Lens: EF24-105mm f/4L IS USM
- LensID: 237
- LensInfo: 24/1 105/1 0/0 0/0
- OwnerName: Mihail A Vikhert
- SerialNumber: 1431023485
- XMP-crs
- AlreadyApplied: True
- BlueHue: -100
- BlueSaturation: +5
- Brightness: +46
- ChromaticAberrationB: 0
- ChromaticAberrationR: 0
- Clarity: 0
- ColorNoiseReduction: 25
- Contrast: -12
- ConvertToGrayscale: False
- CropAngle: -2.28317
- CropBottom: 0.805191
- CropHeight: 2956
- CropLeft: 0.189582
- CropRight: 0.99957
- CropTop: 0.063361
- CropUnit: pixels
- CropWidth: 4435
- Defringe: 0
- Exposure: +1.15
- FillLight: 0
- GreenHue: +43
- GreenSaturation: +100
- HasCrop: True
- HasSettings: True
- HighlightRecovery: 0
- HueAdjustmentAqua: 0
- HueAdjustmentBlue: 0
- HueAdjustmentGreen: 0
- HueAdjustmentMagenta: 0
- HueAdjustmentOrange: 0
- HueAdjustmentPurple: 0
- HueAdjustmentRed: 0
- HueAdjustmentYellow: 0
- LuminanceAdjustmentAqua: 0
- LuminanceAdjustmentBlue: 0
- LuminanceAdjustmentGreen: 0
- LuminanceAdjustmentMagenta: 0
- LuminanceAdjustmentOrange: 0
- LuminanceAdjustmentPurple: 0
- LuminanceAdjustmentRed: 0
- LuminanceAdjustmentYellow: 0
- LuminanceSmoothing: 0
- ParametricDarks: -3
- ParametricHighlightSplit: 75
- ParametricHighlights: 0
- ParametricLights: 0
- ParametricMidtoneSplit: 50
- ParametricShadowSplit: 25
- ParametricShadows: -14
- PostCropVignetteAmount: 0
- RedHue: +100
- RedSaturation: -25
- Saturation: -100
- SaturationAdjustmentAqua: 0
- SaturationAdjustmentBlue: 0
- SaturationAdjustmentGreen: 0
- SaturationAdjustmentMagenta: 0
- SaturationAdjustmentOrange: 0
- SaturationAdjustmentPurple: 0
- SaturationAdjustmentRed: 0
- SaturationAdjustmentYellow: 0
- ShadowTint: -56
- Shadows: 10
- SharpenDetail: 50
- SharpenEdgeMasking: 0
- SharpenRadius: +1.0
- Sharpness: 25
- SplitToningBalance: 0
- SplitToningHighlightHue: 0
- SplitToningHighlightSaturation: 0
- SplitToningShadowHue: 0
- SplitToningShadowSaturation: 0
- Temperature: 4400
- Tint: -74
- ToneCurve: 0, 0, 255, 255
- ToneCurveName: Linear
- Version: 5.6
- Vibrance: 0
- VignetteAmount: 0
- WhiteBalance: Custom
- XMP-dc
- Creator: Михаил Вихерт
- Format: image/jpeg
- Rights: Михаил Вихерт
- Subject: таня
- XMP-exif
- DateTimeDigitized: 2010:06:03 16:42:36.70+04:00
- DateTimeOriginal: 2010:06:03 16:42:36.70+04:00
- FlashFired: False
- FlashFunction: False
- FlashMode: Off
- FlashRedEyeMode: False
- FlashReturn: No return detection
- XMP-iptcCore
- CreatorWorkTelephone: +7 905 707 33 55
- CreatorWorkURL: www.desent.ru
- XMP-lr
- HierarchicalSubject: таня
- XMP-tiff
- BitsPerSample: 8, 8, 8
- XMP-xmp
- CreateDate: 2010:06:03 16:42:36.70+04:00
- ModifyDate: 2010:06:04 22:54:52+04:00
- XMP-xmpMM
- XMP-xmpRights
- Marked: True
- WebStatement: 89057073355