» Участники » proba1 » Золотое Кольцо » Владимир. Успенский собор. |
Владимир. Успенский собор. |
Владимир. Успенский собор.
Исторически, до возвышения Москвы, был главным (кафедральным) храмом Владимиро-Суздальской Руси.
- Раздел: Путешествия
- Дата съёмки: 10.07.2009 14:33
- Дата загрузки фото: 09.06.2010 01:09
- Оригинальная фотография: 2714 x 3619 (7,7 Мб)
- Технические характеристики:
- Фотоаппарат: LEICA V-LUX 1
- Выдержка: 1/1000
- Диафрагма: 4,0
- Светочувствительность: 100
- Фокусное расстояние: 7,0 mm
- Полный EXIF
- Adobe
- ColorTransform: YCbCr
- Composite
- Aperture: 4,0
- FocalLength35efl: 7,0 mm
- ShutterSpeed: 1/1000
- ExifIFD
- ApertureValue: 4,0
- ColorSpace: Uncalibrated
- CreateDate: 2009:07:10 14:33:26
- DateTimeOriginal: 2009:07:10 14:33:26
- ExifImageHeight: 3619
- ExifImageWidth: 2714
- ExposureCompensation: 0
- ExposureProgram: Aperture-priority AE
- ExposureTime: 1/1000
- FNumber: 4,0
- Flash: Off, Did not fire
- FocalLength: 7,4 mm
- ISO: 100
- MaxApertureValue: 2,8
- MeteringMode: Multi-segment
- ShutterSpeedValue: 1/1000
- IFD0
- Make: LEICA
- Model: V-LUX 1
- ModifyDate: 2010:06:09 00:59:27
- Orientation: Horizontal (normal)
- IFD1
- IPTC
- DateCreated: 2009:07:10
- System
- XMP-crs
- AlreadyApplied: True
- BlueHue: 0
- BlueSaturation: 0
- Brightness: +7
- ChromaticAberrationB: +20
- ChromaticAberrationR: -20
- Clarity: 0
- ColorNoiseReduction: 0
- Contrast: +50
- ConvertToGrayscale: False
- CropAngle: 0
- CropBottom: 0.996039
- CropConstrainToWarp: 1
- CropLeft: 0.002189
- CropRight: 0.994268
- CropTop: 0.003961
- Defringe: 0
- Exposure: +0.65
- FillLight: 70
- GrainAmount: 0
- GreenHue: 0
- GreenSaturation: 0
- HasCrop: True
- HasSettings: True
- HighlightRecovery: 0
- HueAdjustmentAqua: 0
- HueAdjustmentBlue: 0
- HueAdjustmentGreen: 0
- HueAdjustmentMagenta: 0
- HueAdjustmentOrange: 0
- HueAdjustmentPurple: 0
- HueAdjustmentRed: 0
- HueAdjustmentYellow: 0
- LensManualDistortionAmount: 0
- LensProfileEnable: 0
- LensProfileSetup: LensDefaults
- LuminanceAdjustmentAqua: 0
- LuminanceAdjustmentBlue: 0
- LuminanceAdjustmentGreen: 0
- LuminanceAdjustmentMagenta: 0
- LuminanceAdjustmentOrange: 0
- LuminanceAdjustmentPurple: 0
- LuminanceAdjustmentRed: 0
- LuminanceAdjustmentYellow: 0
- LuminanceSmoothing: 0
- ParametricDarks: 0
- ParametricHighlightSplit: 75
- ParametricHighlights: 0
- ParametricLights: 0
- ParametricMidtoneSplit: 50
- ParametricShadowSplit: 25
- ParametricShadows: 0
- PerspectiveHorizontal: -6
- PerspectiveRotate: 0.0
- PerspectiveScale: 103
- PerspectiveVertical: 0
- PostCropVignetteAmount: 0
- ProcessVersion: 5.7
- RawFileName: L1090160.RAW
- RedHue: 0
- RedSaturation: 0
- Saturation: -10
- SaturationAdjustmentAqua: 0
- SaturationAdjustmentBlue: 0
- SaturationAdjustmentGreen: 0
- SaturationAdjustmentMagenta: 0
- SaturationAdjustmentOrange: 0
- SaturationAdjustmentPurple: 0
- SaturationAdjustmentRed: 0
- SaturationAdjustmentYellow: 0
- ShadowTint: 0
- Shadows: 2
- SharpenDetail: 0
- SharpenEdgeMasking: 0
- SharpenRadius: +0.5
- Sharpness: 50
- SplitToningBalance: 0
- SplitToningHighlightHue: 0
- SplitToningHighlightSaturation: 0
- SplitToningShadowHue: 0
- SplitToningShadowSaturation: 0
- Temperature: 4900
- Tint: +6
- ToneCurve: 0, 0, 32, 22, 64, 56, 128, 128, 192, 196, 255, 255
- ToneCurveName: Medium Contrast
- Version: 6.1
- Vibrance: +19
- VignetteAmount: 0
- WhiteBalance: As Shot
- XMP-dc
- XMP-xmp
- CreateDate: 2009:07:10 14:33:26+04:00
- ModifyDate: 2010:06:09 00:59:27+04:00
- Rating: 0
- XMP-xmpMM
- Просмотров: 378
- Рейтинг: голосов еще нет
- Отзывов: 0
Получить код для блога
Вставка фотографии в текущем разрешении |
Вставка миниатюры |
HTML (для вставки в блог):
BBCode (для вставки в форум):
Ссылка на фото:
Ссылка на миниатюру:
- Послать ссылку другу
Комментарии к фотографии |