- Раздел: Путешествия
- Дата съёмки: 11.07.2009 11:13
- Дата загрузки фото: 12.06.2010 19:51
- Оригинальная фотография: 3648 x 2736 (9,6 Мб)
- Технические характеристики:
- Фотоаппарат: LEICA V-LUX 1
- Выдержка: 1/250
- Диафрагма: 4,0
- Светочувствительность: 100
- Фокусное расстояние: 7,0 mm
- Полный EXIF
- Adobe
- ColorTransform: YCbCr
- Composite
- Aperture: 4,0
- FocalLength35efl: 7,0 mm
- ShutterSpeed: 1/250
- ExifIFD
- ApertureValue: 4,0
- ColorSpace: Uncalibrated
- CreateDate: 2009:07:11 11:13:06
- DateTimeOriginal: 2009:07:11 11:13:06
- ExifImageHeight: 2736
- ExifImageWidth: 3648
- ExposureCompensation: 0
- ExposureProgram: Aperture-priority AE
- ExposureTime: 1/250
- FNumber: 4,0
- Flash: Off, Did not fire
- FocalLength: 7,4 mm
- ISO: 100
- MaxApertureValue: 2,8
- MeteringMode: Multi-segment
- ShutterSpeedValue: 1/250
- IFD0
- Make: LEICA
- Model: V-LUX 1
- ModifyDate: 2010:06:12 19:44:24
- Orientation: Horizontal (normal)
- IFD1
- IPTC
- DateCreated: 2009:07:11
- System
- XMP-crs
- AlreadyApplied: True
- BlueHue: 0
- BlueSaturation: 0
- Brightness: +50
- ChromaticAberrationB: +20
- ChromaticAberrationR: -10
- Clarity: 0
- ColorNoiseReduction: 0
- Contrast: +45
- ConvertToGrayscale: False
- Defringe: 2
- Exposure: -0.30
- FillLight: 65
- GrainAmount: 0
- GreenHue: 0
- GreenSaturation: 0
- HasCrop: False
- HasSettings: True
- HighlightRecovery: 0
- HueAdjustmentAqua: 0
- HueAdjustmentBlue: 0
- HueAdjustmentGreen: 0
- HueAdjustmentMagenta: 0
- HueAdjustmentOrange: 0
- HueAdjustmentPurple: 0
- HueAdjustmentRed: 0
- HueAdjustmentYellow: 0
- LensManualDistortionAmount: 0
- LensProfileEnable: 0
- LensProfileSetup: LensDefaults
- LuminanceAdjustmentAqua: 0
- LuminanceAdjustmentBlue: 0
- LuminanceAdjustmentGreen: 0
- LuminanceAdjustmentMagenta: 0
- LuminanceAdjustmentOrange: -10
- LuminanceAdjustmentPurple: 0
- LuminanceAdjustmentRed: 0
- LuminanceAdjustmentYellow: -10
- LuminanceSmoothing: 0
- ParametricDarks: 0
- ParametricHighlightSplit: 75
- ParametricHighlights: 0
- ParametricLights: 0
- ParametricMidtoneSplit: 50
- ParametricShadowSplit: 25
- ParametricShadows: 0
- PerspectiveHorizontal: 0
- PerspectiveRotate: 0.0
- PerspectiveScale: 100
- PerspectiveVertical: 0
- PostCropVignetteAmount: 0
- ProcessVersion: 5.7
- RawFileName: L1090308.RAW
- RedHue: 0
- RedSaturation: 0
- Saturation: 0
- SaturationAdjustmentAqua: 0
- SaturationAdjustmentBlue: 0
- SaturationAdjustmentGreen: 0
- SaturationAdjustmentMagenta: 0
- SaturationAdjustmentOrange: 0
- SaturationAdjustmentPurple: 0
- SaturationAdjustmentRed: 0
- SaturationAdjustmentYellow: 0
- ShadowTint: 0
- Shadows: 0
- SharpenDetail: 0
- SharpenEdgeMasking: 0
- SharpenRadius: +0.5
- Sharpness: 50
- SplitToningBalance: 0
- SplitToningHighlightHue: 0
- SplitToningHighlightSaturation: 0
- SplitToningShadowHue: 0
- SplitToningShadowSaturation: 0
- Temperature: 5500
- Tint: +5
- ToneCurve: 0, 0, 32, 16, 64, 50, 128, 128, 192, 202, 255, 255
- ToneCurveName: Strong Contrast
- Version: 6.1
- Vibrance: 0
- VignetteAmount: 0
- WhiteBalance: As Shot
- XMP-dc
- XMP-xmp
- CreateDate: 2009:07:11 11:13:06+04:00
- ModifyDate: 2010:06:12 19:44:24+04:00
- Rating: 0
- XMP-xmpMM