- Раздел: Архитектура
- Дата съёмки: 07.06.2010 11:42
- Дата загрузки фото: 09.10.2012 15:41
- Оригинальная фотография: 2400 x 1611 (2,1 Мб)
- Технические характеристики:
- Фотоаппарат: Canon EOS 550D
- Выдержка: 1/1600
- Гиперфокальное расстояние: inf m
- Диафрагма: 4,5
- Светочувствительность: 100
- Фокусное расстояние: 120,0 mm (35 mm equivalent: 360,0 mm)
- Полный EXIF
- Adobe
- ColorTransform: YCbCr
- Composite
- Aperture: 4,5
- CircleOfConfusion: 0,009 mm
- DOF: inf (0,00 m - inf)
- FOV: 5,0 deg
- FocalLength35efl: 120,0 mm (35 mm equivalent: 360,0 mm)
- HyperfocalDistance: inf m
- ScaleFactor35efl: 3,4
- ShutterSpeed: 1/1600
- ExifIFD
- ApertureValue: 4,5
- ColorSpace: sRGB
- CreateDate: 2010:06:07 11:42:43
- CustomRendered: Normal
- DateTimeOriginal: 2010:06:07 11:42:43
- ExifImageHeight: 1611
- ExifImageWidth: 2400
- ExposureCompensation: 0
- ExposureMode: Auto
- ExposureProgram: Not Defined
- ExposureTime: 1/1600
- FNumber: 4,5
- Flash: Off, Did not fire
- FocalLength: 120,0 mm
- ISO: 100
- LensInfo: 70-300mm f/?
- LensModel: EF70-300mm f/4-5.6 IS USM
- MaxApertureValue: 4,6
- MeteringMode: Multi-segment
- SceneCaptureType: Standard
- SerialNumber: 332100137
- ShutterSpeedValue: 1/1600
- SubjectDistance: 44,8 m
- WhiteBalance: Auto
- ICC-header
- ICC-meas
- ICC-view
- IFD0
- Artist: zava
- Copyright: zava(c)ins
- Make: Canon
- Model: Canon EOS 550D
- ModifyDate: 2012:10:09 15:40:29
- Orientation: Horizontal (normal)
- IFD1
- IPTC
- By-line: zava
- CopyrightNotice: zava(c)ins
- DateCreated: 2010:06:07
- System
- XMP-aux
- ApproximateFocusDistance: 44,8
- Firmware: 1.0.6
- FlashCompensation: 0
- ImageNumber: 0
- Lens: EF70-300mm f/4-5.6 IS USM
- LensID: 238
- XMP-crs
- AlreadyApplied: True
- AutoLateralCA: 1
- Blacks2012: 0
- BlueHue: 0
- BlueSaturation: 0
- Clarity2012: +14
- ColorNoiseReduction: 25
- ColorNoiseReductionDetail: 50
- Contrast2012: +52
- ConvertToGrayscale: False
- CropAngle: 0
- CropBottom: 0.988389
- CropConstrainToWarp: 1
- CropLeft: 0
- CropRight: 0.975822
- CropTop: 0.005806
- DefringeGreenAmount: 0
- DefringeGreenHueHi: 60
- DefringeGreenHueLo: 40
- DefringePurpleAmount: 0
- DefringePurpleHueHi: 70
- DefringePurpleHueLo: 30
- Exposure2012: +0.20
- GrainAmount: 0
- GreenHue: 0
- GreenSaturation: 0
- HasCrop: True
- HasSettings: True
- Highlights2012: 0
- HueAdjustmentAqua: 0
- HueAdjustmentBlue: 0
- HueAdjustmentGreen: 0
- HueAdjustmentMagenta: 0
- HueAdjustmentOrange: 0
- HueAdjustmentPurple: 0
- HueAdjustmentRed: 0
- HueAdjustmentYellow: 0
- LensManualDistortionAmount: 0
- LensProfileChromaticAberrationScale: 100
- LensProfileDistortionScale: 100
- LensProfileEnable: 1
- LensProfileFilename: Canon EOS-1Ds Mark III (Canon EF 70-300mm f4-5.6 IS USM) - RAW.lcp
- LensProfileSetup: Custom
- LensProfileVignettingScale: 126
- LuminanceAdjustmentAqua: 0
- LuminanceAdjustmentBlue: 0
- LuminanceAdjustmentGreen: 0
- LuminanceAdjustmentMagenta: 0
- LuminanceAdjustmentOrange: 0
- LuminanceAdjustmentPurple: 0
- LuminanceAdjustmentRed: 0
- LuminanceAdjustmentYellow: 0
- LuminanceSmoothing: 0
- ParametricDarks: 0
- ParametricHighlightSplit: 75
- ParametricHighlights: 0
- ParametricLights: 0
- ParametricMidtoneSplit: 50
- ParametricShadowSplit: 25
- ParametricShadows: 0
- PerspectiveHorizontal: 0
- PerspectiveRotate: 0.0
- PerspectiveScale: 100
- PerspectiveVertical: 0
- PostCropVignetteAmount: 0
- ProcessVersion: 6.7
- RawFileName: IMG_1500.CR2
- RedHue: 0
- RedSaturation: 0
- Saturation: 0
- SaturationAdjustmentAqua: 0
- SaturationAdjustmentBlue: +4
- SaturationAdjustmentGreen: 0
- SaturationAdjustmentMagenta: 0
- SaturationAdjustmentOrange: 0
- SaturationAdjustmentPurple: 0
- SaturationAdjustmentRed: 0
- SaturationAdjustmentYellow: 0
- ShadowTint: 0
- Shadows2012: 0
- SharpenDetail: 25
- SharpenEdgeMasking: 0
- SharpenRadius: +1.0
- Sharpness: 25
- SplitToningBalance: 0
- SplitToningHighlightHue: 0
- SplitToningHighlightSaturation: 0
- SplitToningShadowHue: 0
- SplitToningShadowSaturation: 0
- Temperature: 5800
- Tint: +2
- ToneCurveName2012: Linear
- ToneCurvePV2012: 0, 0, 255, 255
- ToneCurvePV2012Blue: 0, 0, 255, 255
- ToneCurvePV2012Green: 0, 0, 255, 255
- ToneCurvePV2012Red: 0, 0, 255, 255
- Version: 7.2
- Vibrance: +12
- VignetteAmount: 0
- WhiteBalance: As Shot
- Whites2012: 0
- XMP-dc
- Creator: zava
- Format: image/jpeg
- Rights: zava(c)ins
- XMP-xmp
- ModifyDate: 2012:10:09 15:40:29+04:00
- Rating: 0
- XMP-xmpMM