- Раздел: Животные
- Дата съёмки: 22.06.2010 16:55
- Дата загрузки фото: 28.06.2010 18:03
- Оригинальная фотография: 2848 x 4288 (2,0 Мб)
- Технические характеристики:
- Фотоаппарат: Nikon D90
- Выдержка: 1/250
- Гиперфокальное расстояние: inf m
- Диафрагма: 3,2
- Светочувствительность: 640
- Фокусное расстояние: 125,0 mm (35 mm equivalent: 125,0 mm)
- Полный EXIF
- Adobe
- ColorTransform: YCbCr
- Composite
- Aperture: 3,2
- CircleOfConfusion: 0,020 mm
- FOV: 16,0 deg
- FocalLength35efl: 125,0 mm (35 mm equivalent: 125,0 mm)
- HyperfocalDistance: inf m
- ScaleFactor35efl: 1,5
- ShutterSpeed: 1/250
- ExifIFD
- ApertureValue: 3,2
- CFAPattern: [Green,Blue][Red,Green]
- Contrast: Normal
- CreateDate: 2010:06:22 16:55:49
- CustomRendered: Normal
- DateTimeOriginal: 2010:06:22 16:55:49
- DigitalZoomRatio: 1
- ExposureCompensation: 0
- ExposureMode: Auto
- ExposureProgram: Shutter speed priority AE
- ExposureTime: 1/250
- FNumber: 3,2
- Flash: No Flash
- FocalLength: 125,0 mm
- FocalLengthIn35mmFormat: 187 mm
- GainControl: Low gain up
- ISO: 640
- LightSource: Unknown
- MaxApertureValue: 2,8
- MeteringMode: Multi-segment
- Saturation: Normal
- SceneCaptureType: Portrait
- SceneType: Directly photographed
- SensingMethod: One-chip color area
- Sharpness: Normal
- ShutterSpeedValue: 1/250
- SubjectDistance: 0,13 m
- SubjectDistanceRange: Unknown
- WhiteBalance: Auto
- ICC-header
- IFD0
- Make: NIKON CORPORATION
- Model: NIKON D90
- ModifyDate: 2010:06:22 14:58:58
- Software: Nikon Transfer 1.1 W
- IFD1
- System
- XMP-aux
- ImageNumber: 11743
- Lens: 80.0-200.0 mm f/2.8
- LensID: 32
- LensInfo: 80/1 200/1 28/10 28/10
- SerialNumber: 5653274
- XMP-crs
- AlreadyApplied: True
- BlueHue: 0
- BlueSaturation: 0
- Brightness: +50
- CameraProfile: Camera Portrait
- ChromaticAberrationB: 0
- ChromaticAberrationR: 0
- Clarity: +31
- ColorNoiseReduction: 25
- ColorNoiseReductionDetail: 50
- Contrast: +38
- ConvertToGrayscale: False
- Defringe: 0
- Exposure: -0.20
- FillLight: 5
- GrainAmount: 0
- GreenHue: 0
- GreenSaturation: 0
- HasCrop: False
- HasSettings: True
- HighlightRecovery: 11
- HueAdjustmentAqua: 0
- HueAdjustmentBlue: 0
- HueAdjustmentGreen: 0
- HueAdjustmentMagenta: 0
- HueAdjustmentOrange: 0
- HueAdjustmentPurple: 0
- HueAdjustmentRed: 0
- HueAdjustmentYellow: 0
- LuminanceAdjustmentAqua: 0
- LuminanceAdjustmentBlue: 0
- LuminanceAdjustmentGreen: 0
- LuminanceAdjustmentMagenta: 0
- LuminanceAdjustmentOrange: 0
- LuminanceAdjustmentPurple: 0
- LuminanceAdjustmentRed: 0
- LuminanceAdjustmentYellow: 0
- LuminanceSmoothing: 0
- ParametricDarks: 0
- ParametricHighlightSplit: 75
- ParametricHighlights: 0
- ParametricLights: 0
- ParametricMidtoneSplit: 50
- ParametricShadowSplit: 25
- ParametricShadows: 0
- PostCropVignetteAmount: 0
- ProcessVersion: 5.7
- RawFileName: DSC_1404_076.NEF
- RedHue: 0
- RedSaturation: 0
- Saturation: +18
- SaturationAdjustmentAqua: 0
- SaturationAdjustmentBlue: 0
- SaturationAdjustmentGreen: 0
- SaturationAdjustmentMagenta: 0
- SaturationAdjustmentOrange: 0
- SaturationAdjustmentPurple: 0
- SaturationAdjustmentRed: 0
- SaturationAdjustmentYellow: 0
- ShadowTint: 0
- Shadows: 6
- SharpenDetail: 25
- SharpenEdgeMasking: 63
- SharpenRadius: +0.5
- Sharpness: 0
- SplitToningBalance: 0
- SplitToningHighlightHue: 0
- SplitToningHighlightSaturation: 0
- SplitToningShadowHue: 0
- SplitToningShadowSaturation: 0
- Temperature: 4750
- Tint: -5
- ToneCurve: 0, 0, 32, 22, 64, 56, 128, 128, 192, 196, 255, 255
- ToneCurveName: Medium Contrast
- Version: 6.0
- Vibrance: 0
- VignetteAmount: 0
- WhiteBalance: Custom
- XMP-exif
- DateTimeDigitized: 2010:06:22 16:55:49.00+04:00
- DateTimeOriginal: 2010:06:22 16:55:49.00+04:00
- ExifImageHeight: 4288
- ExifImageWidth: 2848
- FlashFired: False
- FlashFunction: False
- FlashMode: Unknown
- FlashRedEyeMode: False
- FlashReturn: No return detection
- XMP-microsoft
- XMP-tiff
- ImageHeight: 4288
- ImageWidth: 2848
- XMP-xmp
- CreateDate: 2010:06:22 16:55:49.00+04:00
- CreatorTool: Nikon Transfer 1.1 W
- ModifyDate: 2010:06:22 14:58:58Z
- Rating: 0