- Раздел: Тесты фототехники
- Дата съёмки: 27.12.2009 20:06
- Дата загрузки фото: 30.06.2010 16:26
- Оригинальная фотография: 2492 x 1868 (892 Кб)
- Технические характеристики:
- Фотоаппарат: Canon PowerShot S90
- Выдержка: 1/50
- Гиперфокальное расстояние: inf m
- Диафрагма: 2,2
- Светочувствительность: 800
- Фокусное расстояние: 6,0 mm (35 mm equivalent: 12,0 mm)
- Полный EXIF
- Adobe
- ColorTransform: YCbCr
- Composite
- Aperture: 2,2
- CircleOfConfusion: 0,010 mm
- DOF: inf (0,00 m - inf)
- FOV: 112,0 deg
- FocalLength35efl: 6,0 mm (35 mm equivalent: 12,0 mm)
- HyperfocalDistance: inf m
- ScaleFactor35efl: 3,0
- ShutterSpeed: 1/50
- ExifIFD
- ApertureValue: 2,2
- ColorSpace: Uncalibrated
- CreateDate: 2009:12:27 20:06:31
- CustomRendered: Normal
- DateTimeOriginal: 2009:12:27 20:06:31
- DigitalZoomRatio: 1
- ExifImageHeight: 1868
- ExifImageWidth: 2492
- ExposureCompensation: 0
- ExposureMode: Auto
- ExposureTime: 1/50
- FNumber: 2,2
- Flash: Off, Did not fire
- FocalLength: 6,0 mm
- ISO: 800
- MaxApertureValue: 2,0
- MeteringMode: Multi-segment
- SceneCaptureType: Standard
- SensingMethod: One-chip color area
- ShutterSpeedValue: 1/50
- SubjectDistance: 1,75 m
- WhiteBalance: Auto
- ICC-header
- IFD0
- Make: Canon
- Model: Canon PowerShot S90
- ModifyDate: 2009:12:29 21:59:21
- Orientation: Horizontal (normal)
- IFD1
- IPTC
- System
- XMP-aux
- Firmware: 1.00
- FlashCompensation: 0
- Lens: 6.0-22.5 mm
- LensID: 65535
- LensInfo: 6000/1000 22500/1000 0/0 0/0
- XMP-crs
- AlreadyApplied: True
- BlueHue: 0
- BlueSaturation: 0
- Brightness: 0
- CameraProfile: Matrix
- ChromaticAberrationB: 0
- ChromaticAberrationR: 0
- Clarity: 0
- ColorNoiseReduction: 0
- Contrast: +25
- ConvertToGrayscale: False
- CropAngle: -1.181189
- CropBottom: 0.738133
- CropHeight: 4
- CropLeft: 0.15102
- CropRight: 0.844287
- CropTop: 0.074193
- CropUnit: Unknown (3)
- CropWidth: 3
- Defringe: 0
- Exposure: -0.40
- FillLight: 0
- GreenHue: 0
- GreenSaturation: 0
- HasCrop: True
- HasSettings: True
- HighlightRecovery: 65
- HueAdjustmentAqua: 0
- HueAdjustmentBlue: 0
- HueAdjustmentGreen: 0
- HueAdjustmentMagenta: 0
- HueAdjustmentOrange: 0
- HueAdjustmentPurple: 0
- HueAdjustmentRed: 0
- HueAdjustmentYellow: 0
- LuminanceAdjustmentAqua: 0
- LuminanceAdjustmentBlue: 0
- LuminanceAdjustmentGreen: 0
- LuminanceAdjustmentMagenta: 0
- LuminanceAdjustmentOrange: 0
- LuminanceAdjustmentPurple: 0
- LuminanceAdjustmentRed: 0
- LuminanceAdjustmentYellow: 0
- LuminanceSmoothing: 0
- ParametricDarks: 0
- ParametricHighlightSplit: 75
- ParametricHighlights: 0
- ParametricLights: 0
- ParametricMidtoneSplit: 50
- ParametricShadowSplit: 25
- ParametricShadows: 0
- PostCropVignetteAmount: 0
- RawFileName: IMG_0144.CR2
- RedHue: 0
- RedSaturation: 0
- Saturation: 0
- SaturationAdjustmentAqua: 0
- SaturationAdjustmentBlue: 0
- SaturationAdjustmentGreen: 0
- SaturationAdjustmentMagenta: 0
- SaturationAdjustmentOrange: 0
- SaturationAdjustmentPurple: 0
- SaturationAdjustmentRed: 0
- SaturationAdjustmentYellow: 0
- ShadowTint: 0
- Shadows: 5
- SharpenDetail: 0
- SharpenEdgeMasking: 0
- SharpenRadius: +0.5
- Sharpness: 0
- SplitToningBalance: 0
- SplitToningHighlightHue: 0
- SplitToningHighlightSaturation: 0
- SplitToningShadowHue: 0
- SplitToningShadowSaturation: 0
- Temperature: 2700
- Tint: +15
- ToneCurve: 0, 0, 32, 22, 64, 56, 128, 128, 192, 196, 255, 255
- ToneCurveName: Medium Contrast
- Version: 5.6
- Vibrance: 0
- VignetteAmount: 0
- WhiteBalance: Custom
- XMP-dc
- XMP-exif
- DateTimeDigitized: 2009:12:27 20:06:31+03:00
- DateTimeOriginal: 2009:12:27 20:06:31+03:00
- FlashFired: False
- FlashFunction: False
- FlashMode: Off
- FlashRedEyeMode: False
- FlashReturn: No return detection
- XMP-tiff
- XMP-xmp
- CreateDate: 2009:12:27 20:06:31+03:00
- ModifyDate: 2009:12:29 21:59:21+03:00
- Rating: 0
- XMP-xmpMM
- Просмотров: 201
- Рейтинг: голосов еще нет
- Отзывов: отключены