- Раздел: Макро
- Дата съёмки: 20.07.2010 15:02
- Дата загрузки фото: 01.08.2010 22:01
- Оригинальная фотография: 1280 x 1024 (330 Кб)
- Технические характеристики:
- Фотоаппарат: Canon EOS 400D DIGITAL
- Выдержка: 1/640
- Гиперфокальное расстояние: inf m
- Диафрагма: 11,0
- Светочувствительность: 400
- Фокусное расстояние: 250,0 mm (35 mm equivalent: 1000,0 mm)
- Полный EXIF
- Adobe
- ColorTransform: YCbCr
- Composite
- Aperture: 11,0
- CircleOfConfusion: 0,007 mm
- FOV: 2,0 deg
- FocalLength35efl: 250,0 mm (35 mm equivalent: 1000,0 mm)
- HyperfocalDistance: inf m
- ScaleFactor35efl: 4,6
- ShutterSpeed: 1/640
- ExifIFD
- ApertureValue: 11,0
- ColorSpace: sRGB
- CreateDate: 2010:07:20 15:02:37
- CustomRendered: Normal
- DateTimeOriginal: 2010:07:20 15:02:37
- ExifImageHeight: 1024
- ExifImageWidth: 1280
- ExposureCompensation: 0
- ExposureMode: Auto
- ExposureProgram: Aperture-priority AE
- ExposureTime: 1/640
- FNumber: 11,0
- Flash: Off, Did not fire
- FocalLength: 250,0 mm
- ISO: 400
- MaxApertureValue: 5,6
- MeteringMode: Multi-segment
- SceneCaptureType: Standard
- ShutterSpeedValue: 1/640
- WhiteBalance: Auto
- ICC-header
- ICC-meas
- ICC-view
- IFD0
- Artist: unknown
- Make: Canon
- Model: Canon EOS 400D DIGITAL
- ModifyDate: 2010:08:01 22:00:30
- Orientation: Horizontal (normal)
- IFD1
- IPTC
- By-line: unknown
- System
- XMP-aux
- Firmware: 1.0.4
- FlashCompensation: 0
- ImageNumber: 80
- Lens: 55.0-250.0 mm
- LensID: 49
- LensInfo: 55/1 250/1 0/0 0/0
- OwnerName: unknown
- SerialNumber: 430124338
- XMP-crs
- AlreadyApplied: True
- BlueHue: 0
- BlueSaturation: 0
- Brightness: +50
- ChromaticAberrationB: 0
- ChromaticAberrationR: 0
- Clarity: +1
- ColorNoiseReduction: 0
- Contrast: +25
- ConvertToGrayscale: False
- CropAngle: 0
- CropBottom: 0.849129
- CropHeight: 5
- CropLeft: 0.12212
- CropRight: 0.736175
- CropTop: 0.112263
- CropUnit: Unknown (3)
- CropWidth: 4
- Defringe: 0
- Exposure: 0.00
- FillLight: 0
- GrainAmount: 0
- GreenHue: 0
- GreenSaturation: 0
- HasCrop: True
- HasSettings: True
- HighlightRecovery: 0
- HueAdjustmentAqua: 0
- HueAdjustmentBlue: 0
- HueAdjustmentGreen: 0
- HueAdjustmentMagenta: 0
- HueAdjustmentOrange: 0
- HueAdjustmentPurple: 0
- HueAdjustmentRed: 0
- HueAdjustmentYellow: 0
- LuminanceAdjustmentAqua: 0
- LuminanceAdjustmentBlue: 0
- LuminanceAdjustmentGreen: 0
- LuminanceAdjustmentMagenta: 0
- LuminanceAdjustmentOrange: 0
- LuminanceAdjustmentPurple: 0
- LuminanceAdjustmentRed: 0
- LuminanceAdjustmentYellow: 0
- LuminanceSmoothing: 0
- ParametricDarks: 0
- ParametricHighlightSplit: 75
- ParametricHighlights: 0
- ParametricLights: 0
- ParametricMidtoneSplit: 50
- ParametricShadowSplit: 25
- ParametricShadows: 0
- PostCropVignetteAmount: 0
- ProcessVersion: 5.0
- RawFileName: IMG_5957.CR2
- RedHue: 0
- RedSaturation: 0
- Saturation: +1
- SaturationAdjustmentAqua: 0
- SaturationAdjustmentBlue: 0
- SaturationAdjustmentGreen: 0
- SaturationAdjustmentMagenta: 0
- SaturationAdjustmentOrange: 0
- SaturationAdjustmentPurple: 0
- SaturationAdjustmentRed: 0
- SaturationAdjustmentYellow: 0
- ShadowTint: 0
- Shadows: 3
- SharpenDetail: 0
- SharpenEdgeMasking: 0
- SharpenRadius: +0.5
- Sharpness: 0
- SplitToningBalance: 0
- SplitToningHighlightHue: 0
- SplitToningHighlightSaturation: 0
- SplitToningShadowHue: 0
- SplitToningShadowSaturation: 0
- Temperature: 4850
- Tint: +17
- ToneCurve: 0, 0, 32, 22, 64, 56, 128, 128, 192, 196, 255, 255
- ToneCurveName: Medium Contrast
- Version: 5.7
- Vibrance: +20
- VignetteAmount: 0
- WhiteBalance: As Shot
- XMP-dc
- Creator: unknown
- Format: image/jpeg
- XMP-exif
- DateTimeDigitized: 2010:07:20 15:02:37+04:00
- DateTimeOriginal: 2010:07:20 15:02:37+04:00
- FlashFired: False
- FlashFunction: False
- FlashMode: Off
- FlashRedEyeMode: False
- FlashReturn: No return detection
- XMP-tiff
- XMP-xmp
- CreateDate: 2010:08:01 22:00:30+04:00
- ModifyDate: 2010:08:01 22:00:30+04:00
- Rating: 0
- XMP-xmpMM