- Раздел: Портрет
- Дата съёмки: 26.07.2010 20:41
- Дата загрузки фото: 05.08.2010 15:35
- Оригинальная фотография: 2410 x 1646 (1,3 Мб)
- Технические характеристики:
- Фотоаппарат: Pentax K100D Super
- Выдержка: 1/50
- Гиперфокальное расстояние: inf m
- Диафрагма: 4,5
- Светочувствительность: 400
- Фокусное расстояние: 115,0 mm (35 mm equivalent: 115,0 mm)
- Полный EXIF
- Adobe
- ColorTransform: YCbCr
- Composite
- Aperture: 4,5
- CircleOfConfusion: 0,020 mm
- FOV: 17,0 deg
- FocalLength35efl: 115,0 mm (35 mm equivalent: 115,0 mm)
- HyperfocalDistance: inf m
- ScaleFactor35efl: 1,5
- ShutterSpeed: 1/50
- ExifIFD
- ApertureValue: 4,5
- CFAPattern: [Red,Green][Green,Blue]
- Contrast: Normal
- CreateDate: 2010:07:26 20:41:48
- CustomRendered: Normal
- DateTimeOriginal: 2010:07:26 20:41:48
- ExposureCompensation: 0
- ExposureMode: Auto
- ExposureProgram: Aperture-priority AE
- ExposureTime: 1/50
- FNumber: 4,5
- Flash: Off, Did not fire
- FocalLength: 115,0 mm
- FocalLengthIn35mmFormat: 172 mm
- ISO: 400
- MeteringMode: Center-weighted average
- Saturation: Normal
- SceneCaptureType: Standard
- SceneType: Directly photographed
- SensingMethod: One-chip color area
- Sharpness: Normal
- ShutterSpeedValue: 1/50
- SubjectDistanceRange: Distant
- WhiteBalance: Auto
- ICC-header
- ICC-meas
- ICC-view
- IFD0
- Make: PENTAX Corporation
- Model: PENTAX K100D Super
- ModifyDate: 2010:07:27 14:30:35
- Software: K100D Super Ver 1.00
- IFD1
- System
- XMP-aux
- Lens: smc PENTAX-DA 50-200mm F4-5.6 ED
- LensID: 4 250
- LensInfo: 500/10 2000/10 40/10 56/10
- XMP-crs
- AlreadyApplied: True
- BlueHue: 0
- BlueSaturation: 0
- Brightness: +54
- ChromaticAberrationB: 0
- ChromaticAberrationR: 0
- Clarity: +80
- ColorNoiseReduction: 25
- Contrast: +68
- ConvertToGrayscale: True
- CropAngle: 0
- CropBottom: 0.887805
- CropHeight: 1646
- CropLeft: 0.198697
- CropRight: 1
- CropTop: 0.068293
- CropUnit: pixels
- CropWidth: 2410
- Defringe: 0
- Exposure: +0.26
- FillLight: 0
- GrayMixerAqua: +51
- GrayMixerBlue: 0
- GrayMixerGreen: +100
- GrayMixerMagenta: -72
- GrayMixerOrange: -15
- GrayMixerPurple: -28
- GrayMixerRed: -45
- GrayMixerYellow: +49
- GreenHue: 0
- GreenSaturation: 0
- HasCrop: True
- HasSettings: True
- HighlightRecovery: 0
- LuminanceSmoothing: 0
- ParametricDarks: +12
- ParametricHighlightSplit: 75
- ParametricHighlights: 0
- ParametricLights: 0
- ParametricMidtoneSplit: 50
- ParametricShadowSplit: 25
- ParametricShadows: -12
- PostCropVignetteAmount: 0
- RedHue: 0
- RedSaturation: 0
- ShadowTint: 0
- Shadows: 47
- SharpenDetail: 25
- SharpenEdgeMasking: 0
- SharpenRadius: +1.0
- Sharpness: 25
- SplitToningBalance: 0
- SplitToningHighlightHue: 34
- SplitToningHighlightSaturation: 10
- SplitToningShadowHue: 34
- SplitToningShadowSaturation: 27
- Temperature: 3277
- Tint: -146
- ToneCurve: 0, 0, 32, 22, 64, 56, 128, 128, 192, 196, 255, 255
- ToneCurveName: Medium Contrast
- Version: 5.5
- VignetteAmount: -68
- VignetteMidpoint: 31
- WhiteBalance: Custom
- XMP-exif
- DateTimeDigitized: 2010:07:26 20:41:48+03:00
- DateTimeOriginal: 2010:07:26 20:41:48+03:00
- ExifImageHeight: 1646
- ExifImageWidth: 2410
- FlashFired: False
- FlashFunction: False
- FlashMode: Off
- FlashRedEyeMode: False
- FlashReturn: No return detection
- XMP-tiff
- ImageHeight: 1646
- ImageWidth: 2410
- XMP-xmp
- CreateDate: 2010:07:26 20:41:48+03:00
- ModifyDate: 2010:07:27 14:30:35+03:00
- Просмотров: 360
- Рейтинг: голосов еще нет
- Отзывов: 0