IMGP5793.jpg |
IMGP5793.jpg
- Раздел: Портрет
- Дата съёмки: 10.07.2010 20:43
- Дата загрузки фото: 05.08.2010 15:35
- Оригинальная фотография: 2008 x 3008 (1,9 Мб)
- Технические характеристики:
- Фотоаппарат: Pentax K100D Super
- Выдержка: 1/4000
- Гиперфокальное расстояние: inf m
- Диафрагма: 4,5
- Светочувствительность: 200
- Фокусное расстояние: 125,0 mm (35 mm equivalent: 125,0 mm)
- Полный EXIF
- Adobe
- ColorTransform: YCbCr
- Composite
- Aperture: 4,5
- CircleOfConfusion: 0,020 mm
- FOV: 16,0 deg
- FocalLength35efl: 125,0 mm (35 mm equivalent: 125,0 mm)
- HyperfocalDistance: inf m
- ScaleFactor35efl: 1,5
- ShutterSpeed: 1/4000
- ExifIFD
- ApertureValue: 4,5
- CFAPattern: [Red,Green][Green,Blue]
- Contrast: Normal
- CreateDate: 2010:07:10 20:43:53
- CustomRendered: Normal
- DateTimeOriginal: 2010:07:10 20:43:53
- ExposureCompensation: 0
- ExposureMode: Auto
- ExposureProgram: Aperture-priority AE
- ExposureTime: 1/4000
- FNumber: 4,5
- Flash: Off, Did not fire
- FocalLength: 125,0 mm
- FocalLengthIn35mmFormat: 187 mm
- ISO: 200
- MeteringMode: Center-weighted average
- Saturation: Normal
- SceneCaptureType: Standard
- SceneType: Directly photographed
- SensingMethod: One-chip color area
- Sharpness: Normal
- ShutterSpeedValue: 1/4000
- SubjectDistanceRange: Distant
- WhiteBalance: Auto
- ICC-header
- ICC-meas
- ICC-view
- IFD0
- Make: PENTAX Corporation
- Model: PENTAX K100D Super
- ModifyDate: 2010:07:15 09:43:10
- Software: K100D Super Ver 1.00
- IFD1
- System
- XMP-aux
- Lens: smc PENTAX-DA 50-200mm F4-5.6 ED
- LensID: 4 250
- LensInfo: 500/10 2000/10 40/10 56/10
- XMP-crs
- AlreadyApplied: True
- BlueHue: 0
- BlueSaturation: 0
- Brightness: +43
- CameraProfile: ACR 2.4
- ChromaticAberrationB: 0
- ChromaticAberrationR: 0
- Clarity: +65
- ColorNoiseReduction: 25
- Contrast: +89
- ConvertToGrayscale: True
- Defringe: 0
- Exposure: +0.67
- FillLight: 0
- GrayMixerAqua: -19
- GrayMixerBlue: +11
- GrayMixerGreen: -27
- GrayMixerMagenta: +7
- GrayMixerOrange: -19
- GrayMixerPurple: +18
- GrayMixerRed: -29
- GrayMixerYellow: +10
- GreenHue: 0
- GreenSaturation: 0
- HasCrop: False
- HasSettings: True
- HighlightRecovery: 85
- LuminanceSmoothing: 0
- ParametricDarks: -43
- ParametricHighlightSplit: 75
- ParametricHighlights: 0
- ParametricLights: +21
- ParametricMidtoneSplit: 50
- ParametricShadowSplit: 25
- ParametricShadows: +40
- PostCropVignetteAmount: 0
- RedHue: 0
- RedSaturation: 0
- ShadowTint: 0
- Shadows: 2
- SharpenDetail: 25
- SharpenEdgeMasking: 0
- SharpenRadius: +1.0
- Sharpness: 25
- SplitToningBalance: 0
- SplitToningHighlightHue: 215
- SplitToningHighlightSaturation: 0
- SplitToningShadowHue: 216
- SplitToningShadowSaturation: 0
- Temperature: 4700
- Tint: +23
- ToneCurve: 0, 0, 255, 255
- ToneCurveName: Linear
- Version: 5.5
- VignetteAmount: -100
- VignetteMidpoint: 6
- XMP-exif
- DateTimeDigitized: 2010:07:10 20:43:53+03:00
- DateTimeOriginal: 2010:07:10 20:43:53+03:00
- ExifImageHeight: 3008
- ExifImageWidth: 2008
- FlashFired: False
- FlashFunction: False
- FlashMode: Off
- FlashRedEyeMode: False
- FlashReturn: No return detection
- XMP-tiff
- ImageHeight: 3008
- ImageWidth: 2008
- XMP-xmp
- CreateDate: 2010:07:10 20:43:53+03:00
- ModifyDate: 2010:07:15 09:43:10+03:00
- Просмотров: 247
- Рейтинг: голосов еще нет
- Отзывов: 0
Получить код для блога
Вставка фотографии в текущем разрешении |
Вставка миниатюры |
HTML (для вставки в блог):
BBCode (для вставки в форум):
Ссылка на фото:
Ссылка на миниатюру:
- Послать ссылку другу
Комментарии к фотографии |