- Раздел: Активный отдых, туризм
- Дата съёмки: 05.08.2010 23:17
- Дата загрузки фото: 06.08.2010 18:22
- Оригинальная фотография: 2592 x 3872 (966 Кб)
- Технические характеристики:
- Фотоаппарат: Sony DSLR-A200
- Выдержка: 45,0
- Гиперфокальное расстояние: inf m
- Диафрагма: 18,0
- Светочувствительность: 100
- Фокусное расстояние: 35,0 mm (35 mm equivalent: 35,0 mm)
- Полный EXIF
- Composite
- Aperture: 18,0
- CircleOfConfusion: 0,020 mm
- FOV: 54,0 deg
- FocalLength35efl: 35,0 mm (35 mm equivalent: 35,0 mm)
- HyperfocalDistance: inf m
- LightValue: 2,8
- ScaleFactor35efl: 1,5
- ShutterSpeed: 45,0
- ExifIFD
- ApertureValue: 18,0
- BrightnessValue: 4289,967296
- ColorSpace: sRGB
- CompressedBitsPerPixel: 0
- Contrast: Normal
- CreateDate: 2010:08:05 23:17:20
- DateTimeOriginal: 2010:08:05 23:17:20
- DigitalZoomRatio: 0
- ExifImageHeight: 2592
- ExifImageWidth: 3872
- ExposureCompensation: 0
- ExposureIndex: 0
- ExposureMode: Manual
- ExposureProgram: Manual
- ExposureTime: 45,0
- FNumber: 18,0
- Flash: Off, Did not fire
- FocalLength: 35,0 mm
- FocalLengthIn35mmFormat: 52 mm
- GainControl: None
- ISO: 100, 100
- LightSource: Unknown
- MaxApertureValue: 5,0
- MeteringMode: Multi-segment
- Saturation: Normal
- SceneCaptureType: Standard
- SceneType: Directly photographed
- SensingMethod: Unknown (0)
- Sharpness: Normal
- ShutterSpeedValue: 45,0
- SubjectDistance: 0 m
- SubjectDistanceRange: Unknown
- WhiteBalance: Manual
- ICC-header
- ICC-meas
- ICC-view
- IFD0
- ImageDescription: alto sax in the dark with rose
- Make: SONY
- Model: DSLR-A200
- ModifyDate: 2010:08:05 23:47:48
- Orientation: Horizontal (normal)
- PrimaryChromaticities: 0 0 0 0 0 0
- ReferenceBlackWhite: 0 0 0 0 0 0
- Software: Home Photo Studio
- WhitePoint: 0 0
- IFD1
- BitsPerSample: 8 8 8
- ImageHeight: 239
- ImageWidth: 160
- JPEGProc: Baseline
- PhotometricInterpretation: YCbCr
- RowsPerStrip: 239
- SamplesPerPixel: 3
- StripByteCounts: 7600
- StripOffsets: 1705
- SubfileType: Full-resolution Image
- IPTC
- Caption-Abstract: alto sax in the dark with rose
- Keywords: alto, sax, gold, isolated, jazz, music, musical, reflection, play, sing, tone, swing, metal, song, shine, melody, classical, band, blues, golden, horn, light, instrumental, saxophone, instrument, tune, button, sound, brass, pushbuttons, reed, key, horizontal, copy, rose, red, flower, leaf, dark, black
- ObjectName: sax and rose
- System
- XMP-crs
- AlreadyApplied: True
- BlueHue: 0
- BlueSaturation: 0
- Brightness: +50
- CameraProfile: ACR 4.4
- ChromaticAberrationB: 0
- ChromaticAberrationR: 0
- Clarity: 95
- ColorNoiseReduction: 25
- Contrast: +25
- ConvertToGrayscale: False
- Defringe: 0
- Exposure: 0.00
- FillLight: 5
- GreenHue: 0
- GreenSaturation: 0
- HasCrop: False
- HasSettings: True
- HighlightRecovery: 0
- HueAdjustmentAqua: 0
- HueAdjustmentBlue: 0
- HueAdjustmentGreen: 0
- HueAdjustmentMagenta: 0
- HueAdjustmentOrange: 0
- HueAdjustmentPurple: 0
- HueAdjustmentRed: 0
- HueAdjustmentYellow: 0
- LuminanceAdjustmentAqua: 0
- LuminanceAdjustmentBlue: 0
- LuminanceAdjustmentGreen: 0
- LuminanceAdjustmentMagenta: 0
- LuminanceAdjustmentOrange: 0
- LuminanceAdjustmentPurple: 0
- LuminanceAdjustmentRed: 0
- LuminanceAdjustmentYellow: 0
- LuminanceSmoothing: 0
- ParametricDarks: 0
- ParametricHighlightSplit: 75
- ParametricHighlights: 0
- ParametricLights: 0
- ParametricMidtoneSplit: 50
- ParametricShadowSplit: 25
- ParametricShadows: 0
- RawFileName: DSC03369.ARW
- RedHue: 0
- RedSaturation: 0
- Saturation: 0
- SaturationAdjustmentAqua: 0
- SaturationAdjustmentBlue: 0
- SaturationAdjustmentGreen: 0
- SaturationAdjustmentMagenta: 0
- SaturationAdjustmentOrange: 0
- SaturationAdjustmentPurple: 0
- SaturationAdjustmentRed: 0
- SaturationAdjustmentYellow: 0
- ShadowTint: 0
- Shadows: 5
- SharpenDetail: 25
- SharpenEdgeMasking: 0
- SharpenRadius: +1.0
- Sharpness: 25
- SplitToningBalance: 0
- SplitToningHighlightHue: 0
- SplitToningHighlightSaturation: 0
- SplitToningShadowHue: 0
- SplitToningShadowSaturation: 0
- Temperature: 5550
- Tint: +8
- ToneCurve: 0, 0, 32, 22, 64, 56, 128, 128, 192, 196, 255, 255
- ToneCurveName: Medium Contrast
- Version: 4.4.1
- Vibrance: 0
- VignetteAmount: 0
- WhiteBalance: Custom
- XMP-dc
- Description: alto sax in the dark with rose
- Format: image/jpeg
- Subject: alto, sax, gold, isolated, jazz, music, musical, reflection, play, sing, tone, swing, metal, song, shine, melody, classical, band, blues, golden, horn, light, instrumental, saxophone, instrument, tune, button, sound, brass, pushbuttons, reed, key, horizontal, copy, rose, red, flower, leaf, dark, black
- Title: sax and rose
- XMP-exif
- BrightnessValue: -5
- CustomRendered: Normal
- DateTimeDigitized: 2010:08:05 23:17:20+03:00
- DateTimeOriginal: 2010:08:05 23:17:20+03:00
- FlashFired: False
- FlashFunction: False
- FlashMode: Off
- FlashRedEyeMode: False
- FlashReturn: No return detection
- ISO: 100
- XMP-tiff
- XMP-xmp
- CreateDate: 2010:08:05 23:47:48+03:00
- ModifyDate: 2010:08:05 23:47:48+03:00
- Rating: 0
- XMP-xmpMM
- DerivedFrom:
- Просмотров: 1912
- Рейтинг: голосов еще нет
- Отзывов: 0