» Участники » proba1 » Геленджик » Геленджикская бухта |
Геленджикская бухта |
Геленджикская бухта
- Раздел: Отдых, развлечения
- Дата съёмки: 20.07.2010 19:10
- Дата загрузки фото: 07.08.2010 16:29
- Оригинальная фотография: 1600 x 1200 (1,6 Мб)
- Технические характеристики:
- Фотоаппарат: LEICA V-LUX 1
- Выдержка: 1/200
- Диафрагма: 4,0
- Светочувствительность: 100
- Фокусное расстояние: 27,0 mm
- Полный EXIF
- Adobe
- ColorTransform: YCbCr
- Composite
- Aperture: 4,0
- FocalLength35efl: 27,0 mm
- ShutterSpeed: 1/200
- ExifIFD
- ApertureValue: 4,0
- ColorSpace: Uncalibrated
- CreateDate: 2010:07:20 19:10:58
- DateTimeOriginal: 2010:07:20 19:10:58
- ExifImageHeight: 1200
- ExifImageWidth: 1600
- ExposureCompensation: 0
- ExposureProgram: Aperture-priority AE
- ExposureTime: 1/200
- FNumber: 4,0
- Flash: Off, Did not fire
- FocalLength: 27,7 mm
- ISO: 100
- MaxApertureValue: 2,8
- MeteringMode: Multi-segment
- ShutterSpeedValue: 1/200
- IFD0
- Make: LEICA
- Model: V-LUX 1
- ModifyDate: 2010:08:07 16:25:56
- Orientation: Horizontal (normal)
- IFD1
- IPTC
- DateCreated: 2010:07:20
- System
- XMP-crs
- AlreadyApplied: True
- BlueHue: 0
- BlueSaturation: 0
- Brightness: +9
- ChromaticAberrationB: 0
- ChromaticAberrationR: 0
- Clarity: 0
- ColorNoiseReduction: 15
- ColorNoiseReductionDetail: 0
- Contrast: +20
- ConvertToGrayscale: False
- CropAngle: 0.0889
- CropBottom: 1
- CropConstrainToWarp: 1
- CropLeft: 0.001613
- CropRight: 0.998387
- CropTop: 0
- Defringe: 0
- Exposure: +0.90
- FillLight: 20
- GrainAmount: 0
- GreenHue: 0
- GreenSaturation: 0
- HasCrop: True
- HasSettings: True
- HighlightRecovery: 10
- HueAdjustmentAqua: 0
- HueAdjustmentBlue: 0
- HueAdjustmentGreen: 0
- HueAdjustmentMagenta: 0
- HueAdjustmentOrange: 0
- HueAdjustmentPurple: 0
- HueAdjustmentRed: 0
- HueAdjustmentYellow: +21
- LensManualDistortionAmount: 0
- LensProfileEnable: 0
- LensProfileSetup: LensDefaults
- LuminanceAdjustmentAqua: 0
- LuminanceAdjustmentBlue: 0
- LuminanceAdjustmentGreen: 0
- LuminanceAdjustmentMagenta: 0
- LuminanceAdjustmentOrange: -10
- LuminanceAdjustmentPurple: 0
- LuminanceAdjustmentRed: -10
- LuminanceAdjustmentYellow: -10
- LuminanceNoiseReductionContrast: 50
- LuminanceNoiseReductionDetail: 100
- LuminanceSmoothing: 10
- ParametricDarks: -10
- ParametricHighlightSplit: 75
- ParametricHighlights: 0
- ParametricLights: 0
- ParametricMidtoneSplit: 50
- ParametricShadowSplit: 25
- ParametricShadows: 0
- PerspectiveHorizontal: 0
- PerspectiveRotate: 0.0
- PerspectiveScale: 100
- PerspectiveVertical: 0
- PostCropVignetteAmount: 0
- ProcessVersion: 5.7
- RawFileName: L1110127.RAW
- RedHue: 0
- RedSaturation: 0
- Saturation: 0
- SaturationAdjustmentAqua: 0
- SaturationAdjustmentBlue: 0
- SaturationAdjustmentGreen: 0
- SaturationAdjustmentMagenta: 0
- SaturationAdjustmentOrange: 0
- SaturationAdjustmentPurple: 0
- SaturationAdjustmentRed: 0
- SaturationAdjustmentYellow: 0
- ShadowTint: 0
- Shadows: 37
- SharpenDetail: 25
- SharpenEdgeMasking: 0
- SharpenRadius: +0.5
- Sharpness: 12
- SplitToningBalance: 0
- SplitToningHighlightHue: 0
- SplitToningHighlightSaturation: 0
- SplitToningShadowHue: 0
- SplitToningShadowSaturation: 0
- Temperature: 5500
- Tint: +10
- ToneCurve: 0, 0, 32, 22, 64, 56, 128, 128, 192, 196, 255, 255
- ToneCurveName: Medium Contrast
- Version: 6.1
- Vibrance: 0
- VignetteAmount: +24
- VignetteMidpoint: 50
- WhiteBalance: Daylight
- XMP-dc
- XMP-xmp
- CreateDate: 2010:07:20 19:10:58+04:00
- ModifyDate: 2010:08:07 16:25:56+04:00
- Rating: 0
- XMP-xmpMM
- DerivedFrom:
- Просмотров: 362
- Рейтинг: голосов еще нет
- Отзывов: 0
Получить код для блога
Вставка фотографии в текущем разрешении |
Вставка миниатюры |
HTML (для вставки в блог):
BBCode (для вставки в форум):
Ссылка на фото:
Ссылка на миниатюру:
- Послать ссылку другу
Комментарии к фотографии |