» Участники » proba1 » Геленджик » У входа в Геленджикскую бухту. |
У входа в Геленджикскую бухту. |
У входа в Геленджикскую бухту.
- Раздел: Отдых, развлечения
- Дата съёмки: 22.07.2010 15:48
- Дата загрузки фото: 08.08.2010 01:48
- Оригинальная фотография: 3648 x 2736 (11,4 Мб)
- Технические характеристики:
- Фотоаппарат: LEICA V-LUX 1
- Выдержка: 1/320
- Диафрагма: 4,5
- Светочувствительность: 100
- Фокусное расстояние: 7,0 mm
- Полный EXIF
- Adobe
- ColorTransform: YCbCr
- Composite
- Aperture: 4,5
- FocalLength35efl: 7,0 mm
- ShutterSpeed: 1/320
- ExifIFD
- ApertureValue: 4,5
- ColorSpace: Uncalibrated
- CreateDate: 2010:07:22 15:48:34
- DateTimeOriginal: 2010:07:22 15:48:34
- ExifImageHeight: 2736
- ExifImageWidth: 3648
- ExposureCompensation: 0
- ExposureProgram: Aperture-priority AE
- ExposureTime: 1/320
- FNumber: 4,5
- Flash: Off, Did not fire
- FocalLength: 7,5 mm
- ISO: 100
- MaxApertureValue: 2,8
- MeteringMode: Multi-segment
- ShutterSpeedValue: 1/320
- IFD0
- Make: LEICA
- Model: V-LUX 1
- ModifyDate: 2010:08:08 01:44:45
- Orientation: Horizontal (normal)
- IFD1
- IPTC
- DateCreated: 2010:07:22
- System
- XMP-crs
- AlreadyApplied: True
- BlueHue: 0
- BlueSaturation: 0
- Brightness: +50
- ChromaticAberrationB: +20
- ChromaticAberrationR: -20
- Clarity: 0
- ColorNoiseReduction: 0
- Contrast: +25
- ConvertToGrayscale: False
- Defringe: 0
- Exposure: +0.10
- FillLight: 14
- GrainAmount: 0
- GreenHue: 0
- GreenSaturation: 0
- HasCrop: False
- HasSettings: True
- HighlightRecovery: 6
- HueAdjustmentAqua: 0
- HueAdjustmentBlue: 0
- HueAdjustmentGreen: 0
- HueAdjustmentMagenta: 0
- HueAdjustmentOrange: 0
- HueAdjustmentPurple: 0
- HueAdjustmentRed: 0
- HueAdjustmentYellow: +21
- LensManualDistortionAmount: 0
- LensProfileEnable: 0
- LensProfileSetup: LensDefaults
- LuminanceAdjustmentAqua: 0
- LuminanceAdjustmentBlue: 0
- LuminanceAdjustmentGreen: 0
- LuminanceAdjustmentMagenta: 0
- LuminanceAdjustmentOrange: -10
- LuminanceAdjustmentPurple: 0
- LuminanceAdjustmentRed: -10
- LuminanceAdjustmentYellow: -10
- LuminanceSmoothing: 0
- ParametricDarks: -15
- ParametricHighlightSplit: 75
- ParametricHighlights: 0
- ParametricLights: 0
- ParametricMidtoneSplit: 50
- ParametricShadowSplit: 25
- ParametricShadows: 0
- PerspectiveHorizontal: 0
- PerspectiveRotate: 0.0
- PerspectiveScale: 100
- PerspectiveVertical: 0
- PostCropVignetteAmount: 0
- ProcessVersion: 5.7
- RawFileName: L1110236.RAW
- RedHue: 0
- RedSaturation: 0
- Saturation: 0
- SaturationAdjustmentAqua: 0
- SaturationAdjustmentBlue: 0
- SaturationAdjustmentGreen: 0
- SaturationAdjustmentMagenta: 0
- SaturationAdjustmentOrange: 0
- SaturationAdjustmentPurple: 0
- SaturationAdjustmentRed: 0
- SaturationAdjustmentYellow: 0
- ShadowTint: 0
- Shadows: 6
- SharpenDetail: 25
- SharpenEdgeMasking: 0
- SharpenRadius: +0.5
- Sharpness: 12
- SplitToningBalance: 0
- SplitToningHighlightHue: 0
- SplitToningHighlightSaturation: 0
- SplitToningShadowHue: 0
- SplitToningShadowSaturation: 0
- Temperature: 4900
- Tint: +6
- ToneCurve: 0, 0, 32, 16, 64, 50, 128, 128, 192, 202, 255, 255
- ToneCurveName: Strong Contrast
- Version: 6.1
- Vibrance: 0
- VignetteAmount: +24
- VignetteMidpoint: 50
- WhiteBalance: As Shot
- XMP-dc
- XMP-xmp
- CreateDate: 2010:07:22 15:48:34+04:00
- ModifyDate: 2010:08:08 01:44:45+04:00
- Rating: 0
- XMP-xmpMM
- Просмотров: 508
- Рейтинг: голосов еще нет
- Отзывов: 0
Получить код для блога
Вставка фотографии в текущем разрешении |
Вставка миниатюры |
HTML (для вставки в блог):
BBCode (для вставки в форум):
Ссылка на фото:
Ссылка на миниатюру:
- Послать ссылку другу
Комментарии к фотографии |