- Раздел: Другое, разное
- Дата съёмки: 20.04.2009 13:28
- Дата загрузки фото: 13.08.2010 00:44
- Оригинальная фотография: 3872 x 2592 (4,4 Мб)
- Технические характеристики:
- Фотоаппарат: Pentax K200D
- Выдержка: 1/350
- Гиперфокальное расстояние: inf m
- Диафрагма: 8,0
- Светочувствительность: 400
- Фокусное расстояние: 55,0 mm (35 mm equivalent: 55,0 mm)
- Полный EXIF
- Adobe
- ColorTransform: YCbCr
- Composite
- Aperture: 8,0
- CircleOfConfusion: 0,020 mm
- FOV: 36,0 deg
- FocalLength35efl: 55,0 mm (35 mm equivalent: 55,0 mm)
- HyperfocalDistance: inf m
- ScaleFactor35efl: 1,5
- ShutterSpeed: 1/350
- ExifIFD
- ApertureValue: 8,0
- Contrast: Normal
- CreateDate: 2009:04:20 13:28:49
- CustomRendered: Normal
- DateTimeOriginal: 2009:04:20 13:28:49
- ExposureCompensation: 0
- ExposureMode: Auto
- ExposureProgram: Aperture-priority AE
- ExposureTime: 1/350
- FNumber: 8,0
- Flash: Off, Did not fire
- FocalLength: 55,0 mm
- FocalLengthIn35mmFormat: 82 mm
- ISO: 400
- MeteringMode: Center-weighted average
- Saturation: Normal
- SceneCaptureType: Standard
- SensingMethod: One-chip color area
- Sharpness: Normal
- ShutterSpeedValue: 1/350
- SubjectDistanceRange: Close
- WhiteBalance: Auto
- ICC-header
- ICC-meas
- ICC-view
- IFD0
- Make: PENTAX
- Model: PENTAX K200D
- ModifyDate: 2009:05:24 19:58:24
- Software: K200D Ver 1.00
- System
- XMP-aux
- Lens: smc PENTAX-DA 18-55mm F3.5-5.6 AL
- LensID: 4 252
- LensInfo: 180/10 550/10 35/10 56/10
- XMP-crs
- AlreadyApplied: True
- BlueHue: 0
- BlueSaturation: 0
- Brightness: +29
- CameraProfile: ACR 4.4
- ChromaticAberrationB: 0
- ChromaticAberrationR: 0
- Clarity: -30
- ColorNoiseReduction: 0
- Contrast: +80
- ConvertToGrayscale: False
- Defringe: 0
- Exposure: +0.50
- FillLight: 10
- GreenHue: 0
- GreenSaturation: +20
- HasCrop: False
- HasSettings: True
- HighlightRecovery: 0
- HueAdjustmentAqua: 0
- HueAdjustmentBlue: 0
- HueAdjustmentGreen: 0
- HueAdjustmentMagenta: 0
- HueAdjustmentOrange: 0
- HueAdjustmentPurple: 0
- HueAdjustmentRed: 0
- HueAdjustmentYellow: 0
- LuminanceAdjustmentAqua: 0
- LuminanceAdjustmentBlue: 0
- LuminanceAdjustmentGreen: +59
- LuminanceAdjustmentMagenta: 0
- LuminanceAdjustmentOrange: +20
- LuminanceAdjustmentPurple: 0
- LuminanceAdjustmentRed: 0
- LuminanceAdjustmentYellow: +5
- LuminanceSmoothing: 0
- ParametricDarks: +5
- ParametricHighlightSplit: 75
- ParametricHighlights: 0
- ParametricLights: 0
- ParametricMidtoneSplit: 50
- ParametricShadowSplit: 25
- ParametricShadows: +5
- PostCropVignetteAmount: 0
- RawFileName: IMGP3341.DNG
- RedHue: 0
- RedSaturation: 0
- Saturation: 0
- SaturationAdjustmentAqua: 0
- SaturationAdjustmentBlue: 0
- SaturationAdjustmentGreen: +13
- SaturationAdjustmentMagenta: 0
- SaturationAdjustmentOrange: +3
- SaturationAdjustmentPurple: 0
- SaturationAdjustmentRed: 0
- SaturationAdjustmentYellow: 0
- ShadowTint: 0
- Shadows: 12
- SharpenDetail: 60
- SharpenEdgeMasking: 0
- SharpenRadius: +0.8
- Sharpness: 60
- SplitToningBalance: 0
- SplitToningHighlightHue: 110
- SplitToningHighlightSaturation: 8
- SplitToningShadowHue: 0
- SplitToningShadowSaturation: 0
- Temperature: 4350
- Tint: -9
- ToneCurve: 0, 0, 32, 22, 64, 56, 128, 128, 192, 196, 255, 255
- ToneCurveName: Medium Contrast
- Version: 5.0
- Vibrance: +2
- VignetteAmount: -99
- VignetteMidpoint: 0
- WhiteBalance: Custom
- XMP-exif
- DateTimeDigitized: 2009:04:20 13:28:49+03:00
- DateTimeOriginal: 2009:04:20 13:28:49+03:00
- ExifImageHeight: 2592
- ExifImageWidth: 3872
- FlashFired: False
- FlashFunction: False
- FlashMode: Off
- FlashRedEyeMode: False
- FlashReturn: No return detection
- XMP-tiff
- ImageHeight: 2592
- ImageWidth: 3872
- XMP-xmp
- CreateDate: 2009:04:20 13:28:49+03:00
- CreatorTool: K200D Ver 1.00
- ModifyDate: 2009:05:24 19:58:24+03:00
- Просмотров: 439
- Рейтинг: голосов еще нет
- Отзывов: 0