» Участники » JLNt » Альбом #9 » IMGP3342478.jpg |
IMGP3342478.jpg |
IMGP3342478.jpg
- Раздел: Другое, разное
- Дата съёмки: 20.04.2009 13:29
- Дата загрузки фото: 13.08.2010 00:46
- Оригинальная фотография: 2592 x 3872 (3,8 Мб)
- Технические характеристики:
- Фотоаппарат: Pentax K200D
- Выдержка: 1/90
- Гиперфокальное расстояние: inf m
- Диафрагма: 8,0
- Светочувствительность: 400
- Фокусное расстояние: 40,0 mm (35 mm equivalent: 40,0 mm)
- Полный EXIF
- Adobe
- ColorTransform: Unknown (RGB or CMYK)
- Composite
- Aperture: 8,0
- CircleOfConfusion: 0,020 mm
- FOV: 48,0 deg
- FocalLength35efl: 40,0 mm (35 mm equivalent: 40,0 mm)
- HyperfocalDistance: inf m
- ScaleFactor35efl: 1,5
- ShutterSpeed: 1/90
- ExifIFD
- ApertureValue: 8,0
- Contrast: Normal
- CreateDate: 2009:04:20 13:29:10
- CustomRendered: Normal
- DateTimeOriginal: 2009:04:20 13:29:10
- ExposureCompensation: 0
- ExposureMode: Auto
- ExposureProgram: Aperture-priority AE
- ExposureTime: 1/90
- FNumber: 8,0
- Flash: Off, Did not fire
- FocalLength: 40,0 mm
- FocalLengthIn35mmFormat: 60 mm
- ISO: 400
- MeteringMode: Center-weighted average
- Saturation: Normal
- SceneCaptureType: Standard
- SensingMethod: One-chip color area
- Sharpness: Normal
- ShutterSpeedValue: 1/90
- SubjectDistanceRange: Close
- WhiteBalance: Auto
- ICC-header
- IFD0
- Make: PENTAX
- Model: PENTAX K200D
- ModifyDate: 2009:05:24 20:07:17
- Software: K200D Ver 1.00
- System
- XMP-aux
- Lens: smc PENTAX-DA 18-55mm F3.5-5.6 AL
- LensID: 4 252
- LensInfo: 180/10 550/10 35/10 56/10
- XMP-crs
- AlreadyApplied: True
- BlueHue: 0
- BlueSaturation: 0
- Brightness: +50
- CameraProfile: ACR 4.4
- ChromaticAberrationB: 0
- ChromaticAberrationR: 0
- Clarity: 0
- ColorNoiseReduction: 0
- Contrast: +89
- ConvertToGrayscale: True
- Defringe: 0
- Exposure: +0.50
- FillLight: 32
- GrayMixerAqua: -18
- GrayMixerBlue: +8
- GrayMixerGreen: -26
- GrayMixerMagenta: +4
- GrayMixerOrange: +19
- GrayMixerPurple: +14
- GrayMixerRed: -9
- GrayMixerYellow: -22
- GreenHue: 0
- GreenSaturation: 0
- HasCrop: False
- HasSettings: True
- HighlightRecovery: 0
- LuminanceSmoothing: 0
- ParametricDarks: +5
- ParametricHighlightSplit: 75
- ParametricHighlights: 0
- ParametricLights: 0
- ParametricMidtoneSplit: 50
- ParametricShadowSplit: 25
- ParametricShadows: +5
- PostCropVignetteAmount: 0
- RawFileName: IMGP3342.DNG
- RedHue: 0
- RedSaturation: 0
- ShadowTint: 0
- Shadows: 18
- SharpenDetail: 50
- SharpenEdgeMasking: 0
- SharpenRadius: +0.8
- Sharpness: 50
- SplitToningBalance: 0
- SplitToningHighlightHue: 0
- SplitToningHighlightSaturation: 0
- SplitToningShadowHue: 0
- SplitToningShadowSaturation: 0
- Temperature: 4450
- Tint: -5
- ToneCurve: 0, 0, 32, 22, 64, 56, 128, 128, 192, 196, 255, 255
- ToneCurveName: Medium Contrast
- Version: 5.0
- VignetteAmount: -99
- VignetteMidpoint: 13
- WhiteBalance: As Shot
- XMP-exif
- DateTimeDigitized: 2009:04:20 13:29:10+03:00
- DateTimeOriginal: 2009:04:20 13:29:10+03:00
- ExifImageHeight: 3872
- ExifImageWidth: 2592
- FlashFired: False
- FlashFunction: False
- FlashMode: Off
- FlashRedEyeMode: False
- FlashReturn: No return detection
- XMP-tiff
- ImageHeight: 3872
- ImageWidth: 2592
- XMP-xmp
- CreateDate: 2009:04:20 13:29:10+03:00
- CreatorTool: K200D Ver 1.00
- ModifyDate: 2009:05:24 20:07:17+03:00
Получить код для блога
Вставка фотографии в текущем разрешении |
Вставка миниатюры |
HTML (для вставки в блог):
BBCode (для вставки в форум):
Ссылка на фото:
Ссылка на миниатюру:
- Послать ссылку другу
Комментарии к фотографии |