- Раздел: Другое, разное
- Дата съёмки: 11.09.2010 13:31
- Дата загрузки фото: 11.09.2010 23:10
- Оригинальная фотография: 630 x 420 (188 Кб)
- Технические характеристики:
- Фотоаппарат: Canon EOS 50D
- Выдержка: 1/1000
- Гиперфокальное расстояние: inf m
- Диафрагма: 2,8
- Светочувствительность: 200
- Фокусное расстояние: 40,0 mm (35 mm equivalent: 440,0 mm)
- Полный EXIF
- Adobe
- ColorTransform: YCbCr
- Composite
- Aperture: 2,8
- CircleOfConfusion: 0,003 mm
- FOV: 4,0 deg
- FocalLength35efl: 40,0 mm (35 mm equivalent: 440,0 mm)
- HyperfocalDistance: inf m
- ScaleFactor35efl: 12,0
- ShutterSpeed: 1/1000
- ExifIFD
- ApertureValue: 2,8
- ColorSpace: sRGB
- CreateDate: 2010:09:11 13:31:50
- CustomRendered: Normal
- DateTimeOriginal: 2010:09:11 13:31:50
- ExifImageHeight: 420
- ExifImageWidth: 630
- ExposureCompensation: 0
- ExposureMode: Auto
- ExposureProgram: Aperture-priority AE
- ExposureTime: 1/1000
- FNumber: 2,8
- Flash: Off, Did not fire
- FocalLength: 40,0 mm
- ISO: 200
- MaxApertureValue: 2,8
- MeteringMode: Multi-segment
- SceneCaptureType: Standard
- ShutterSpeedValue: 1/1000
- WhiteBalance: Auto
- ICC-header
- ICC-meas
- ICC-view
- IFD0
- Artist: http://hiv-iv.livejournal.com
- BitsPerSample: 8 8 8
- Copyright: Ivan (HiV) Tsyrkunovich
- ImageHeight: 3168
- ImageWidth: 4752
- Make: Canon
- Model: Canon EOS 50D
- ModifyDate: 2010:09:11 21:56:27
- Orientation: Horizontal (normal)
- PhotometricInterpretation: RGB
- SamplesPerPixel: 3
- IFD1
- IPTC
- By-line: http://hiv-iv.livejournal.com
- CopyrightNotice: Ivan (HiV) Tsyrkunovich
- DateCreated: 2010:09:11
- System
- XMP-aux
- Firmware: 1.0.7
- FlashCompensation: 0
- ImageNumber: 0
- Lens: 17-50mm
- LensID: 161
- LensInfo: 17/1 50/1 0/0 0/0
- OwnerName: Ivan Tsyrkunovich
- SerialNumber: 2260713305
- XMP-crs
- AlreadyApplied: True
- BlueHue: 0
- BlueSaturation: 0
- Brightness: +50
- ChromaticAberrationB: 0
- ChromaticAberrationR: 0
- Clarity: +19
- ColorNoiseReduction: 16
- ColorNoiseReductionDetail: 50
- Contrast: +25
- ConvertToGrayscale: False
- Defringe: 0
- Exposure: 0.00
- FillLight: 24
- GrainAmount: 0
- GreenHue: 0
- GreenSaturation: 0
- HasCrop: False
- HasSettings: True
- HighlightRecovery: 32
- HueAdjustmentAqua: 0
- HueAdjustmentBlue: 0
- HueAdjustmentGreen: 0
- HueAdjustmentMagenta: 0
- HueAdjustmentOrange: 0
- HueAdjustmentPurple: 0
- HueAdjustmentRed: 0
- HueAdjustmentYellow: 0
- LensManualDistortionAmount: 0
- LensProfileEnable: 0
- LensProfileSetup: LensDefaults
- LuminanceAdjustmentAqua: 0
- LuminanceAdjustmentBlue: -15
- LuminanceAdjustmentGreen: -6
- LuminanceAdjustmentMagenta: 0
- LuminanceAdjustmentOrange: 0
- LuminanceAdjustmentPurple: 0
- LuminanceAdjustmentRed: 0
- LuminanceAdjustmentYellow: 0
- LuminanceNoiseReductionContrast: 0
- LuminanceNoiseReductionDetail: 50
- LuminanceSmoothing: 23
- ParametricDarks: -9
- ParametricHighlightSplit: 75
- ParametricHighlights: 0
- ParametricLights: +3
- ParametricMidtoneSplit: 50
- ParametricShadowSplit: 25
- ParametricShadows: 0
- PerspectiveHorizontal: 0
- PerspectiveRotate: 0.0
- PerspectiveScale: 100
- PerspectiveVertical: 0
- PostCropVignetteAmount: 0
- ProcessVersion: 5.7
- RedHue: 0
- RedSaturation: 0
- Saturation: +5
- SaturationAdjustmentAqua: 0
- SaturationAdjustmentBlue: +8
- SaturationAdjustmentGreen: +18
- SaturationAdjustmentMagenta: 0
- SaturationAdjustmentOrange: 0
- SaturationAdjustmentPurple: 0
- SaturationAdjustmentRed: 0
- SaturationAdjustmentYellow: +10
- ShadowTint: 0
- Shadows: 5
- SharpenDetail: 23
- SharpenEdgeMasking: 21
- SharpenRadius: +0.7
- Sharpness: 69
- SplitToningBalance: -12
- SplitToningHighlightHue: 48
- SplitToningHighlightSaturation: 24
- SplitToningShadowHue: 0
- SplitToningShadowSaturation: 0
- Temperature: 4900
- Tint: +27
- ToneCurve: 0, 0, 32, 22, 64, 56, 128, 128, 192, 196, 255, 255
- ToneCurveName: Medium Contrast
- Version: 6.2
- Vibrance: +20
- VignetteAmount: -31
- VignetteMidpoint: 30
- WhiteBalance: As Shot
- XMP-dc
- Creator: http://hiv-iv.livejournal.com
- Format: image/jpeg
- Rights: Ivan (HiV) Tsyrkunovich
- XMP-xmp
- CreateDate: 2010:09:11 13:31:50.47+03:00
- ModifyDate: 2010:09:11 21:56:27+03:00
- XMP-xmpMM
- Просмотров: 258
- Рейтинг: голосов еще нет
- Отзывов: отключены