- Раздел: Природа
- Дата съёмки: 22.08.2010 11:04
- Дата загрузки фото: 12.09.2010 21:54
- Оригинальная фотография: 3888 x 2592 (5,8 Мб)
- Технические характеристики:
- Фотоаппарат: Canon EOS 400D DIGITAL
- Выдержка: 1/125
- Гиперфокальное расстояние: inf m
- Диафрагма: 2,8
- Светочувствительность: 200
- Фокусное расстояние: 50,0 mm (35 mm equivalent: 50,0 mm)
- Экспокоррекция: +1/3
- Полный EXIF
- Adobe
- ColorTransform: YCbCr
- Composite
- Aperture: 2,8
- CircleOfConfusion: 0,019 mm
- FOV: 39,0 deg
- FocalLength35efl: 50,0 mm (35 mm equivalent: 50,0 mm)
- HyperfocalDistance: inf m
- ScaleFactor35efl: 1,6
- ShutterSpeed: 1/125
- ExifIFD
- ApertureValue: 2,8
- CreateDate: 2010:08:22 11:04:47
- CustomRendered: Normal
- DateTimeOriginal: 2010:08:22 11:04:47
- ExposureCompensation: +1/3
- ExposureMode: Auto
- ExposureProgram: Aperture-priority AE
- ExposureTime: 1/125
- FNumber: 2,8
- Flash: Off, Did not fire
- FocalLength: 50,0 mm
- ISO: 200
- MaxApertureValue: 1,8
- MeteringMode: Average
- SceneCaptureType: Standard
- ShutterSpeedValue: 1/125
- WhiteBalance: Auto
- ICC-header
- IFD0
- Artist: unknown
- Make: Canon
- Model: Canon EOS 400D DIGITAL
- ModifyDate: 2010:08:25 12:30:36
- TimeZoneOffset: 3 3
- IPTC
- By-line: unknown
- System
- XMP-aux
- Firmware: 1.1.1
- FlashCompensation: 0,333333333333333
- ImageNumber: 16
- Lens: EF50mm f/1.8
- LensInfo: 50/1 50/1 0/0 0/0
- OwnerName: unknown
- SerialNumber: 1681155906
- XMP-crs
- AlreadyApplied: True
- BlueHue: 0
- BlueSaturation: 0
- Brightness: +70
- CameraProfile: ACR 3.6
- ChromaticAberrationB: 0
- ChromaticAberrationR: 0
- ColorNoiseReduction: 25
- Contrast: +39
- ConvertToGrayscale: False
- Exposure: +0.25
- FillLight: 0
- GreenHue: 0
- GreenSaturation: 0
- HasCrop: False
- HasSettings: True
- HighlightRecovery: 13
- HueAdjustmentAqua: 0
- HueAdjustmentBlue: 0
- HueAdjustmentGreen: 0
- HueAdjustmentMagenta: 0
- HueAdjustmentOrange: 0
- HueAdjustmentPurple: 0
- HueAdjustmentRed: 0
- HueAdjustmentYellow: 0
- LuminanceAdjustmentAqua: 0
- LuminanceAdjustmentBlue: 0
- LuminanceAdjustmentGreen: 0
- LuminanceAdjustmentMagenta: 0
- LuminanceAdjustmentOrange: 0
- LuminanceAdjustmentPurple: 0
- LuminanceAdjustmentRed: 0
- LuminanceAdjustmentYellow: 0
- LuminanceSmoothing: 0
- ParametricDarks: +8
- ParametricHighlightSplit: 75
- ParametricHighlights: -32
- ParametricLights: -15
- ParametricMidtoneSplit: 50
- ParametricShadowSplit: 25
- ParametricShadows: +20
- RawFileName: _MG_9121.CR2
- RedHue: 0
- RedSaturation: 0
- Saturation: +14
- SaturationAdjustmentAqua: +73
- SaturationAdjustmentBlue: +84
- SaturationAdjustmentGreen: +78
- SaturationAdjustmentMagenta: +82
- SaturationAdjustmentOrange: +26
- SaturationAdjustmentPurple: +86
- SaturationAdjustmentRed: +20
- SaturationAdjustmentYellow: +86
- ShadowTint: 0
- Shadows: 50
- Sharpness: 25
- SplitToningBalance: 0
- SplitToningHighlightHue: 0
- SplitToningHighlightSaturation: 0
- SplitToningShadowHue: 0
- SplitToningShadowSaturation: 0
- Temperature: 7650
- Tint: +26
- ToneCurve: 0, 0, 32, 22, 64, 56, 128, 128, 192, 196, 255, 255
- ToneCurveName: Medium Contrast
- Version: 4.0
- Vibrance: +8
- VignetteAmount: 0
- WhiteBalance: Custom
- XMP-dc
- XMP-exif
- DateTimeDigitized: 2010:08:22 11:04:47+03:00
- DateTimeOriginal: 2010:08:22 11:04:47+03:00
- FlashFired: False
- FlashFunction: False
- FlashMode: Off
- FlashRedEyeMode: False
- FlashReturn: No return detection
- XMP-tiff
- ImageHeight: 2592
- ImageWidth: 3888
- XMP-x
- XMP-xmp
- ModifyDate: 2010:08:25 12:30:36+03:00
- Просмотров: 297
- Рейтинг: голосов еще нет
- Отзывов: 0