- Раздел: Другое, разное
- Дата съёмки: 11.09.2010 15:14
- Дата загрузки фото: 13.09.2010 01:13
- Оригинальная фотография: 630 x 420 (198 Кб)
- Технические характеристики:
- Фотоаппарат: Canon EOS 50D
- Выдержка: 1/400
- Гиперфокальное расстояние: inf m
- Диафрагма: 8,0
- Светочувствительность: 200
- Фокусное расстояние: 17,0 mm (35 mm equivalent: 187,0 mm)
- Полный EXIF
- Adobe
- ColorTransform: YCbCr
- Composite
- Aperture: 8,0
- CircleOfConfusion: 0,003 mm
- FOV: 10,0 deg
- FocalLength35efl: 17,0 mm (35 mm equivalent: 187,0 mm)
- HyperfocalDistance: inf m
- ScaleFactor35efl: 12,0
- ShutterSpeed: 1/400
- ExifIFD
- ApertureValue: 8,0
- ColorSpace: sRGB
- CreateDate: 2010:09:11 15:14:50
- CustomRendered: Normal
- DateTimeOriginal: 2010:09:11 15:14:50
- ExifImageHeight: 420
- ExifImageWidth: 630
- ExposureCompensation: 0
- ExposureMode: Auto
- ExposureProgram: Aperture-priority AE
- ExposureTime: 1/400
- FNumber: 8,0
- Flash: Off, Did not fire
- FocalLength: 17,0 mm
- ISO: 200
- MaxApertureValue: 2,8
- MeteringMode: Multi-segment
- SceneCaptureType: Standard
- ShutterSpeedValue: 1/400
- WhiteBalance: Auto
- ICC-header
- ICC-meas
- ICC-view
- IFD0
- Artist: http://hiv-iv.livejournal.com
- BitsPerSample: 8 8 8
- Copyright: Ivan (HiV) Tsyrkunovich
- ImageHeight: 3104
- ImageWidth: 4656
- Make: Canon
- Model: Canon EOS 50D
- ModifyDate: 2010:09:12 02:40:41
- Orientation: Horizontal (normal)
- PhotometricInterpretation: RGB
- SamplesPerPixel: 3
- IFD1
- IPTC
- By-line: http://hiv-iv.livejournal.com
- CopyrightNotice: Ivan (HiV) Tsyrkunovich
- DateCreated: 2010:09:11
- System
- XMP-aux
- Firmware: 1.0.7
- FlashCompensation: 0
- ImageNumber: 0
- Lens: 17-50mm
- LensID: 161
- LensInfo: 17/1 50/1 0/0 0/0
- OwnerName: Ivan Tsyrkunovich
- SerialNumber: 2260713305
- XMP-crs
- AlreadyApplied: True
- BlueHue: 0
- BlueSaturation: 0
- Brightness: +9
- ChromaticAberrationB: +21
- ChromaticAberrationR: -21
- Clarity: +19
- ColorNoiseReduction: 45
- ColorNoiseReductionDetail: 50
- Contrast: +14
- ConvertToGrayscale: False
- CropAngle: -0.783947
- CropBottom: 0.979888
- CropConstrainToWarp: 0
- CropHeight: 3104
- CropLeft: 0.005587
- CropRight: 0.994413
- CropTop: 0.020112
- CropUnit: pixels
- CropWidth: 4656
- Defringe: 0
- Exposure: +0.67
- FillLight: 48
- GrainAmount: 0
- GreenHue: 0
- GreenSaturation: 0
- HasCrop: True
- HasSettings: True
- HighlightRecovery: 6
- HueAdjustmentAqua: 0
- HueAdjustmentBlue: 0
- HueAdjustmentGreen: 0
- HueAdjustmentMagenta: 0
- HueAdjustmentOrange: 0
- HueAdjustmentPurple: 0
- HueAdjustmentRed: 0
- HueAdjustmentYellow: 0
- LensManualDistortionAmount: 0
- LensProfileEnable: 0
- LensProfileSetup: LensDefaults
- LuminanceAdjustmentAqua: 0
- LuminanceAdjustmentBlue: -90
- LuminanceAdjustmentGreen: -6
- LuminanceAdjustmentMagenta: 0
- LuminanceAdjustmentOrange: 0
- LuminanceAdjustmentPurple: 0
- LuminanceAdjustmentRed: 0
- LuminanceAdjustmentYellow: 0
- LuminanceNoiseReductionContrast: 0
- LuminanceNoiseReductionDetail: 50
- LuminanceSmoothing: 21
- PaintCorrectionActive: true
- PaintCorrectionAmount: 1.000000
- PaintCorrectionBrightness: 0.000000
- PaintCorrectionClarity: 0.000000
- PaintCorrectionContrast: 0.000000
- PaintCorrectionExposure: -0.275000
- PaintCorrectionHue: 240.000000
- PaintCorrectionMaskCenterWeight: 0.000000
- PaintCorrectionMaskFlow: 0.457000
- PaintCorrectionMaskRadius: 0.118035
- PaintCorrectionMaskValue: 1.000000
- PaintCorrectionMaskWhat: Mask/Paint
- PaintCorrectionSaturation: 0.000000
- PaintCorrectionSharpness: 0.000000
- PaintCorrectionWhat: Correction
- ParametricDarks: -9
- ParametricHighlightSplit: 75
- ParametricHighlights: +19
- ParametricLights: +3
- ParametricMidtoneSplit: 50
- ParametricShadowSplit: 25
- ParametricShadows: 0
- PerspectiveHorizontal: 0
- PerspectiveRotate: 0.0
- PerspectiveScale: 100
- PerspectiveVertical: 0
- PostCropVignetteAmount: 0
- ProcessVersion: 5.7
- RedHue: 0
- RedSaturation: 0
- Saturation: +33
- SaturationAdjustmentAqua: 0
- SaturationAdjustmentBlue: +8
- SaturationAdjustmentGreen: +18
- SaturationAdjustmentMagenta: 0
- SaturationAdjustmentOrange: 0
- SaturationAdjustmentPurple: 0
- SaturationAdjustmentRed: 0
- SaturationAdjustmentYellow: +10
- ShadowTint: 0
- Shadows: 5
- SharpenDetail: 23
- SharpenEdgeMasking: 24
- SharpenRadius: +0.7
- Sharpness: 64
- SplitToningBalance: -12
- SplitToningHighlightHue: 48
- SplitToningHighlightSaturation: 20
- SplitToningShadowHue: 0
- SplitToningShadowSaturation: 0
- Temperature: 5555
- Tint: +22
- ToneCurve: 0, 0, 32, 22, 64, 56, 128, 128, 192, 196, 255, 255
- ToneCurveName: Medium Contrast
- Version: 6.2
- Vibrance: +40
- VignetteAmount: +12
- VignetteMidpoint: 30
- WhiteBalance: Custom
- XMP-dc
- Creator: http://hiv-iv.livejournal.com
- Format: image/jpeg
- Rights: Ivan (HiV) Tsyrkunovich
- XMP-xmp
- CreateDate: 2010:09:11 15:14:50.12+03:00
- ModifyDate: 2010:09:12 02:40:41+03:00
- XMP-xmpMM
- Просмотров: 261
- Рейтинг: голосов еще нет
- Отзывов: отключены