- Раздел: Отдых, развлечения
- Дата съёмки: 04.09.2010 18:16
- Дата загрузки фото: 17.09.2010 13:00
- Оригинальная фотография: 4379 x 2914 (7,9 Мб)
- Технические характеристики:
- Фотоаппарат: Sony DSLR-A550
- Выдержка: 1/500
- Гиперфокальное расстояние: inf m
- Диафрагма: 10,0
- Светочувствительность: 200
- Фокусное расстояние: 16,0 mm (35 mm equivalent: 16,0 mm)
- Полный EXIF
- Adobe
- ColorTransform: YCbCr
- Composite
- Aperture: 10,0
- CircleOfConfusion: 0,020 mm
- FOV: 96,0 deg
- FocalLength35efl: 16,0 mm (35 mm equivalent: 16,0 mm)
- HyperfocalDistance: inf m
- ScaleFactor35efl: 1,5
- ShutterSpeed: 1/500
- ExifIFD
- ApertureValue: 10,0
- BrightnessValue: 9,5
- Contrast: Normal
- CreateDate: 2010:09:04 18:16:35
- CustomRendered: Normal
- DateTimeOriginal: 2010:09:04 18:16:35
- ExposureCompensation: 0
- ExposureMode: Auto
- ExposureProgram: Program AE
- ExposureTime: 1/500
- FNumber: 10,0
- Flash: Auto, Did not fire
- FocalLength: 16,0 mm
- FocalLengthIn35mmFormat: 24 mm
- ISO: 200
- LightSource: Unknown
- MaxApertureValue: 3,5
- MeteringMode: Multi-segment
- Saturation: Normal
- SceneCaptureType: Standard
- SceneType: Directly photographed
- Sharpness: Normal
- ShutterSpeedValue: 1/500
- WhiteBalance: Auto
- ICC-header
- ICC-meas
- ICC-view
- IFD0
- ImageDescription: SONY DSC
- Make: SONY
- Model: DSLR-A550
- ModifyDate: 2010:09:17 04:46:09
- Software: DSLR-A550 v1.00
- IFD1
- IPTC
- Caption-Abstract: SONY DSC
- System
- XMP-aux
- Lens: DT 16-80mm F3.5-4.5 ZA
- LensID: 46
- LensInfo: 16/1 80/1 35/10 45/10
- XMP-crs
- AlreadyApplied: True
- BlueHue: 0
- BlueSaturation: 0
- Brightness: +49
- ChromaticAberrationB: +64
- ChromaticAberrationR: 0
- Clarity: +64
- ColorNoiseReduction: 25
- Contrast: +73
- ConvertToGrayscale: False
- CropAngle: 0
- CropBottom: 0.977612
- CropHeight: 2914
- CropLeft: 0.028146
- CropRight: 0.981788
- CropTop: 0.02397
- CropUnit: pixels
- CropWidth: 4379
- Defringe: 0
- Exposure: +0.44
- FillLight: 0
- GreenHue: 0
- GreenSaturation: 0
- HasCrop: True
- HasSettings: True
- HighlightRecovery: 0
- HueAdjustmentAqua: 0
- HueAdjustmentBlue: +21
- HueAdjustmentGreen: 0
- HueAdjustmentMagenta: 0
- HueAdjustmentOrange: -79
- HueAdjustmentPurple: 0
- HueAdjustmentRed: +15
- HueAdjustmentYellow: 0
- LuminanceAdjustmentAqua: -38
- LuminanceAdjustmentBlue: -100
- LuminanceAdjustmentGreen: +18
- LuminanceAdjustmentMagenta: 0
- LuminanceAdjustmentOrange: +41
- LuminanceAdjustmentPurple: -100
- LuminanceAdjustmentRed: +44
- LuminanceAdjustmentYellow: -15
- LuminanceSmoothing: 100
- ParametricDarks: 0
- ParametricHighlightSplit: 75
- ParametricHighlights: 0
- ParametricLights: 0
- ParametricMidtoneSplit: 50
- ParametricShadowSplit: 25
- ParametricShadows: 0
- PostCropVignetteAmount: -69
- PostCropVignetteFeather: 100
- PostCropVignetteMidpoint: 76
- PostCropVignetteRoundness: +38
- RedHue: 0
- RedSaturation: 0
- Saturation: -14
- SaturationAdjustmentAqua: +94
- SaturationAdjustmentBlue: -44
- SaturationAdjustmentGreen: +6
- SaturationAdjustmentMagenta: 0
- SaturationAdjustmentOrange: -44
- SaturationAdjustmentPurple: +100
- SaturationAdjustmentRed: +79
- SaturationAdjustmentYellow: +6
- ShadowTint: 0
- Shadows: 0
- SharpenDetail: 100
- SharpenEdgeMasking: 11
- SharpenRadius: +3.0
- Sharpness: 80
- SplitToningBalance: 0
- SplitToningHighlightHue: 0
- SplitToningHighlightSaturation: 0
- SplitToningShadowHue: 0
- SplitToningShadowSaturation: 0
- Temperature: 5500
- Tint: +3
- ToneCurve: 0, 0, 32, 22, 64, 56, 128, 128, 192, 196, 255, 255
- ToneCurveName: Medium Contrast
- Version: 5.7
- Vibrance: +39
- VignetteAmount: -100
- VignetteMidpoint: 71
- WhiteBalance: Custom
- XMP-dc
- XMP-exif
- DateTimeDigitized: 2010:09:04 18:16:35+04:00
- DateTimeOriginal: 2010:09:04 18:16:35+04:00
- ExifImageHeight: 2914
- ExifImageWidth: 4379
- FlashFired: False
- FlashFunction: False
- FlashMode: Auto
- FlashRedEyeMode: False
- FlashReturn: No return detection
- XMP-tiff
- ImageHeight: 2914
- ImageWidth: 4379
- XMP-xmp
- CreateDate: 2010:09:04 18:16:35+04:00
- ModifyDate: 2010:09:17 04:46:09+04:00