Vilnia-76.jpg |
Vilnia-76.jpg
- Раздел: Путешествия
- Дата съёмки: 10.07.2009 21:14
- Дата загрузки фото: 22.09.2010 15:43
- Оригинальная фотография: 1600 x 1071 (474 Кб)
- Технические характеристики:
- Фотоаппарат: Pentax K200D
- Выдержка: 1/20
- Гиперфокальное расстояние: inf m
- Диафрагма: 2,0
- Светочувствительность: 200
- Фокусное расстояние: 50,0 mm (35 mm equivalent: 50,0 mm)
- Полный EXIF
- Adobe
- ColorTransform: YCbCr
- Composite
- Aperture: 2,0
- CircleOfConfusion: 0,020 mm
- FOV: 39,0 deg
- FocalLength35efl: 50,0 mm (35 mm equivalent: 50,0 mm)
- HyperfocalDistance: inf m
- ScaleFactor35efl: 1,5
- ShutterSpeed: 1/20
- ExifIFD
- ApertureValue: 2,0
- Contrast: Normal
- CreateDate: 2009:07:10 21:14:54
- CustomRendered: Normal
- DateTimeOriginal: 2009:07:10 21:14:54
- ExposureCompensation: 0
- ExposureMode: Manual
- ExposureProgram: Manual
- ExposureTime: 1/20
- FNumber: 2,0
- Flash: Off, Did not fire
- FocalLength: 50,0 mm
- FocalLengthIn35mmFormat: 75 mm
- ISO: 200
- MeteringMode: Multi-segment
- Saturation: Normal
- SceneCaptureType: Standard
- SensingMethod: One-chip color area
- Sharpness: Soft
- ShutterSpeedValue: 1/20
- SubjectDistanceRange: Distant
- WhiteBalance: Auto
- ICC-header
- ICC-meas
- ICC-view
- IFD0
- Artist: Balashevich Viachaslau
- Copyright: Copyrighted
- Make: PENTAX Corporation
- Model: PENTAX K200D
- ModifyDate: 2010:09:22 14:19:13
- Software: K200D Ver 1.00
- IFD1
- IPTC
- By-line: Balashevich Viachaslau
- CopyrightNotice: Copyrighted
- System
- XMP-aux
- Lens: smc PENTAX-F 50mm F1.7
- LensID: 3 33
- LensInfo: 50mm f/1.7
- XMP-crs
- AlreadyApplied: True
- BlueHue: +15
- BlueSaturation: +5
- Brightness: 0
- CameraProfile: Embedded
- ChromaticAberrationB: 0
- ChromaticAberrationR: 0
- Clarity: +25
- ColorNoiseReduction: 25
- Contrast: 0
- ConvertToGrayscale: False
- CropAngle: 1.49197
- CropBottom: 1
- CropHeight: 1071
- CropLeft: 0.027117
- CropRight: 0.972883
- CropTop: 0
- CropUnit: pixels
- CropWidth: 1600
- Defringe: 0
- Exposure: +1.15
- FillLight: 0
- GradientBasedCorrActive: true
- GradientBasedCorrAmount: 1.000000
- GradientBasedCorrBrightness: -0.075000
- GradientBasedCorrClarity: 0.075000
- GradientBasedCorrContrast: 0.800000
- GradientBasedCorrExposure: 0.000000
- GradientBasedCorrHue: 266.000000
- GradientBasedCorrMaskFullX: 0.369909
- GradientBasedCorrMaskFullY: 0.098482
- GradientBasedCorrMaskValue: 1.000000
- GradientBasedCorrMaskWhat: Mask/Gradient
- GradientBasedCorrMaskZeroX: 0.441031
- GradientBasedCorrMaskZeroY: 0.512340
- GradientBasedCorrSaturation: 0.141000
- GradientBasedCorrSharpness: 0.000000
- GradientBasedCorrWhat: Correction
- GreenHue: +10
- GreenSaturation: +15
- HasCrop: True
- HasSettings: True
- HighlightRecovery: 10
- HueAdjustmentAqua: 0
- HueAdjustmentBlue: 0
- HueAdjustmentGreen: +5
- HueAdjustmentMagenta: 0
- HueAdjustmentOrange: 0
- HueAdjustmentPurple: 0
- HueAdjustmentRed: 0
- HueAdjustmentYellow: +5
- LuminanceAdjustmentAqua: -10
- LuminanceAdjustmentBlue: -10
- LuminanceAdjustmentGreen: +5
- LuminanceAdjustmentMagenta: 0
- LuminanceAdjustmentOrange: 0
- LuminanceAdjustmentPurple: 0
- LuminanceAdjustmentRed: 0
- LuminanceAdjustmentYellow: +5
- LuminanceSmoothing: 0
- ParametricDarks: -20
- ParametricHighlightSplit: 75
- ParametricHighlights: +60
- ParametricLights: +10
- ParametricMidtoneSplit: 50
- ParametricShadowSplit: 25
- ParametricShadows: -60
- PostCropVignetteAmount: 0
- RedHue: 0
- RedSaturation: +5
- Saturation: -10
- SaturationAdjustmentAqua: +25
- SaturationAdjustmentBlue: +25
- SaturationAdjustmentGreen: +10
- SaturationAdjustmentMagenta: 0
- SaturationAdjustmentOrange: +13
- SaturationAdjustmentPurple: +23
- SaturationAdjustmentRed: 0
- SaturationAdjustmentYellow: +10
- ShadowTint: +5
- Shadows: 5
- SharpenDetail: 25
- SharpenEdgeMasking: 0
- SharpenRadius: +1.0
- Sharpness: 25
- SplitToningBalance: 0
- SplitToningHighlightHue: 0
- SplitToningHighlightSaturation: 0
- SplitToningShadowHue: 0
- SplitToningShadowSaturation: 0
- Temperature: 8500
- Tint: +105
- ToneCurve: 0, 0, 255, 255
- ToneCurveName: Linear
- Version: 5.4
- Vibrance: +25
- VignetteAmount: 0
- WhiteBalance: As Shot
- XMP-dc
- Creator: Balashevich Viachaslau
- Rights: Copyrighted
- XMP-exif
- DateTimeDigitized: 2009:07:10 21:14:54+03:00
- DateTimeOriginal: 2009:07:10 21:14:54+03:00
- ExifImageHeight: 1071
- ExifImageWidth: 1600
- FlashFired: False
- FlashFunction: False
- FlashMode: Off
- FlashRedEyeMode: False
- FlashReturn: No return detection
- XMP-iptcCore
- CreatorCity: Miensk
- CreatorCountry: Niezaliezhnaja Respublika Mroja
- CreatorWorkEmail: fotomail@tut.by
- XMP-tiff
- ImageHeight: 1071
- ImageWidth: 1600
- XMP-xmp
- CreateDate: 2009:07:10 21:14:54+03:00
- ModifyDate: 2010:09:22 14:19:13+03:00
- Rating: 5
- XMP-xmpRights
- Marked: True
- UsageTerms: for private use only
- Просмотров: 292
- Рейтинг: голосов еще нет
- Отзывов: 0
Получить код для блога
Вставка фотографии в текущем разрешении |
Вставка миниатюры |
HTML (для вставки в блог):
BBCode (для вставки в форум):
Ссылка на фото:
Ссылка на миниатюру:
- Послать ссылку другу
Комментарии к фотографии |