- Раздел: Макро
- Дата съёмки: 05.10.2010 13:28
- Дата загрузки фото: 05.10.2010 20:27
- Оригинальная фотография: 2311 x 2004 (819 Кб)
- Технические характеристики:
- Фотоаппарат: Sony NEX-5
- Выдержка: 1/100
- Гиперфокальное расстояние: inf m
- Диафрагма: 16,0
- Светочувствительность: 200
- Фокусное расстояние: 54,0 mm (35 mm equivalent: 54,0 mm)
- Полный EXIF
- Adobe
- ColorTransform: YCbCr
- Composite
- Aperture: 16,0
- CircleOfConfusion: 0,020 mm
- FOV: 36,0 deg
- FocalLength35efl: 54,0 mm (35 mm equivalent: 54,0 mm)
- HyperfocalDistance: inf m
- ScaleFactor35efl: 1,5
- ShutterSpeed: 1/100
- ExifIFD
- ApertureValue: 16,0
- BrightnessValue: 4,37
- ColorSpace: sRGB
- Contrast: Normal
- CreateDate: 2010:10:05 13:28:30
- CustomRendered: Normal
- DateTimeOriginal: 2010:10:05 13:28:30
- ExifImageHeight: 2004
- ExifImageWidth: 2311
- ExposureCompensation: 0
- ExposureMode: Auto
- ExposureProgram: Aperture-priority AE
- ExposureTime: 1/100
- FNumber: 16,0
- Flash: On, Fired
- FocalLength: 54,0 mm
- FocalLengthIn35mmFormat: 81 mm
- ISO: 200
- LensInfo: 18-55mm f/3.5-5.6
- LensModel: E 18-55mm F3.5-5.6 OSS
- LightSource: Unknown
- MaxApertureValue: 5,6
- MeteringMode: Multi-segment
- RecommendedExposureIndex: 200
- Saturation: Normal
- SceneCaptureType: Standard
- SceneType: Directly photographed
- SensitivityType: Recommended Exposure Index
- Sharpness: Normal
- ShutterSpeedValue: 1/100
- WhiteBalance: Auto
- ICC-header
- ICC-meas
- ICC-view
- IFD0
- ImageDescription: SONY DSC
- Make: SONY
- Model: NEX-5
- ModifyDate: 2010:10:05 16:20:03
- Orientation: Horizontal (normal)
- IFD1
- IPTC
- Caption-Abstract: SONY DSC
- DateCreated: 2010:10:05
- System
- XMP-aux
- Lens: E 18-55mm F3.5-5.6 OSS
- XMP-crs
- AlreadyApplied: True
- BlueHue: 0
- BlueSaturation: 0
- Brightness: +36
- ChromaticAberrationB: 0
- ChromaticAberrationR: 0
- Clarity: 0
- ColorNoiseReduction: 25
- ColorNoiseReductionDetail: 50
- Contrast: +45
- ConvertToGrayscale: False
- CropAngle: 26.087597
- CropBottom: 0.945017
- CropConstrainToWarp: 1
- CropLeft: 0.386146
- CropRight: 0.667208
- CropTop: 0
- Defringe: 2
- Exposure: 0.00
- FillLight: 0
- GrainAmount: 0
- GreenHue: 0
- GreenSaturation: 0
- HasCrop: True
- HasSettings: True
- HighlightRecovery: 45
- HueAdjustmentAqua: 0
- HueAdjustmentBlue: 0
- HueAdjustmentGreen: 0
- HueAdjustmentMagenta: 0
- HueAdjustmentOrange: 0
- HueAdjustmentPurple: 0
- HueAdjustmentRed: 0
- HueAdjustmentYellow: 0
- LensManualDistortionAmount: 0
- LensProfileEnable: 0
- LensProfileSetup: LensDefaults
- LuminanceAdjustmentAqua: 0
- LuminanceAdjustmentBlue: 0
- LuminanceAdjustmentGreen: 0
- LuminanceAdjustmentMagenta: 0
- LuminanceAdjustmentOrange: 0
- LuminanceAdjustmentPurple: 0
- LuminanceAdjustmentRed: 0
- LuminanceAdjustmentYellow: 0
- LuminanceNoiseReductionContrast: 0
- LuminanceNoiseReductionDetail: 50
- LuminanceSmoothing: 20
- ParametricDarks: 0
- ParametricHighlightSplit: 75
- ParametricHighlights: 0
- ParametricLights: 0
- ParametricMidtoneSplit: 50
- ParametricShadowSplit: 25
- ParametricShadows: 0
- PerspectiveHorizontal: 0
- PerspectiveRotate: 0.0
- PerspectiveScale: 100
- PerspectiveVertical: 0
- PostCropVignetteAmount: 0
- ProcessVersion: 5.7
- RawFileName: DSC01877.ARW
- RedHue: 0
- RedSaturation: 0
- Saturation: +10
- SaturationAdjustmentAqua: 0
- SaturationAdjustmentBlue: 0
- SaturationAdjustmentGreen: 0
- SaturationAdjustmentMagenta: 0
- SaturationAdjustmentOrange: 0
- SaturationAdjustmentPurple: 0
- SaturationAdjustmentRed: 0
- SaturationAdjustmentYellow: 0
- ShadowTint: 0
- Shadows: 0
- SharpenDetail: 25
- SharpenEdgeMasking: 0
- SharpenRadius: +1.0
- Sharpness: 25
- SplitToningBalance: 0
- SplitToningHighlightHue: 0
- SplitToningHighlightSaturation: 0
- SplitToningShadowHue: 0
- SplitToningShadowSaturation: 0
- Temperature: 7600
- Tint: +44
- ToneCurve: 0, 0, 32, 22, 64, 56, 128, 128, 192, 196, 255, 255
- ToneCurveName: Medium Contrast
- Version: 6.2
- Vibrance: +20
- VignetteAmount: 0
- WhiteBalance: Custom
- XMP-dc
- Description: SONY DSC
- Format: image/jpeg
- XMP-xmp
- CreateDate: 2010:10:05 13:28:30+04:00
- CreatorTool: NEX-5 Ver.02
- ModifyDate: 2010:10:05 16:20:03Z
- Rating: 0
- XMP-xmpMM